BEGIN:VCALENDAR
VERSION:2.0
PRODID:-//Explore Beaufort SC - ECPv6.15.20//NONSGML v1.0//EN
CALSCALE:GREGORIAN
METHOD:PUBLISH
X-ORIGINAL-URL:https://explorebeaufortsc.com
X-WR-CALDESC:Events for Explore Beaufort SC
REFRESH-INTERVAL;VALUE=DURATION:PT1H
X-Robots-Tag:noindex
X-PUBLISHED-TTL:PT1H
BEGIN:VTIMEZONE
TZID:America/New_York
BEGIN:DAYLIGHT
TZOFFSETFROM:-0500
TZOFFSETTO:-0400
TZNAME:EDT
DTSTART:20240310T070000
END:DAYLIGHT
BEGIN:STANDARD
TZOFFSETFROM:-0400
TZOFFSETTO:-0500
TZNAME:EST
DTSTART:20241103T060000
END:STANDARD
BEGIN:DAYLIGHT
TZOFFSETFROM:-0500
TZOFFSETTO:-0400
TZNAME:EDT
DTSTART:20250309T070000
END:DAYLIGHT
BEGIN:STANDARD
TZOFFSETFROM:-0400
TZOFFSETTO:-0500
TZNAME:EST
DTSTART:20251102T060000
END:STANDARD
BEGIN:DAYLIGHT
TZOFFSETFROM:-0500
TZOFFSETTO:-0400
TZNAME:EDT
DTSTART:20260308T070000
END:DAYLIGHT
BEGIN:STANDARD
TZOFFSETFROM:-0400
TZOFFSETTO:-0500
TZNAME:EST
DTSTART:20261101T060000
END:STANDARD
END:VTIMEZONE
BEGIN:VEVENT
DTSTART;TZID=America/New_York:20250201T090000
DTEND;TZID=America/New_York:20250201T120000
DTSTAMP:20260425T194045
CREATED:20250130T144423Z
LAST-MODIFIED:20250130T144423Z
UID:21762-1738400400-1738411200@explorebeaufortsc.com
SUMMARY:Family Friendly Obstacle Course Event
DESCRIPTION:A fun\, family event like no other. Proceeds go to your local Beaufort YMCA.
URL:https://explorebeaufortsc.com/event/family-friendly-obstacle-course-event/
LOCATION:Beaufort County YMCA\, Beaufort County YMCA
ORGANIZER;CN="Beaufort Fitness":MAILTO:noreply@facebookmail.com
END:VEVENT
BEGIN:VEVENT
DTSTART;TZID=America/New_York:20250201T093000
DTEND;TZID=America/New_York:20250201T120000
DTSTAMP:20260425T194045
CREATED:20250109T010407Z
LAST-MODIFIED:20250130T144423Z
UID:21631-1738402200-1738411200@explorebeaufortsc.com
SUMMARY:Monthly Teddy Bear Picnic Read-Aloud with DAYLO
DESCRIPTION:On the first Saturday of every month\, you can join the student volunteers of DAYLO: Diversity Awareness Youth Literacy Organization for a Teddy Bear Picnic read-aloud at the Port Royal Farmers Market (1615 Ribaut Rd.). In collaboration with the nonprofit Pat Conroy Literary Center\, high school and college student volunteers from the Beaufort-based chapters of DAYLO gather at the gazebo in Naval Heritage Park from 9:30 a.m. to noon to read diverse\, inclusive picture books to children and their families\, inspiring a love of stories\, books\, reading\, and peer-to-peer mentoring.  \nCozy blankets\, a plethora of stuffed animals\, and some snacks help the students make a welcoming environment in this free community literacy program. Several times a year\, National Park Service Ranger Katherine Freeman also joins in for Read with a Ranger\, a literacy and art project thematically connected to the missions of DAYLO\, the Conroy Center\, and the Reconstruction Era National Historic Park.  \nDAYLO is a student-led diversity themed book club and community service group founded at Beaufort High School and now with chapters across South Carolina. Learn more at: https://linktr.ee/DAYLOBFT. \nThe Pat Conroy Literary Center is a nonprofit interpretive and learning center advancing the legacy of beloved\, bestselling writer\, educator\, and mentor Pat Conroy (1945-2016)\, author of The Water Is Wide\, The Great Santini\, The Prince of Tides\, and more. Learn more at: www.patconroyliterarycenter.org.
URL:https://explorebeaufortsc.com/event/monthly-teddy-bear-picnic-read-aloud-with-daylo-4/
LOCATION:Port Royal Farmers Market\, Port Royal Farmers Market
ORGANIZER;CN="Pat Conroy Literary Center":MAILTO:noreply@facebookmail.com
END:VEVENT
BEGIN:VEVENT
DTSTART;TZID=America/New_York:20250201T100000
DTEND;TZID=America/New_York:20250201T130000
DTSTAMP:20260425T194045
CREATED:20250130T144423Z
LAST-MODIFIED:20250130T144423Z
UID:21763-1738404000-1738414800@explorebeaufortsc.com
SUMMARY:Cemetery Walking Tour
DESCRIPTION:Beaufort National Cemetery is the 13th oldest national cemetery in the United States and is the final resting place for over 28\,000 veterans and eligible family members. Would you like to learn about some of the heroes buried here and their stories? Come join our cemetery walking tour. Volunteer docents will take you on a tour through the 161-year old cemetery and learn about our nation’s history through the stories of those who served and defended it. Tours start at the main flagpole. For more information\, contact the cemetery at 843-524-3925.
URL:https://explorebeaufortsc.com/event/cemetery-walking-tour/
LOCATION:1601 Boundary Street\, Beaufort\, SC\, United States\, South Carolina 29902\, 1601 Boundary Street\, Beaufort\, SC\, United States\, South Carolina 29902
ORGANIZER;CN="Beaufort National Cemetery":MAILTO:noreply@facebookmail.com
END:VEVENT
BEGIN:VEVENT
DTSTART;TZID=America/New_York:20250201T120000
DTEND;TZID=America/New_York:20250201T140000
DTSTAMP:20260425T194045
CREATED:20250109T010410Z
LAST-MODIFIED:20250130T144423Z
UID:21632-1738411200-1738418400@explorebeaufortsc.com
SUMMARY:Gullah/Geechee CREATE Showcase 2025
DESCRIPTION:Jayn de Gullah/Geechee Famlee fa a celebration of art and tekin cyare ob de sea!Enjoy an afternoon viewing and judging environmental art! \nJayn de Gullah/Geechee Famlee at the Reconstruction National Historical Park site at Darrah Hall at the Penn Center National Landmark Historic District on historic St. Helena Island\, SC!Come out and celebrate the artistry that evolved due to the Gullah/Geechee CREATE Marine Debris Removal project.Gullah/Geechee and African American artists transformed debris into environmental art which will be unveiled to the public at this event.Everyone in attendance will get to vote on the best artwork while meeting the artists and enjoying the Gullah/Geechee CREATE reception.Bring the entire family out for an afternoon of art\, food and fun hosted by Queen Quet\, Chieftess of the Gullah/Geechee Nation and the Gullah/Geechee Sea Island Coalition! \nwww.GullahGeecheeNation.com
URL:https://explorebeaufortsc.com/event/gullah-geechee-create-showcase-2025/
LOCATION:26-118 Doctor Martin Luther King Junior Drive\,Saint Helena Island\,29920\,US
ORGANIZER;CN="Eventbrite":MAILTO:noreply@facebookmail.com
END:VEVENT
BEGIN:VEVENT
DTSTART;TZID=America/New_York:20250201T120000
DTEND;TZID=America/New_York:20250201T150000
DTSTAMP:20260425T194045
CREATED:20250130T144424Z
LAST-MODIFIED:20250130T144424Z
UID:21766-1738411200-1738422000@explorebeaufortsc.com
SUMMARY:Fundraiser for Eric Greene
DESCRIPTION:Updated to add Eric’s direct cash app for any cash donations you might want to make $cheferic0604 or you can use Facebook pay in messenger which is free and immediately he has access to the money.  \nEric has recently been experiencing some health emergencies. On New Year’s Eve he had a heart attack and needed an emergency procedure. Leading up to this he was already struggling and not able to work much while trying to figure things out. Now he’s unable to work while he rests and recovers. We will be having a fundraiser with raffles\, food\, and more to help ease some burden. If you would like to donate items or etc for the raffle please drop them off at Crybabies or send a message and we will get in touch with you.
URL:https://explorebeaufortsc.com/event/fundraiser-for-eric-greene/
LOCATION:2451 Boundary St\, Beaufort\, SC\, 2451 Boundary St\, Beaufort\, SC
ORGANIZER;CN="Crybabies Beaufort":MAILTO:noreply@facebookmail.com
END:VEVENT
BEGIN:VEVENT
DTSTART;TZID=America/New_York:20250201T140000
DTEND;TZID=America/New_York:20250201T170000
DTSTAMP:20260425T194045
CREATED:20250130T144424Z
LAST-MODIFIED:20250130T144424Z
UID:21768-1738418400-1738429200@explorebeaufortsc.com
SUMMARY:Oyster Jam -- NEW DATE! Same Time!
DESCRIPTION:Get ready to rock out and give back!Join us for Oyster Jam\, a one-of-a-kind music competition benefiting The Beaufort Charities Watch local bands battle it out for the ultimate prize: THE Opening band spot on the main stage at our upcoming event on the 1st night February 28 (21+) or March 1! \nDoes your band want to compete? To register your band’s interest\, Send an email to: taproom@shellringaleworks.com \nThe schedule will fill up quick\, so don’t delay! \nWhen: SATURDAY\, February 1st at 2PMWhere: Shellring Ale WorksCost: FREE! This is a FREE EVENT \nPlus\, a portion of Shellring’s sales will be donated to Beaufort Charities. \nDon’t miss this fun-filled FREE event!
URL:https://explorebeaufortsc.com/event/oyster-jam-new-date-same-time/
LOCATION:Shellring Ale Works\, 1111 11th street\, Port Royal\, SC\, 29935\, US
ORGANIZER;CN="The Beaufort Charities":MAILTO:noreply@facebookmail.com
END:VEVENT
BEGIN:VEVENT
DTSTART;TZID=America/New_York:20250201T163000
DTEND;TZID=America/New_York:20250201T200000
DTSTAMP:20260425T194045
CREATED:20250130T144424Z
LAST-MODIFIED:20250130T144424Z
UID:21770-1738427400-1738440000@explorebeaufortsc.com
SUMMARY:2025 Bluffton Rotary Annual Oyster Roast
DESCRIPTION:Kicking off 2025 with one of the Lowcountry’s favorite community events!
URL:https://explorebeaufortsc.com/event/2025-bluffton-rotary-annual-oyster-roast/
LOCATION:Oyster Factory Park
ORGANIZER;CN="Bluffton Rotary Annual Oyster Roast":MAILTO:noreply@facebookmail.com
END:VEVENT
BEGIN:VEVENT
DTSTART;TZID=America/New_York:20250201T180000
DTEND;TZID=America/New_York:20250201T210000
DTSTAMP:20260425T194045
CREATED:20250109T010424Z
LAST-MODIFIED:20250130T144424Z
UID:21634-1738432800-1738443600@explorebeaufortsc.com
SUMMARY:Low Country Chapter Conservation Banquet
DESCRIPTION:Join us for a fun filled evening which includes raffles\, live and silent auctions. Message us for sponsor a ticket information. The South Carolina Waterfowl Association is a 501(c)(3) nonprofit organization that exists to enhance and perpetuate South Carolina’s wildlife heritage through education and habitat conservation. Donate to SCWA to fund education and habitat programs by clicking below.
URL:https://explorebeaufortsc.com/event/low-country-chapter-conservation-banquet/
LOCATION:Beaufort Academy\, Beaufort Academy
ORGANIZER;CN="South Carolina Waterfowl Association - Low Country Chapter":MAILTO:noreply@facebookmail.com
END:VEVENT
BEGIN:VEVENT
DTSTART;TZID=America/New_York:20250201T183000
DTEND;TZID=America/New_York:20250201T200000
DTSTAMP:20260425T194045
CREATED:20250130T144425Z
LAST-MODIFIED:20250130T144425Z
UID:21772-1738434600-1738440000@explorebeaufortsc.com
SUMMARY:Night out at Serendipity “ Valentines Day Cocktail Party”
DESCRIPTION:Night out at Serendipity “Valentines Day Cocktail Party” \nCome join us for a intimate evening at Serendipity Beaufort for our Valentine’s Day Cocktail Party! Sip on delicious drinks and indulge in some amazing charcuterie while drawing your date. Whether you’re celebrating with a special someone or just looking for a fun night out\, this event is perfect for spreading love and good vibes. Don’t miss out on this opportunity to create unforgettable memories at Serendipity!
URL:https://explorebeaufortsc.com/event/night-out-at-serendipity-valentines-day-cocktail-party/
LOCATION:Serendipity Beaufort\, 707 Bay Street\, Beaufort\, SC\, 29902\, US
ORGANIZER;CN="True Star Event Bartending":MAILTO:noreply@facebookmail.com
END:VEVENT
END:VCALENDAR