BEGIN:VCALENDAR
VERSION:2.0
PRODID:-//Explore Beaufort SC - ECPv6.15.20//NONSGML v1.0//EN
CALSCALE:GREGORIAN
METHOD:PUBLISH
X-ORIGINAL-URL:https://explorebeaufortsc.com
X-WR-CALDESC:Events for Explore Beaufort SC
REFRESH-INTERVAL;VALUE=DURATION:PT1H
X-Robots-Tag:noindex
X-PUBLISHED-TTL:PT1H
BEGIN:VTIMEZONE
TZID:America/New_York
BEGIN:DAYLIGHT
TZOFFSETFROM:-0500
TZOFFSETTO:-0400
TZNAME:EDT
DTSTART:20240310T070000
END:DAYLIGHT
BEGIN:STANDARD
TZOFFSETFROM:-0400
TZOFFSETTO:-0500
TZNAME:EST
DTSTART:20241103T060000
END:STANDARD
BEGIN:DAYLIGHT
TZOFFSETFROM:-0500
TZOFFSETTO:-0400
TZNAME:EDT
DTSTART:20250309T070000
END:DAYLIGHT
BEGIN:STANDARD
TZOFFSETFROM:-0400
TZOFFSETTO:-0500
TZNAME:EST
DTSTART:20251102T060000
END:STANDARD
BEGIN:DAYLIGHT
TZOFFSETFROM:-0500
TZOFFSETTO:-0400
TZNAME:EDT
DTSTART:20260308T070000
END:DAYLIGHT
BEGIN:STANDARD
TZOFFSETFROM:-0400
TZOFFSETTO:-0500
TZNAME:EST
DTSTART:20261101T060000
END:STANDARD
END:VTIMEZONE
BEGIN:VEVENT
DTSTART;TZID=America/New_York:20250202T130000
DTEND;TZID=America/New_York:20250202T170000
DTSTAMP:20260425T194127
CREATED:20250130T144425Z
LAST-MODIFIED:20250130T144425Z
UID:21773-1738501200-1738515600@explorebeaufortsc.com
SUMMARY:Oysters for Autism
DESCRIPTION:Please join us for Oysters for Autism Sunday\, February 2nd – 1pm to 5pmShellring Ale Works -1111 11th StreetPort Royal\, SC  \nLive Music\, Fresh Roasted Local Oysters\, Chili and a great time. All proceeds benefit The Lowcountry Autism Foundation. \nWe look forward to seeing you there!  \n*Note- All beverages and children’s menu will be available for purchase.
URL:https://explorebeaufortsc.com/event/oysters-for-autism/
LOCATION:Shellring Ale Works\, 1111 11th street\, Port Royal\, SC\, 29935\, US
ORGANIZER;CN="Lowcountry Autism Foundation":MAILTO:noreply@facebookmail.com
END:VEVENT
BEGIN:VEVENT
DTSTART;TZID=America/New_York:20250202T140000
DTEND;TZID=America/New_York:20250202T170000
DTSTAMP:20260425T194127
CREATED:20250130T144425Z
LAST-MODIFIED:20250130T144425Z
UID:21775-1738504800-1738515600@explorebeaufortsc.com
SUMMARY:Fire & Flow Fitness Series
DESCRIPTION:Celadon signature Specialty Fitness Program starting in February to keep the New Year momentum going! Join Celadon’s Own Ashton Cradit and Ben Konchar for four weeks of an unique 90 minute training session. Ignite your fire with weighted strength training and expand into stretch and balance with Yoga flow. This signature 4 week program will be intentional in building and maintaining consistency and self care practices. Each Sunday will be like a mini-Retreat! Additional options to Cold Plunge\, steam bathe\, certified health & wellness coaching & 24 hours club access for Non Members. Please check in with your healthcare professional before attempting this new fitness routine.
URL:https://explorebeaufortsc.com/event/fire-flow-fitness-series/
LOCATION:Celadon Club Wellness Center
ORGANIZER;CN="Rooted Renewal Health & Wellness":MAILTO:noreply@facebookmail.com
END:VEVENT
END:VCALENDAR