BEGIN:VCALENDAR
VERSION:2.0
PRODID:-//Explore Beaufort SC - ECPv6.15.20//NONSGML v1.0//EN
CALSCALE:GREGORIAN
METHOD:PUBLISH
X-ORIGINAL-URL:https://explorebeaufortsc.com
X-WR-CALDESC:Events for Explore Beaufort SC
REFRESH-INTERVAL;VALUE=DURATION:PT1H
X-Robots-Tag:noindex
X-PUBLISHED-TTL:PT1H
BEGIN:VTIMEZONE
TZID:America/New_York
BEGIN:DAYLIGHT
TZOFFSETFROM:-0500
TZOFFSETTO:-0400
TZNAME:EDT
DTSTART:20240310T070000
END:DAYLIGHT
BEGIN:STANDARD
TZOFFSETFROM:-0400
TZOFFSETTO:-0500
TZNAME:EST
DTSTART:20241103T060000
END:STANDARD
BEGIN:DAYLIGHT
TZOFFSETFROM:-0500
TZOFFSETTO:-0400
TZNAME:EDT
DTSTART:20250309T070000
END:DAYLIGHT
BEGIN:STANDARD
TZOFFSETFROM:-0400
TZOFFSETTO:-0500
TZNAME:EST
DTSTART:20251102T060000
END:STANDARD
BEGIN:DAYLIGHT
TZOFFSETFROM:-0500
TZOFFSETTO:-0400
TZNAME:EDT
DTSTART:20260308T070000
END:DAYLIGHT
BEGIN:STANDARD
TZOFFSETFROM:-0400
TZOFFSETTO:-0500
TZNAME:EST
DTSTART:20261101T060000
END:STANDARD
END:VTIMEZONE
BEGIN:VEVENT
DTSTART;TZID=America/New_York:20250203T080000
DTEND;TZID=America/New_York:20250207T180000
DTSTAMP:20260425T194010
CREATED:20250130T144425Z
LAST-MODIFIED:20250130T144425Z
UID:21778-1738569600-1738951200@explorebeaufortsc.com
SUMMARY:Beaufort\, South Carolina - Marine Safety Instructor Training
DESCRIPTION:Date: February 3 – February 7\, 2025 \nHours: 8:00 AM – 6:00 PM \nLocation: Beaufort Water Search and Rescue 817 Paris AvenuePort Royal\, SC 29935 \nCost: Starts at $995\, scholarships from AMSEA and Sea Grant are available for qualifying commercial fishermen which will cover most of the costs.  \nInstructor: Jerry Dzugan \nRegistration: Register online at https://www.amsea.org/msitregistrationformor call (907) 747-3287 \nAMSEA is conducting a five-day U. S. Coast Guard-accepted Marine Safety Instructor Training (MSIT). The MSIT provides practical\, hands-on experience in marine survival equipment usage and procedures. \nThis class will cover: \nMethods of Marine Safety InstructionEmergency ProceduresRisk AssessmentHow to Conduct Effective DrillsCold-Water Survival SkillsMan-Overboard RecoveryFirefighting;Life RaftsAbandon-Ship ProceduresHelicopter-RescueFlares\, MAYDAYs\, and Other Emergency SignalsPersonal Flotation Devices (PFDs)Flooding ControlConducting Safety OrientationsCross-Cultural Communication
URL:https://explorebeaufortsc.com/event/beaufort-south-carolina-marine-safety-instructor-training/
LOCATION:Beaufort Water Search and Rescue\, Beaufort Water Search and Rescue
ORGANIZER;CN="Alaska Marine Safety Education Association":MAILTO:noreply@facebookmail.com
END:VEVENT
BEGIN:VEVENT
DTSTART;TZID=America/New_York:20250207T010000
DTEND;TZID=America/New_York:20250207T040000
DTSTAMP:20260425T194010
CREATED:20250207T010904Z
LAST-MODIFIED:20250207T010904Z
UID:21948-1738890000-1738900800@explorebeaufortsc.com
SUMMARY:✨ Kendra Scott Give Back Event for JSLB! ✨
DESCRIPTION:Shop for a cause just in time for Valentine’s Day! 💝💛 Treat yourself or someone special while giving back to the Junior Service League of Beaufort—20% of your purchase will support our mission! \n🛍 How to Participate:💻 Online: Shop at www.kendrascott.com on February 7th & 8th and use code GIVEBACK-IQLCL at checkout.🏬 In-Store: Visit Kendra Scott on February 7th from 3-5 PM and mention the give-back event at checkout. \nIt’s the perfect time to pick out a Valentine’s gift while making a difference in our community! 💙✨ \n#KendraScottGiveBack #ShopForACause #JSLB #ValentinesDayShopping
URL:https://explorebeaufortsc.com/event/%e2%9c%a8-kendra-scott-give-back-event-for-jslb-%e2%9c%a8/
LOCATION:Beaufort\, SC\, United States\, South Carolina 29902\, Beaufort\, SC\, United States\, South Carolina 29902
ORGANIZER;CN="Junior Service League of Beaufort":MAILTO:noreply@facebookmail.com
END:VEVENT
BEGIN:VEVENT
DTSTART;TZID=America/New_York:20250207T100000
DTEND;TZID=America/New_York:20250207T140000
DTSTAMP:20260425T194010
CREATED:20250130T144426Z
LAST-MODIFIED:20250207T010904Z
UID:21782-1738922400-1738936800@explorebeaufortsc.com
SUMMARY:FREE Wills and Health Care Powers of Attorney for Veterans
DESCRIPTION:Lowcountry Legal Volunteers is providing FREE Wills and Health Care Powers of Attorney to Veterans in collaboration with Beaufort County Veterans Affairs. Pre-registration is required\, and you can apply online at lowcountrylegalvolunteers.org. Thank you to Ted and Clair Craver for supporting these clinics!
URL:https://explorebeaufortsc.com/event/free-wills-and-health-care-powers-of-attorney-for-veterans/
LOCATION:100 Clearwater Way Beaufort SC 29906\, 100 Clearwater Way Beaufort SC 29906
ORGANIZER;CN="Lowcountry Legal Volunteers":MAILTO:noreply@facebookmail.com
END:VEVENT
BEGIN:VEVENT
DTSTART;TZID=America/New_York:20250207T170000
DTEND;TZID=America/New_York:20250207T200000
DTSTAMP:20260425T194010
CREATED:20250130T144426Z
LAST-MODIFIED:20250207T010905Z
UID:21783-1738947600-1738958400@explorebeaufortsc.com
SUMMARY:Love\, Beaufort - First Friday
DESCRIPTION:Join us February 7th from 5-8pm as we kick off February in style.
URL:https://explorebeaufortsc.com/event/love-beaufort-first-friday/
LOCATION:Downtown Beaufort\, Downtown Beaufort
ORGANIZER;CN="First Friday Beaufort SC":MAILTO:noreply@facebookmail.com
END:VEVENT
BEGIN:VEVENT
DTSTART;TZID=America/New_York:20250207T180000
DTEND;TZID=America/New_York:20250207T193000
DTSTAMP:20260425T194010
CREATED:20250130T144427Z
LAST-MODIFIED:20250207T010905Z
UID:21785-1738951200-1738956600@explorebeaufortsc.com
SUMMARY:Charcuterie & Champagne Night
DESCRIPTION:Life is Gouda with You by My Side! \nKick off our Valentine Palooza Week with Charcuterie & Champagne Night! Charcuterie artist Tanya Hearn will guide you in creating a stunning board to impress any heart.  \nPerfect for a couples date night or a solo treat! All food and bubbly provided. \nRegister: https://marshviewmercantile.commentsold.com/products/champagne-charcuterie-event \n#CharcuterieAndChampagne #ValentinePalooza #SipAndSavor #DateNightDoneRight #GirlsNightOut #FoodAndBubbly #CharcuterieLovers #CraftingMemories #BeaufortEvents #ElegantEntertaining #FoodieFun #CelebrateLove #ChampagneMoments #BoardandBubble #MarshviewMercantile
URL:https://explorebeaufortsc.com/event/charcuterie-champagne-night/
LOCATION:2631 Boundary St\, Beaufort\, SC\, United States\, South Carolina 29906\, 2631 Boundary St\, Beaufort\, SC\, United States\, South Carolina 29906
ORGANIZER;CN="Marshview Mercantile":MAILTO:noreply@facebookmail.com
END:VEVENT
END:VCALENDAR