BEGIN:VCALENDAR
VERSION:2.0
PRODID:-//Explore Beaufort SC - ECPv6.15.20//NONSGML v1.0//EN
CALSCALE:GREGORIAN
METHOD:PUBLISH
X-ORIGINAL-URL:https://explorebeaufortsc.com
X-WR-CALDESC:Events for Explore Beaufort SC
REFRESH-INTERVAL;VALUE=DURATION:PT1H
X-Robots-Tag:noindex
X-PUBLISHED-TTL:PT1H
BEGIN:VTIMEZONE
TZID:America/New_York
BEGIN:DAYLIGHT
TZOFFSETFROM:-0500
TZOFFSETTO:-0400
TZNAME:EDT
DTSTART:20240310T070000
END:DAYLIGHT
BEGIN:STANDARD
TZOFFSETFROM:-0400
TZOFFSETTO:-0500
TZNAME:EST
DTSTART:20241103T060000
END:STANDARD
BEGIN:DAYLIGHT
TZOFFSETFROM:-0500
TZOFFSETTO:-0400
TZNAME:EDT
DTSTART:20250309T070000
END:DAYLIGHT
BEGIN:STANDARD
TZOFFSETFROM:-0400
TZOFFSETTO:-0500
TZNAME:EST
DTSTART:20251102T060000
END:STANDARD
BEGIN:DAYLIGHT
TZOFFSETFROM:-0500
TZOFFSETTO:-0400
TZNAME:EDT
DTSTART:20260308T070000
END:DAYLIGHT
BEGIN:STANDARD
TZOFFSETFROM:-0400
TZOFFSETTO:-0500
TZNAME:EST
DTSTART:20261101T060000
END:STANDARD
END:VTIMEZONE
BEGIN:VEVENT
DTSTART;TZID=America/New_York:20250214T090000
DTEND;TZID=America/New_York:20250214T120000
DTSTAMP:20260425T194203
CREATED:20250130T144430Z
LAST-MODIFIED:20250212T120148Z
UID:21806-1739523600-1739534400@explorebeaufortsc.com
SUMMARY:For the Love of Coffee
DESCRIPTION:Celebrate Valentine’s Day with us at Urban Brew for an unforgettable coffee-themed event.  \nAdmission: FREE \n🧑‍🤝‍🧑 Bring your family\, friends\, and loved ones for a fun-filled morning at ‘For the Love of Coffee!’ With FREE coffee\, FREE roses\, and exciting raffle prizes\, it’s an event you won’t want to miss! 🌹
URL:https://explorebeaufortsc.com/event/for-the-love-of-coffee/
LOCATION:Urban Brew + Co.\, Urban Brew + Co.
ORGANIZER;CN="Lowcountry Love Group%2C Realtors - Hilton Head / Bluffton / Beaufort":MAILTO:noreply@facebookmail.com
END:VEVENT
BEGIN:VEVENT
DTSTART;TZID=America/New_York:20250214T100000
DTEND;TZID=America/New_York:20250214T130000
DTSTAMP:20260425T194203
CREATED:20250212T120148Z
LAST-MODIFIED:20250212T120148Z
UID:21976-1739527200-1739538000@explorebeaufortsc.com
SUMMARY:Craft and Story Time! Valentines Day Children’s Read Aloud Event
DESCRIPTION:Parents mark your calendars for February 14th! Bring your littles ages 1-4 to LowCo’s Rosie Read Aloud! 🌹 \nTime-10:00 AMLocation- 1 Marina Blvd Cost- $20.00 in store or Venmo RSVP- on this event page!  \nFormer Pre-K teacher\, Mrs. McKenzie\, will lead us in a story\, singing\, craft\, snack\, and game to kick off your Valentine’s Day fun!  \nOptional- Everyone who wishes to bring Valentine’s Day cards to pass out to all the littles is welcome to! ❤️
URL:https://explorebeaufortsc.com/event/craft-and-story-time-valentines-day-childrens-read-aloud-event/
LOCATION:1 Marina Blvd\, Beaufort\, SC\, 1 Marina Blvd\, Beaufort\, SC
ORGANIZER;CN="LowCo Gardeners":MAILTO:noreply@facebookmail.com
END:VEVENT
BEGIN:VEVENT
DTSTART;TZID=America/New_York:20250214T173000
DTEND;TZID=America/New_York:20250215T160000
DTSTAMP:20260425T194203
CREATED:20250121T230903Z
LAST-MODIFIED:20250212T120148Z
UID:21723-1739554200-1739635200@explorebeaufortsc.com
SUMMARY:2025 Bands Brews & BBQ brought to you by Zonta and HELP
DESCRIPTION:THE WAIT IS OVER!!! The first officially sanctioned competition of 2025 by the SC Barbeque Association will be held on February 14th and 15th in Port Royal\, SC.The Town of Port Royal will close down the lower portion of Paris Avenue during this event\, “Bands\, Brews and BBQ”. Two dates filled with fun\, music\, and downhome good eating!What’s better than expertly cooked wings\, ribs\, and everyone’s favorite BBQ. This event is brought to you by two local service organizations\, HELP of Beaufort and the ZONTA Club of Beaufort.  \nFriday\, February 14th is the Wing Throw Down from 6 – 9PM where you can sample wing recipes from participating cook teams while enjoying live music. Beaufort’s own Chris Jones will show off his musical and vocal talent.If you haven’t heard him\, you’re really missing something!Now’s your chance. \nSaturday\, February 15th is all about BBQ and BBQ tasting from 11AM – 4PM\, prepared by cook teams from across the Southeast.They’ll put their best recipe before the judges in this sanctioned SC Barbeque Association competition.Not just cash prizes and trophies\, BUT bragging rights for the entire year!Local bands will be pleasing the crowds throughout the day\, still to be announced.Admission is FREE.Tickets for the food sampling and beer\, wine\, and soda will be available for purchase. Make sure you come hungry!
URL:https://explorebeaufortsc.com/event/2025-bands-brews-bbq-brought-to-you-by-zonta-and-help/
LOCATION:Paris Ave\, Port Royal\, SC 29935\, United States
ORGANIZER;CN="Zonta Club of Beaufort":MAILTO:noreply@facebookmail.com
END:VEVENT
BEGIN:VEVENT
DTSTART;TZID=America/New_York:20250214T180000
DTEND;TZID=America/New_York:20250215T160000
DTSTAMP:20260425T194203
CREATED:20240601T152231Z
LAST-MODIFIED:20250212T120148Z
UID:19273-1739556000-1739635200@explorebeaufortsc.com
SUMMARY:Annual Bands\, Brews & BBQ
DESCRIPTION:Save the Dates! \nAnnual Bands\, Brews & BBQ: Friday\, February 14th\, 6-9pm – Hometown Heroes Wing Throw Down Party! \nSaturday\, February 15th\, 11am-4pm – Hometown Heroes Boston Butt and Ribs.  \n2025 Bands\, Brews & BBQ will be bringing two days of food\, music and fun with wings\, barbeque\, beer\, live music and fun for the entire family! \nProceeds from this event benefit Zonta Club of Beaufort. \nThe Zonta Club of Beaufort supports and empowers women locally through service\, advocacy\, and education. They dedicate hundreds of service hours and monetary donations to women-focused community service projects\, fostering positive change in our community. \nVisit our website to become a sponsor and register your cook team. Watch this space for more information!
URL:https://explorebeaufortsc.com/event/annual-bands-brews-bbq/
LOCATION:809 Paris Ave\, Port Royal\, SC\, United States\, South Carolina 29935\, 809 Paris Ave\, Port Royal\, SC\, United States\, South Carolina 29935
ORGANIZER;CN="Bands%2C Brews & BBQ":MAILTO:noreply@facebookmail.com
END:VEVENT
BEGIN:VEVENT
DTSTART;TZID=America/New_York:20250214T183000
DTEND;TZID=America/New_York:20250214T203000
DTSTAMP:20260425T194203
CREATED:20250130T144431Z
LAST-MODIFIED:20250212T120148Z
UID:21808-1739557800-1739565000@explorebeaufortsc.com
SUMMARY:Date Night at Happy Art Studio - Bring Your Valentine!
DESCRIPTION:Bring your date and paint 2 canvas’s together!Sure to be fun!We will provide lite bites.BYOB and your bestie\, partner\, or date!
URL:https://explorebeaufortsc.com/event/date-night-at-happy-art-studio-bring-your-valentine/
LOCATION:10 Sam’s Point Way\, 29907\, 10 Sam's Point Way\, 29907
ORGANIZER;CN="Happy Art Studio":MAILTO:noreply@facebookmail.com
END:VEVENT
BEGIN:VEVENT
DTSTART;TZID=America/New_York:20250214T190000
DTEND;TZID=America/New_York:20250214T203000
DTSTAMP:20260425T194203
CREATED:20250130T144431Z
LAST-MODIFIED:20250212T120149Z
UID:21809-1739559600-1739565000@explorebeaufortsc.com
SUMMARY:Valentine's Day | Salsa Date Night
DESCRIPTION:Enjoy a romantic Valentine’s Day date night:◽️Learn to dance the Salsa in our intimate nightclub setting◽️Sparkling wine\, sparkling apple cider\, and sweet treats◽️Enjoy quality time in the arms of the one you love \nValentine’s Day | Salsa Date NightFriday\, February 14th◽️7:00 – 8:30 PM◽️$75 per couple \n You may also use your studio membership or class pass to attend.◽️Attire: Valentine theme (think red\, pink\, white\, black\, lace\, and hearts) dressy attire◽️Advanced reservations required◽️Partner required \n➡️ Sign up now to reserve your spot: https://www.revolutionballroom.com/salsa-night \nEvent LocationRevolution Ballroom2121 Boundary St.\, Suite 207Beaufort\, South Carolina 29902www.RevolutionBallroom.com843-338-2870
URL:https://explorebeaufortsc.com/event/valentines-day-salsa-date-night/
LOCATION:Revolution Ballroom\, 2121 Boundary St\, Ste 207\, Beaufort\, SC\, 29902\, US
ORGANIZER;CN="Revolution Ballroom":MAILTO:noreply@facebookmail.com
END:VEVENT
END:VCALENDAR