BEGIN:VCALENDAR
VERSION:2.0
PRODID:-//Explore Beaufort SC - ECPv6.15.20//NONSGML v1.0//EN
CALSCALE:GREGORIAN
METHOD:PUBLISH
X-ORIGINAL-URL:https://explorebeaufortsc.com
X-WR-CALDESC:Events for Explore Beaufort SC
REFRESH-INTERVAL;VALUE=DURATION:PT1H
X-Robots-Tag:noindex
X-PUBLISHED-TTL:PT1H
BEGIN:VTIMEZONE
TZID:America/New_York
BEGIN:DAYLIGHT
TZOFFSETFROM:-0500
TZOFFSETTO:-0400
TZNAME:EDT
DTSTART:20240310T070000
END:DAYLIGHT
BEGIN:STANDARD
TZOFFSETFROM:-0400
TZOFFSETTO:-0500
TZNAME:EST
DTSTART:20241103T060000
END:STANDARD
BEGIN:DAYLIGHT
TZOFFSETFROM:-0500
TZOFFSETTO:-0400
TZNAME:EDT
DTSTART:20250309T070000
END:DAYLIGHT
BEGIN:STANDARD
TZOFFSETFROM:-0400
TZOFFSETTO:-0500
TZNAME:EST
DTSTART:20251102T060000
END:STANDARD
BEGIN:DAYLIGHT
TZOFFSETFROM:-0500
TZOFFSETTO:-0400
TZNAME:EDT
DTSTART:20260308T070000
END:DAYLIGHT
BEGIN:STANDARD
TZOFFSETFROM:-0400
TZOFFSETTO:-0500
TZNAME:EST
DTSTART:20261101T060000
END:STANDARD
END:VTIMEZONE
BEGIN:VEVENT
DTSTART;TZID=America/New_York:20250214T173000
DTEND;TZID=America/New_York:20250215T160000
DTSTAMP:20260425T194207
CREATED:20250121T230903Z
LAST-MODIFIED:20250212T120148Z
UID:21723-1739554200-1739635200@explorebeaufortsc.com
SUMMARY:2025 Bands Brews & BBQ brought to you by Zonta and HELP
DESCRIPTION:THE WAIT IS OVER!!! The first officially sanctioned competition of 2025 by the SC Barbeque Association will be held on February 14th and 15th in Port Royal\, SC.The Town of Port Royal will close down the lower portion of Paris Avenue during this event\, “Bands\, Brews and BBQ”. Two dates filled with fun\, music\, and downhome good eating!What’s better than expertly cooked wings\, ribs\, and everyone’s favorite BBQ. This event is brought to you by two local service organizations\, HELP of Beaufort and the ZONTA Club of Beaufort.  \nFriday\, February 14th is the Wing Throw Down from 6 – 9PM where you can sample wing recipes from participating cook teams while enjoying live music. Beaufort’s own Chris Jones will show off his musical and vocal talent.If you haven’t heard him\, you’re really missing something!Now’s your chance. \nSaturday\, February 15th is all about BBQ and BBQ tasting from 11AM – 4PM\, prepared by cook teams from across the Southeast.They’ll put their best recipe before the judges in this sanctioned SC Barbeque Association competition.Not just cash prizes and trophies\, BUT bragging rights for the entire year!Local bands will be pleasing the crowds throughout the day\, still to be announced.Admission is FREE.Tickets for the food sampling and beer\, wine\, and soda will be available for purchase. Make sure you come hungry!
URL:https://explorebeaufortsc.com/event/2025-bands-brews-bbq-brought-to-you-by-zonta-and-help/
LOCATION:Paris Ave\, Port Royal\, SC 29935\, United States
ORGANIZER;CN="Zonta Club of Beaufort":MAILTO:noreply@facebookmail.com
END:VEVENT
BEGIN:VEVENT
DTSTART;TZID=America/New_York:20250214T180000
DTEND;TZID=America/New_York:20250215T160000
DTSTAMP:20260425T194207
CREATED:20240601T152231Z
LAST-MODIFIED:20250212T120148Z
UID:19273-1739556000-1739635200@explorebeaufortsc.com
SUMMARY:Annual Bands\, Brews & BBQ
DESCRIPTION:Save the Dates! \nAnnual Bands\, Brews & BBQ: Friday\, February 14th\, 6-9pm – Hometown Heroes Wing Throw Down Party! \nSaturday\, February 15th\, 11am-4pm – Hometown Heroes Boston Butt and Ribs.  \n2025 Bands\, Brews & BBQ will be bringing two days of food\, music and fun with wings\, barbeque\, beer\, live music and fun for the entire family! \nProceeds from this event benefit Zonta Club of Beaufort. \nThe Zonta Club of Beaufort supports and empowers women locally through service\, advocacy\, and education. They dedicate hundreds of service hours and monetary donations to women-focused community service projects\, fostering positive change in our community. \nVisit our website to become a sponsor and register your cook team. Watch this space for more information!
URL:https://explorebeaufortsc.com/event/annual-bands-brews-bbq/
LOCATION:809 Paris Ave\, Port Royal\, SC\, United States\, South Carolina 29935\, 809 Paris Ave\, Port Royal\, SC\, United States\, South Carolina 29935
ORGANIZER;CN="Bands%2C Brews & BBQ":MAILTO:noreply@facebookmail.com
END:VEVENT
BEGIN:VEVENT
DTSTART;TZID=America/New_York:20250215T100000
DTEND;TZID=America/New_York:20250215T130000
DTSTAMP:20260425T194207
CREATED:20250212T120149Z
LAST-MODIFIED:20250212T120149Z
UID:21979-1739613600-1739624400@explorebeaufortsc.com
SUMMARY:FREE VITA Tax-A-Thon
DESCRIPTION:Join us for a FREE VITA Tax-A-Thon from 10 a.m. to 4 p.m. on Saturday\, February 15 at the Hardeeville Recreation Center (285 John Smith Rd.) for FREE tax prep by IRS-certified volunteers!Get your taxes done\, enjoy live music from Candela96.1\, delicious food by Antojitos Mary Food Truck\, kids’ activities\, a Community Resource Fair (featuring Bluffton Self Help\, PASOs & TD Bank) AND prizes!Walk-ins & appointments welcome! \nTo see if you qualify for FREE tax prep or schedule an appointment\, visit: www.uwlowcountry.org/VITA
URL:https://explorebeaufortsc.com/event/free-vita-tax-a-thon/
LOCATION:285 John Smith Rd\, Hardeeville\, SC 29927-5545\, United States\, 285 John Smith Rd\, Hardeeville\, SC 29927-5545\, United States
ORGANIZER;CN="United Way of the Lowcountry Serving Beaufort and Jasper Counties":MAILTO:noreply@facebookmail.com
END:VEVENT
BEGIN:VEVENT
DTSTART;TZID=America/New_York:20250215T110000
DTEND;TZID=America/New_York:20250215T140000
DTSTAMP:20260425T194207
CREATED:20250207T010908Z
LAST-MODIFIED:20250212T120149Z
UID:21949-1739617200-1739628000@explorebeaufortsc.com
SUMMARY:Pop-Up Permanent Jewelry Event!
DESCRIPTION:It’s officially love season! Bring the one you love to our pop-up permanent jewelry event on Saturday\, February 15\, 11am-2pm.  \nSimple Things Permanent Jewelry will be on site with plenty of options including gold & silver bracelets\, necklaces\, rings\, and anklets. Bring the one you love to share in this special occasion or treat yourself!
URL:https://explorebeaufortsc.com/event/pop-up-permanent-jewelry-event/
LOCATION:2631 Boundary St\, Beaufort\, SC\, United States\, South Carolina 29906\, 2631 Boundary St\, Beaufort\, SC\, United States\, South Carolina 29906
ORGANIZER;CN="Marshview Mercantile":MAILTO:noreply@facebookmail.com
END:VEVENT
BEGIN:VEVENT
DTSTART;TZID=America/New_York:20250215T140000
DTEND;TZID=America/New_York:20250215T160000
DTSTAMP:20260425T194207
CREATED:20250207T000351Z
LAST-MODIFIED:20250212T120150Z
UID:21898-1739628000-1739635200@explorebeaufortsc.com
SUMMARY:For the Love of Gardening Workshop
DESCRIPTION:Celebrate Black History Month and Valentine’s Day at our For the Love of Gardening Workshop\, on the farm. For more details click on link and register for this event that will feature the gardening practices of the late\, great\, Dr. George Washington Carver. We’ll share stories of his love of gardening and demonstrate techniques for the Victory Garden\, School Garden and Home Garden from his bulletins and other resources written by Dr. Carver. Refreshments will be served. Handouts will be available. This is a family friendly event. Tickets for Adults\, Teens\, Children\, Veterans etc are available\, choose your category from our event webpage. Campers are welcome. You can attend the event and stay over\, we’re listed as Friendly Fowl Farm on Hipcamp.
URL:https://explorebeaufortsc.com/event/for-the-love-of-gardening-workshop/
LOCATION:Morning Glory Homestead\, 42 Robert and Clara Trail\, Saint Helena Island\, SC\, 29920\, US
ORGANIZER;CN="Morning Glory Homestead":MAILTO:noreply@facebookmail.com
END:VEVENT
BEGIN:VEVENT
DTSTART;TZID=America/New_York:20250215T160000
DTEND;TZID=America/New_York:20250215T190000
DTSTAMP:20260425T194207
CREATED:20250130T144431Z
LAST-MODIFIED:20250212T120150Z
UID:21810-1739635200-1739646000@explorebeaufortsc.com
SUMMARY:Book Chat - Dana Ridenour
DESCRIPTION:Dana Ridenour is a retired FBI Special Agent and award-winning author of the Lexie Montgomery thriller crime series. She will be at Rotten Little Bastard to discuss her books and her life. More information on Dana at https://www.danaridenour.net/index.html
URL:https://explorebeaufortsc.com/event/book-chat-dana-ridenour/
LOCATION:2139 Boundary Street Unit 102\, Beaufort\, SC\, United States\, South Carolina 29902\, 2139 Boundary Street Unit 102\, Beaufort\, SC\, United States\, South Carolina 29902
ORGANIZER;CN="Rotten Little Bastard Distillery":MAILTO:noreply@facebookmail.com
END:VEVENT
END:VCALENDAR