BEGIN:VCALENDAR
VERSION:2.0
PRODID:-//Explore Beaufort SC - ECPv6.15.20//NONSGML v1.0//EN
CALSCALE:GREGORIAN
METHOD:PUBLISH
X-ORIGINAL-URL:https://explorebeaufortsc.com
X-WR-CALDESC:Events for Explore Beaufort SC
REFRESH-INTERVAL;VALUE=DURATION:PT1H
X-Robots-Tag:noindex
X-PUBLISHED-TTL:PT1H
BEGIN:VTIMEZONE
TZID:America/New_York
BEGIN:DAYLIGHT
TZOFFSETFROM:-0500
TZOFFSETTO:-0400
TZNAME:EDT
DTSTART:20240310T070000
END:DAYLIGHT
BEGIN:STANDARD
TZOFFSETFROM:-0400
TZOFFSETTO:-0500
TZNAME:EST
DTSTART:20241103T060000
END:STANDARD
BEGIN:DAYLIGHT
TZOFFSETFROM:-0500
TZOFFSETTO:-0400
TZNAME:EDT
DTSTART:20250309T070000
END:DAYLIGHT
BEGIN:STANDARD
TZOFFSETFROM:-0400
TZOFFSETTO:-0500
TZNAME:EST
DTSTART:20251102T060000
END:STANDARD
BEGIN:DAYLIGHT
TZOFFSETFROM:-0500
TZOFFSETTO:-0400
TZNAME:EDT
DTSTART:20260308T070000
END:DAYLIGHT
BEGIN:STANDARD
TZOFFSETFROM:-0400
TZOFFSETTO:-0500
TZNAME:EST
DTSTART:20261101T060000
END:STANDARD
END:VTIMEZONE
BEGIN:VEVENT
DTSTART;TZID=America/New_York:20250225T110000
DTEND;TZID=America/New_York:20250228T180000
DTSTAMP:20260425T144817
CREATED:20250224T004819Z
LAST-MODIFIED:20250224T004819Z
UID:22030-1740481200-1740765600@explorebeaufortsc.com
SUMMARY:Great Estate Buying Event - The Jeweler's Bench
DESCRIPTION:If you’ve been thinking about selling your valuables\, we’re hosting our Great Estate Buying Event at: \nThe Jeweler’s Bench603 Carteret St.\, Beaufort\, SC 29902 \nFebruary 25-28Tuesday-Thursday 10am-5pmFriday 10am-3pm \nWe are purchasing estate jewelry\, diamonds\, watches\, gold\, silver\, coins and more! \nOur experienced staff will evaluate any item\, no matter how small\, and make you an offer. If you decide to sell\, we will pay you on the spot! \nMake appointments here: https://www.julesestatebuyers.com/event/beaufort-sc
URL:https://explorebeaufortsc.com/event/great-estate-buying-event-the-jewelers-bench/
LOCATION:603 Carteret St.\, Beaufort\, SC 29902\, 603 Carteret St.\, Beaufort\, SC 29902
ORGANIZER;CN="Jules Estate Buyers%2C Inc.":MAILTO:noreply@facebookmail.com
END:VEVENT
BEGIN:VEVENT
DTSTART;TZID=America/New_York:20250225T150000
DTEND;TZID=America/New_York:20250225T160000
DTSTAMP:20260425T144817
CREATED:20250130T144434Z
LAST-MODIFIED:20250224T004821Z
UID:21823-1740495600-1740499200@explorebeaufortsc.com
SUMMARY:Dr. Eric W. Montie – 10 Years of Listening to Estuaries & Tracking Bottlenose Dolphins
DESCRIPTION:Presented by 303 Associates \nClick the orange “Book A Program” button on our website to RSVPportroyalsoundfoundation.org \n$10/person (plus fees) \nDr. Eric Montie’s research program focuses on fish & marine mammal biology and the bioacoustics of marine life with applied applications in environmental toxicology\, noise pollution and climate change. His team utilizes passive acoustic recorders mounted on oceanographic instrument frames that allow continuous and long-term sampling of the underwater soundscape. These recordings provide information on the behavior of snapping shrimp\, spawning patterns of fish\, foraging patterns and communication of bottlenose dolphins and noise levels associated with human activity.  \nThe long-term goal is to ‘eavesdrop’ on key behaviors of marine animals that can change rapidly or gradually in response to environmental changes and human impacts\, thus providing a measure of resilience or shifting baselines in a globally changing environment.  \nIn 2020\, Montie founded the Estuarine Soundscape Observatory Network in the Southeast (or ESONS)\, which now monitors biological sound and human-made noise in four estuaries of South Carolina. In addition\, he supervises the Lowcountry Dolphin Conservation Program\, which focuses on the population dynamics and ecology of common bottlenose dolphins in the Port Royal Sound Area. During this talk\, Dr. Montie will discuss major highlights of these two monitoring programs that have been observed over the past 10 years.
URL:https://explorebeaufortsc.com/event/dr-eric-w-montie-10-years-of-listening-to-estuaries-tracking-bottlenose-dolphins/
LOCATION:Port Royal Sound Foundation
ORGANIZER;CN="Port Royal Sound Foundation":MAILTO:noreply@facebookmail.com
END:VEVENT
END:VCALENDAR