BEGIN:VCALENDAR
VERSION:2.0
PRODID:-//Explore Beaufort SC - ECPv6.15.20//NONSGML v1.0//EN
CALSCALE:GREGORIAN
METHOD:PUBLISH
X-WR-CALNAME:Explore Beaufort SC
X-ORIGINAL-URL:https://explorebeaufortsc.com
X-WR-CALDESC:Events for Explore Beaufort SC
REFRESH-INTERVAL;VALUE=DURATION:PT1H
X-Robots-Tag:noindex
X-PUBLISHED-TTL:PT1H
BEGIN:VTIMEZONE
TZID:America/New_York
BEGIN:DAYLIGHT
TZOFFSETFROM:-0500
TZOFFSETTO:-0400
TZNAME:EDT
DTSTART:20240310T070000
END:DAYLIGHT
BEGIN:STANDARD
TZOFFSETFROM:-0400
TZOFFSETTO:-0500
TZNAME:EST
DTSTART:20241103T060000
END:STANDARD
BEGIN:DAYLIGHT
TZOFFSETFROM:-0500
TZOFFSETTO:-0400
TZNAME:EDT
DTSTART:20250309T070000
END:DAYLIGHT
BEGIN:STANDARD
TZOFFSETFROM:-0400
TZOFFSETTO:-0500
TZNAME:EST
DTSTART:20251102T060000
END:STANDARD
BEGIN:DAYLIGHT
TZOFFSETFROM:-0500
TZOFFSETTO:-0400
TZNAME:EDT
DTSTART:20260308T070000
END:DAYLIGHT
BEGIN:STANDARD
TZOFFSETFROM:-0400
TZOFFSETTO:-0500
TZNAME:EST
DTSTART:20261101T060000
END:STANDARD
END:VTIMEZONE
BEGIN:VEVENT
DTSTART;TZID=America/New_York:20250306T120000
DTEND;TZID=America/New_York:20250306T150000
DTSTAMP:20260425T180519
CREATED:20250304T032854Z
LAST-MODIFIED:20250304T033840Z
UID:22139-1741262400-1741273200@explorebeaufortsc.com
SUMMARY:Beaufort National Cemetery Walking Tour
DESCRIPTION:Beaufort National Cemetery is the 13th oldest national cemetery in the United States and is the final resting place for over 28\,000 veterans and eligible family members. Would you like to learn about some of the heroes buried here and their stories? Come join our cemetery walking tour. Volunteer docents will take you on a tour through the 161-year old cemetery and learn about our nation’s history through the stories of those who served and defended it. Tours start at the main flagpole. For more information\, contact the cemetery at 843-524-3925.
URL:https://explorebeaufortsc.com/event/cemetery-walking-tour-6/
LOCATION:1601 Boundary Street\, Beaufort\, SC\, United States\, South Carolina 29902\, 1601 Boundary Street\, Beaufort\, SC\, United States\, South Carolina 29902
ATTACH;FMTTYPE=image/jpeg:https://explorebeaufortsc.com/wp-content/uploads/2025/03/cemeterywalkingtour.jpg
ORGANIZER;CN="Beaufort National Cemetery":MAILTO:noreply@facebookmail.com
END:VEVENT
BEGIN:VEVENT
DTSTART;TZID=America/New_York:20250306T173000
DTEND;TZID=America/New_York:20250306T203000
DTSTAMP:20260425T180519
CREATED:20250304T032855Z
LAST-MODIFIED:20250307T032418Z
UID:22141-1741282200-1741293000@explorebeaufortsc.com
SUMMARY:Lowcountry Young Professionals - Sponsored by Josh Ward with Charter One Realty
DESCRIPTION:This month’s event is sponsored by Josh Ward with Charter One Realty\, and we’re taking LYP to GG’s in Port Royal!  \nLight bites will be shared & there will be a free beer for LYP’s who attend. \nJoin us for this 👉 FREE EVENT 👈 \nWhether you’re here to grow your circle\, share ideas\, or just vibe with a fun crowd\, GG’s Restaurant & Bar is the place to be on March 6th! \nSponsored by Josh Ward with Charter One Realty
URL:https://explorebeaufortsc.com/event/lowcountry-young-professionals-sponsored-by-josh-ward-with-charter-one-realty/
LOCATION:GG’s Restaurant & Bar- Play  Eat  Vibe  Drink = Community\, GG's Restaurant & Bar- Play Eat Vibe Drink = Community
ORGANIZER;CN="Beaufort Regional Chamber":MAILTO:noreply@facebookmail.com
END:VEVENT
BEGIN:VEVENT
DTSTART;TZID=America/New_York:20250306T180000
DTEND;TZID=America/New_York:20250306T200000
DTSTAMP:20260425T180519
CREATED:20250224T004830Z
LAST-MODIFIED:20250307T032417Z
UID:22054-1741284000-1741291200@explorebeaufortsc.com
SUMMARY:Bottle Brush Painting 3 SPOTS LEFT!!
DESCRIPTION:Join us for this New Hand-Painted Bottle workshop! \nBring your favorite bottle of wine\, champagne or even whiskey to personalize with the patterns and colors of your choice. This event is a perfect way to un-wine-d\, enjoy time with friends and family\, and create something beautiful to give as a gift or decor for your home.” \nYour bottle can be full or empty- either way\, you’ll leave with a beautiful creation! No painting talent needed! \nWhen: Thursday\, March 6\, 6p-8pWhere: Marshview Mercantile\, 2631 Boundary Street\, BeaufortCost: $45Register Here: https://marshviewmercantile.commentsold.com/products/bottle-painting-class
URL:https://explorebeaufortsc.com/event/bottle-brush-painting-workshop/
LOCATION:2631 Boundary St\, Beaufort\, SC\, United States\, South Carolina 29906\, 2631 Boundary St\, Beaufort\, SC\, United States\, South Carolina 29906
ORGANIZER;CN="Marshview Mercantile":MAILTO:noreply@facebookmail.com
END:VEVENT
END:VCALENDAR