BEGIN:VCALENDAR
VERSION:2.0
PRODID:-//Explore Beaufort SC - ECPv6.15.20//NONSGML v1.0//EN
CALSCALE:GREGORIAN
METHOD:PUBLISH
X-WR-CALNAME:Explore Beaufort SC
X-ORIGINAL-URL:https://explorebeaufortsc.com
X-WR-CALDESC:Events for Explore Beaufort SC
REFRESH-INTERVAL;VALUE=DURATION:PT1H
X-Robots-Tag:noindex
X-PUBLISHED-TTL:PT1H
BEGIN:VTIMEZONE
TZID:America/New_York
BEGIN:DAYLIGHT
TZOFFSETFROM:-0500
TZOFFSETTO:-0400
TZNAME:EDT
DTSTART:20240310T070000
END:DAYLIGHT
BEGIN:STANDARD
TZOFFSETFROM:-0400
TZOFFSETTO:-0500
TZNAME:EST
DTSTART:20241103T060000
END:STANDARD
BEGIN:DAYLIGHT
TZOFFSETFROM:-0500
TZOFFSETTO:-0400
TZNAME:EDT
DTSTART:20250309T070000
END:DAYLIGHT
BEGIN:STANDARD
TZOFFSETFROM:-0400
TZOFFSETTO:-0500
TZNAME:EST
DTSTART:20251102T060000
END:STANDARD
BEGIN:DAYLIGHT
TZOFFSETFROM:-0500
TZOFFSETTO:-0400
TZNAME:EDT
DTSTART:20260308T070000
END:DAYLIGHT
BEGIN:STANDARD
TZOFFSETFROM:-0400
TZOFFSETTO:-0500
TZNAME:EST
DTSTART:20261101T060000
END:STANDARD
END:VTIMEZONE
BEGIN:VEVENT
DTSTART;TZID=America/New_York:20250307T170000
DTEND;TZID=America/New_York:20250308T150000
DTSTAMP:20260425T180518
CREATED:20250207T010912Z
LAST-MODIFIED:20250307T032419Z
UID:21960-1741366800-1741446000@explorebeaufortsc.com
SUMMARY:Lowco Women's Conference with Kelly Minter!
DESCRIPTION:You’re Invited! It’s not just about where\, but WHO we meet—it’s JESUS. Let’s gather\, women of every generation\, to seek a profound connection with Him. MARCH 7-8 at Lowcountry Community Church.In the whirlwind of life\, we’re constantly pulled in different directions—rushing through our days\, juggling responsibilities\, and sometimes\, losing sight of what truly matters. At the conference\, we’ll delve into the theme of prioritizing God above all else. It’s about recognizing the distractions and placing them in their rightful spot\, so we can focus on what truly deserves our attention. \n**Tickets include entrance to all conference sessions\, snacks\, coffee\, and water throughout the conference. Light breakfast items and coffee will be provided on Saturday.
URL:https://explorebeaufortsc.com/event/lowco-womens-conference-with-kelly-minter/
LOCATION:801 Buckwalter Pkwy\, Bluffton\, SC\, United States\, South Carolina 29910
ORGANIZER;CN="LowCountry Community Church":MAILTO:noreply@facebookmail.com
END:VEVENT
BEGIN:VEVENT
DTSTART;TZID=America/New_York:20250308T064500
DTEND;TZID=America/New_York:20250308T094500
DTSTAMP:20260425T180518
CREATED:20250130T144436Z
LAST-MODIFIED:20250307T032419Z
UID:21831-1741416300-1741427100@explorebeaufortsc.com
SUMMARY:Winters End Sheepshead Tournament
DESCRIPTION:Join us as we battle each other for first place in this end of winter / start of spring sheepshead tournament.  \nSame rules as the last tournament.Team with the heaviest total combined weight of their 5 heaviest fish takes first.  \nIf you fished the last sheepshead tournament\, then here’s your chance to redeem yourself.  \nLines in at daybreak.  \n$100 entry fee per boat. Includes 1 angler.Each additional angler is $50  \nBoats\, kayaks\, pier\, shore are all welcome. \nSide pot for heaviest sheepshead.side pot for heaviest black drum \nMandatory Captains meeting Friday\, March 7th at 5pm.  \nRaffles\, prizes\, and fish fry at the weigh in on March 8th. Time for weigh in TBD
URL:https://explorebeaufortsc.com/event/winters-end-sheepshead-tournament/
LOCATION:901 8th Street\, Port Royal\, SC\, 901 8th Street\, Port Royal\, SC
END:VEVENT
BEGIN:VEVENT
DTSTART;TZID=America/New_York:20250308T090000
DTEND;TZID=America/New_York:20250308T160000
DTSTAMP:20260425T180518
CREATED:20250224T004831Z
LAST-MODIFIED:20250307T032419Z
UID:22060-1741424400-1741449600@explorebeaufortsc.com
SUMMARY:Hilton Head - Beaufort Card Show
DESCRIPTION:Come check out all the Sports Cards\, Memorabilia\, Pokemon and Collectibles from many different vendors!
URL:https://explorebeaufortsc.com/event/hilton-head-beaufort-card-show/
LOCATION:Holiday Inn & Suites Beaufort\, Holiday Inn & Suites Beaufort
ORGANIZER;CN="Captain Jax":MAILTO:noreply@facebookmail.com
END:VEVENT
BEGIN:VEVENT
DTSTART;TZID=America/New_York:20250308T093000
DTEND;TZID=America/New_York:20250308T113000
DTSTAMP:20260425T180518
CREATED:20250224T004832Z
LAST-MODIFIED:20250307T032420Z
UID:22061-1741426200-1741433400@explorebeaufortsc.com
SUMMARY:Kayak Tour - RSVP Required
DESCRIPTION:Kayak Tours at the Maritime Center \nClick the orange “Book A Program” button on our website to RSVPportroyalsoundfoundation.org \nJoin a PRSF Naturalist for a 2-hour guided kayak tour of the Chechessee River departing from the Maritime Center. \nPricing:$35 (ages 5-12)$50 (ages 13+)Plus booking feeChildren ages 5-12 must be on a tandem kayak with an adult (18+) \nDesigned for all experience levels. \nQuestions? Please email Jessica\, jkochman@portroyalsoundfoundation.org \nhttps://www.facebook.com/events/963205122143982/?event_time_id=963205152143979
URL:https://explorebeaufortsc.com/event/kayak-tour-rsvp-required-3/
LOCATION:310 Okatie Hwy\, Okatie\, SC\, United States\, South Carolina 29909\, 310 Okatie Hwy\, Okatie\, SC\, United States\, South Carolina 29909
ORGANIZER;CN="Port Royal Sound Foundation":MAILTO:noreply@facebookmail.com
END:VEVENT
BEGIN:VEVENT
DTSTART;TZID=America/New_York:20250308T100000
DTEND;TZID=America/New_York:20250308T130000
DTSTAMP:20260425T180518
CREATED:20250224T004832Z
LAST-MODIFIED:20250307T032420Z
UID:22062-1741428000-1741438800@explorebeaufortsc.com
SUMMARY:Dollar General Low Cost Rabies Vaccine Clinic 180 Sea Island PKWY Lady's Island
DESCRIPTION:One year Rabies $10. Three year Rabies $22. DHPP/FVRCP $12. FeLV/Bordetella $22. Heartworm test $25. Microchips $24.Come see us for your dog and/or cat’s vaccinations\, heartworm test and microchip\, services provided by a local veterinarian. We would love to see you! For more info check out our website. www.lowcountrypetvaccineclinic.com.
URL:https://explorebeaufortsc.com/event/dollar-general-low-cost-rabies-vaccine-clinic-180-sea-island-pkwy-ladys-island-10/
LOCATION:180 Sea Island Pkwy Ladys Island SC 29907
ORGANIZER;CN="Lowcountry Pet Vaccine Clinic":MAILTO:noreply@facebookmail.com
END:VEVENT
BEGIN:VEVENT
DTSTART;TZID=America/New_York:20250308T100000
DTEND;TZID=America/New_York:20250308T130000
DTSTAMP:20260425T180518
CREATED:20250304T032858Z
LAST-MODIFIED:20250307T032420Z
UID:22151-1741428000-1741438800@explorebeaufortsc.com
SUMMARY:Community Clean-up: Beaufort Litter Patrol x Beaufort County Passive Parks
DESCRIPTION:**See parking location below** Join us for a community clean-up with Beaufort County Passive Parks. We will be tackling an area that needs some TLC and has a direct impact to the waterway. **Please park at the big parking lot by Dollar General** \nSupplies provided:-Gloves-Bags-Some grabbers-Hand sanitizer \nWhat you need:-Sneakers or boots that you don’t mind getting dirty-Any SPF or hydration  \nThank you to Shellring Aleworks for sponsoring our clean-ups. If you would like to join\, meet us at Shellring after the clean-up for a cold drink!There’s power in numbers so be sure to share and invite! 🙂
URL:https://explorebeaufortsc.com/event/community-clean-up-beaufort-litter-patrol-x-beaufort-county-passive-parks/
LOCATION:2729 Boundary St\, Beaufort\, SC 29906-7342\, United States\, 2729 Boundary St\, Beaufort\, SC 29906-7342\, United States
ORGANIZER;CN="Beaufort Litter Patrol":MAILTO:noreply@facebookmail.com
END:VEVENT
BEGIN:VEVENT
DTSTART;TZID=America/New_York:20250308T100000
DTEND;TZID=America/New_York:20250309T170000
DTSTAMP:20260425T180518
CREATED:20250304T032859Z
LAST-MODIFIED:20250307T032423Z
UID:22154-1741428000-1741539600@explorebeaufortsc.com
SUMMARY:Low Country Pow Wow and Cultural Festival
DESCRIPTION:one of the largest pow wows in South Carolina right on the banks of the Savannah River at Mill Stone Landing in Hardeeville South Carolina. This is an inter-tribal event that welcomes the public. 10.00 per adult 5.00 per child5 years and younger are free. We feature 2 18th Century campsites30 plus vendorsDemonstrationsSingingDancingDrumming and much much more. Food Vendors
URL:https://explorebeaufortsc.com/event/lowcountry-pow-wow-and-cultural-festival-3/
LOCATION:Mill Stone Landing\, Hardeeville\, SC\, Mill Stone Landing\, Hardeeville\, SC
ORGANIZER;CN="Low Country Pow Wow and Cultural Festival aka Hardeeville pow wow":MAILTO:noreply@facebookmail.com
END:VEVENT
BEGIN:VEVENT
DTSTART;TZID=America/New_York:20250308T110000
DTEND;TZID=America/New_York:20250308T160000
DTSTAMP:20260425T180518
CREATED:20250307T032428Z
LAST-MODIFIED:20250307T032428Z
UID:22254-1741431600-1741449600@explorebeaufortsc.com
SUMMARY:10th Annual Ole Fashioned Oyster Roast
DESCRIPTION:Join Us for the Ole Fashioned Gullah Oyster Roast! \nMark your calendars! The Gullah Museum of Hilton Head Island invites you to our Ole Fashioned Gullah Oyster Roast on Saturday\, March 8\, 2025\, from 11 AM to 4 PM! \nAll-You-Can-Eat Oysters\, Gullah Storytelling\, Live Music & Entertainment\, Kid-Friendly Activities \nGood Food\, Good Vibes\, & Great Fun! \nCome experience the rich Gullah culture in a way that brings the community together—through food\, history\, and tradition!  \nGullah Museum of Hilton Head IslandTickets available at: https://tinyurl.com/3wj5u63s \nTag your friends and spread the word! #GullahCulture #OysterRoast #HiltonHeadEvents
URL:https://explorebeaufortsc.com/event/10th-annual-ole-fashioned-oyster-roast/
LOCATION:Hilton Head Island SC\, Hilton Head Island SC
ORGANIZER;CN="Gullah Museum of Hilton Head Island":MAILTO:noreply@facebookmail.com
END:VEVENT
BEGIN:VEVENT
DTSTART;TZID=America/New_York:20250308T140000
DTEND;TZID=America/New_York:20250308T160000
DTSTAMP:20260425T180518
CREATED:20250224T004833Z
LAST-MODIFIED:20250307T032430Z
UID:22063-1741442400-1741449600@explorebeaufortsc.com
SUMMARY:Beach Glass Bonanza! REGISTRATION CLOSES FRIDAY!
DESCRIPTION:First class sold out in 2 days! Don’t miss your chance! Join us for our Beach Glass Bonanza where you get to choose your project! We’ve got trees\, angels\, wreaths\, ornaments\, and frames– all ready for you! \nRegister here to secure your spot and select your your project:  \nhttps://marshviewmercantile.commentsold.com/products/beach-glass-bonanza-mar-8-2p-4p \n#BeachGlassArt #DIYWorkshop #CreativeFun #HandmadeDecor #CoastalCrafts #BeachVibes #GlassArt #CraftYourStyle #ArtWorkshop #GetCreative #HandmadeWithLove #SeaGlassCreations #LocalEvents #CraftingCommunity #ShopLocal #MarshviewMercantile
URL:https://explorebeaufortsc.com/event/beach-glass-bonanza-2nd-class-added/
LOCATION:2631 Boundary St\, Beaufort\, SC\, 2631 Boundary St\, Beaufort\, SC
ORGANIZER;CN="Marshview Mercantile":MAILTO:noreply@facebookmail.com
END:VEVENT
BEGIN:VEVENT
DTSTART;TZID=America/New_York:20250308T160000
DTEND;TZID=America/New_York:20250308T190000
DTSTAMP:20260425T180518
CREATED:20250224T004833Z
LAST-MODIFIED:20250307T032430Z
UID:22064-1741449600-1741460400@explorebeaufortsc.com
SUMMARY:Clay Workshop with Dan McSweeney
DESCRIPTION:Join us for another fun Clay workshop. You can make a Flask\, Vase\, whatever you choose. Dan will have all the tools to decorate it\, too. After the workshop\, he will take it back to his studio to glaze and fire it and the completed projects will be returned to RLB in April. Cocktail Tours will be available before and after the class.
URL:https://explorebeaufortsc.com/event/clay-workshop-with-dan-mcsweeney/
LOCATION:2139 Boundary Street Unit 102\, Beaufort\, SC\, United States\, South Carolina 29902\, 2139 Boundary Street Unit 102\, Beaufort\, SC\, United States\, South Carolina 29902
ORGANIZER;CN="Rotten Little Bastard Distillery":MAILTO:noreply@facebookmail.com
END:VEVENT
BEGIN:VEVENT
DTSTART;TZID=America/New_York:20250308T173000
DTEND;TZID=America/New_York:20250308T210000
DTSTAMP:20260425T180518
CREATED:20250130T144436Z
LAST-MODIFIED:20250307T032430Z
UID:21832-1741455000-1741467600@explorebeaufortsc.com
SUMMARY:Beaufort Young Life Trivia Night
DESCRIPTION:Don’t miss out on the Social Event of the Year!
URL:https://explorebeaufortsc.com/event/beaufort-young-life-trivia-night/
LOCATION:Beaufort Academy\, Beaufort Academy
ORGANIZER;CN="Young LIFE Beaufort":MAILTO:noreply@facebookmail.com
END:VEVENT
BEGIN:VEVENT
DTSTART;TZID=America/New_York:20250308T190000
DTEND;TZID=America/New_York:20250308T220000
DTSTAMP:20260425T180518
CREATED:20250224T004834Z
LAST-MODIFIED:20250307T032430Z
UID:22065-1741460400-1741471200@explorebeaufortsc.com
SUMMARY:Revolution Ballroom March Dance Party 🎉
DESCRIPTION:You’re invited to our Revolution Ballroom Dance Party 🎉 Our parties are held every 2nd Saturday. \nRevolution Ballroom Dance Party 🎉〰️ Saturday\, March 8th 〰️ \n◽️ 7:00 – 7:30 PM Beginner Bachata lesson◽️ 7:30 – 10:00 PM Social Dancing◽️ 8:00 PM – SPECIAL PERFORMANCES◽️ Our playlist features a mix of Ballroom\, Latin\, Swing\, Salsa\, Bachata\, and Argentine Tango◽️ Light refreshments & iced tea◽️ Admission: $20 (online or at the door)◽️ Open to the public (ages 18+)◽️ Singles & couples welcome◽️ Attire: Dressy or Cocktail \n➡️ Sign up here: https://www.revolutionballroom.com/march-party \nEvent Location:Revolution Ballroom2121 Boundary StSuite 207Beaufort\, SC 29902 \n📲 843.338.2870www.RevolutionBallroom.com
URL:https://explorebeaufortsc.com/event/revolution-ballroom-march-dance-party-%f0%9f%8e%89/
LOCATION:Revolution Ballroom\, 2121 Boundary St\, Ste 207\, Beaufort\, SC\, 29902\, US
ORGANIZER;CN="Revolution Ballroom":MAILTO:noreply@facebookmail.com
END:VEVENT
END:VCALENDAR