BEGIN:VCALENDAR
VERSION:2.0
PRODID:-//Explore Beaufort SC - ECPv6.15.20//NONSGML v1.0//EN
CALSCALE:GREGORIAN
METHOD:PUBLISH
X-WR-CALNAME:Explore Beaufort SC
X-ORIGINAL-URL:https://explorebeaufortsc.com
X-WR-CALDESC:Events for Explore Beaufort SC
REFRESH-INTERVAL;VALUE=DURATION:PT1H
X-Robots-Tag:noindex
X-PUBLISHED-TTL:PT1H
BEGIN:VTIMEZONE
TZID:America/New_York
BEGIN:DAYLIGHT
TZOFFSETFROM:-0500
TZOFFSETTO:-0400
TZNAME:EDT
DTSTART:20240310T070000
END:DAYLIGHT
BEGIN:STANDARD
TZOFFSETFROM:-0400
TZOFFSETTO:-0500
TZNAME:EST
DTSTART:20241103T060000
END:STANDARD
BEGIN:DAYLIGHT
TZOFFSETFROM:-0500
TZOFFSETTO:-0400
TZNAME:EDT
DTSTART:20250309T070000
END:DAYLIGHT
BEGIN:STANDARD
TZOFFSETFROM:-0400
TZOFFSETTO:-0500
TZNAME:EST
DTSTART:20251102T060000
END:STANDARD
BEGIN:DAYLIGHT
TZOFFSETFROM:-0500
TZOFFSETTO:-0400
TZNAME:EDT
DTSTART:20260308T070000
END:DAYLIGHT
BEGIN:STANDARD
TZOFFSETFROM:-0400
TZOFFSETTO:-0500
TZNAME:EST
DTSTART:20261101T060000
END:STANDARD
END:VTIMEZONE
BEGIN:VEVENT
DTSTART;TZID=America/New_York:20250308T100000
DTEND;TZID=America/New_York:20250309T170000
DTSTAMP:20260425T144618
CREATED:20250304T032859Z
LAST-MODIFIED:20250307T032423Z
UID:22154-1741428000-1741539600@explorebeaufortsc.com
SUMMARY:Low Country Pow Wow and Cultural Festival
DESCRIPTION:one of the largest pow wows in South Carolina right on the banks of the Savannah River at Mill Stone Landing in Hardeeville South Carolina. This is an inter-tribal event that welcomes the public. 10.00 per adult 5.00 per child5 years and younger are free. We feature 2 18th Century campsites30 plus vendorsDemonstrationsSingingDancingDrumming and much much more. Food Vendors
URL:https://explorebeaufortsc.com/event/lowcountry-pow-wow-and-cultural-festival-3/
LOCATION:Mill Stone Landing\, Hardeeville\, SC\, Mill Stone Landing\, Hardeeville\, SC
ORGANIZER;CN="Low Country Pow Wow and Cultural Festival aka Hardeeville pow wow":MAILTO:noreply@facebookmail.com
END:VEVENT
BEGIN:VEVENT
DTSTART;TZID=America/New_York:20250309T173000
DTEND;TZID=America/New_York:20250309T203000
DTSTAMP:20260425T144618
CREATED:20250207T000358Z
LAST-MODIFIED:20250307T032431Z
UID:21920-1741541400-1741552200@explorebeaufortsc.com
SUMMARY:Dining Under the Stars - A Night of Culinary Compassion
DESCRIPTION:Experience an unforgettable evening of fine dining\, breathtaking views\, community camaraderie\, all for an exceptional cause. This exclusive event brings together Beaufort’s most talented chefs to craft an exquisite five-course plated dinner\, perfectly paired with fine wines outside under the stars. All to benefit the Child Abuse Prevention Association  \nIn the event of inclement weather a new date will be announced.
URL:https://explorebeaufortsc.com/event/dining-under-the-stars-a-night-of-culinary-compassion/
LOCATION:600 Bay Street Beaufort\, SC\, 600 Bay Street Beaufort\, SC
ORGANIZER;CN="Shellring Ale Works":MAILTO:noreply@facebookmail.com
END:VEVENT
END:VCALENDAR