BEGIN:VCALENDAR
VERSION:2.0
PRODID:-//Explore Beaufort SC - ECPv6.15.20//NONSGML v1.0//EN
CALSCALE:GREGORIAN
METHOD:PUBLISH
X-ORIGINAL-URL:https://explorebeaufortsc.com
X-WR-CALDESC:Events for Explore Beaufort SC
REFRESH-INTERVAL;VALUE=DURATION:PT1H
X-Robots-Tag:noindex
X-PUBLISHED-TTL:PT1H
BEGIN:VTIMEZONE
TZID:America/New_York
BEGIN:DAYLIGHT
TZOFFSETFROM:-0500
TZOFFSETTO:-0400
TZNAME:EDT
DTSTART:20240310T070000
END:DAYLIGHT
BEGIN:STANDARD
TZOFFSETFROM:-0400
TZOFFSETTO:-0500
TZNAME:EST
DTSTART:20241103T060000
END:STANDARD
BEGIN:DAYLIGHT
TZOFFSETFROM:-0500
TZOFFSETTO:-0400
TZNAME:EDT
DTSTART:20250309T070000
END:DAYLIGHT
BEGIN:STANDARD
TZOFFSETFROM:-0400
TZOFFSETTO:-0500
TZNAME:EST
DTSTART:20251102T060000
END:STANDARD
BEGIN:DAYLIGHT
TZOFFSETFROM:-0500
TZOFFSETTO:-0400
TZNAME:EDT
DTSTART:20260308T070000
END:DAYLIGHT
BEGIN:STANDARD
TZOFFSETFROM:-0400
TZOFFSETTO:-0500
TZNAME:EST
DTSTART:20261101T060000
END:STANDARD
END:VTIMEZONE
BEGIN:VEVENT
DTSTART;TZID=America/New_York:20250313T180000
DTEND;TZID=America/New_York:20250313T193000
DTSTAMP:20260425T144733
CREATED:20250130T144437Z
LAST-MODIFIED:20250307T032431Z
UID:21833-1741888800-1741894200@explorebeaufortsc.com
SUMMARY:Virtual Open Mic Night -- Featuring Susan Tekulve\, Author of Bodies of Light
DESCRIPTION:The Pat Conroy Literary Center’s monthly Open Mic Night will be presented as a virtual event\, live-streamed to our Facebook page\, on Thursday\, March 13\, from 6:00 to 7:30 p.m. Our featured presenter is multi-genre author Susan Tekulve\, whose newest book is Bodies of Light\, her first full-length poetry collection. Hosted by poet Melissa Whiteford St. Clair\, Open Mic will also feature short readings of 3 to 5 minutes each by other writers in many genres. \nInterested in reading as part of virtual Open Mic? Let us know at contact@patconroyliterarycenter.org. \nAbout Our Featured Author:Susan Tekulve’s newest book Bodies of Light is her first full-length poetry collection. She is the author of Second Shift: Essays (Del Sol Press) and In the Garden of Stone (Hub City Press)\, winner of the South Carolina Novel Prize and a Gold IPPY Award. She’s also published two short story collections: Savage Pilgrims (Serving House Books) and My Mother’s War Stories (Winnow Press). Her photo essay\, “White Blossoms\,” appeared in Issue 12 of the KYSO Flash Anthology. Her nonfiction\, fiction\, and poetry has appeared in journals such as Denver Quarterly\, The Georgia Review\, The Louisville Review\, Puerto del Sol\, New Letters\, and Shenandoah. Her web chapbook\, Wash Day\, appears in the Web Del Sol International Chapbook Series\, and her story collection\, My Mother’s War Stories\, received the 2004 Winnow Press fiction prize. She has received scholarships from the Sewanee Writers’ Conference and Bread Loaf Writers’ Conference. She teaches in the BFA and MFA writing programs at Converse University. \n“Susan Tekulve’s Bodies of Light both illuminates and enchants. In odes to body parts—teeth and thumbs\, feet and hair—as well as bodies inside bodies (pregnancies)\, this poet delights in the corporal and spiritual. In elegies\, Tekulve honors the bodies of her beloved dead and the magic of her garden. Hummingbirds\, tarantulas\, stinkbugs\, spiders\, and bees wearing ‘tiny yellow combat boots’ populate these terrific poems of wonder and dazzle.”–Denise Duhamel\, author of Pink Lady\, Scald\, and Blowout  \n“It’s a kind of magic\, the way Susan Tekulve’s forthright monosyllabic titles (Bonnet\, Grief\, Kimono\, Son—the list goes on) blossom into poems so lush in vision\, so voluptuous in vocabulary and song\, they feel as bountiful as the planet we live on. Tekulve’s poems have their specific concerns of course (parenting\, for example\, and world travel) but ultimately she’s in love with existence itself\, whether elegiac or celebratory\, and her one-word titles (Relics\, Geodes\, Feathers: the list goes on) are keys to a lavish proof of that love’s great depth.”–Albert Goldbarth\, author of History (and Pre-)\, Saving Lives\, and Heaven and Earth: A Cosmology
URL:https://explorebeaufortsc.com/event/virtual-open-mic-night-featuring-susan-tekulve-author-of-bodies-of-light/
LOCATION:601 Bladen Street\, Beaufort\, SC\, United States\, South Carolina 29902\, 601 Bladen Street\, Beaufort\, SC\, United States\, South Carolina 29902
ORGANIZER;CN="Pat Conroy Literary Center":MAILTO:noreply@facebookmail.com
END:VEVENT
BEGIN:VEVENT
DTSTART;TZID=America/New_York:20250313T180000
DTEND;TZID=America/New_York:20250313T200000
DTSTAMP:20260425T144733
CREATED:20250224T004834Z
LAST-MODIFIED:20250307T032432Z
UID:22069-1741888800-1741896000@explorebeaufortsc.com
SUMMARY:Spring Chicks Paint Party 3/13
DESCRIPTION:Join us for a fun Spring Chicks Paint & Sip Party at Breakthrough Nutrition Thursday 3/13.  \nWhich one will you paint: Goofy Chick or Lady Chick? Pick your fave\, and come ready to paint your own Spring Chick masterpiece on an 11×14″ canvas.  \nAdvance payment is required to reserve your seat. Seats are limited. Please note that ticket sales are nonrefundable.  \nTicket price of $45 includes all art supplies\, step-by-step instruction by Camilla\, as well as a complimentary beverage from the Breakthrough Nutrition event menu. Additional beverages for sale. \nSelect your project (Goofy Chick or Lady Chick) as you pay\, so we can prepare the canvas for you.  \nThis is an event where my subscribers can use their 5% off code.Questions? E-mail Camilla@CreatewithCamilla.art
URL:https://explorebeaufortsc.com/event/spring-chicks-paint-party-3-12/
LOCATION:Breakthrough Nutrition\, Breakthrough Nutrition
ORGANIZER;CN="Create with Camilla":MAILTO:noreply@facebookmail.com
END:VEVENT
END:VCALENDAR