BEGIN:VCALENDAR
VERSION:2.0
PRODID:-//Explore Beaufort SC - ECPv6.15.20//NONSGML v1.0//EN
CALSCALE:GREGORIAN
METHOD:PUBLISH
X-WR-CALNAME:Explore Beaufort SC
X-ORIGINAL-URL:https://explorebeaufortsc.com
X-WR-CALDESC:Events for Explore Beaufort SC
REFRESH-INTERVAL;VALUE=DURATION:PT1H
X-Robots-Tag:noindex
X-PUBLISHED-TTL:PT1H
BEGIN:VTIMEZONE
TZID:America/New_York
BEGIN:DAYLIGHT
TZOFFSETFROM:-0500
TZOFFSETTO:-0400
TZNAME:EDT
DTSTART:20240310T070000
END:DAYLIGHT
BEGIN:STANDARD
TZOFFSETFROM:-0400
TZOFFSETTO:-0500
TZNAME:EST
DTSTART:20241103T060000
END:STANDARD
BEGIN:DAYLIGHT
TZOFFSETFROM:-0500
TZOFFSETTO:-0400
TZNAME:EDT
DTSTART:20250309T070000
END:DAYLIGHT
BEGIN:STANDARD
TZOFFSETFROM:-0400
TZOFFSETTO:-0500
TZNAME:EST
DTSTART:20251102T060000
END:STANDARD
BEGIN:DAYLIGHT
TZOFFSETFROM:-0500
TZOFFSETTO:-0400
TZNAME:EDT
DTSTART:20260308T070000
END:DAYLIGHT
BEGIN:STANDARD
TZOFFSETFROM:-0400
TZOFFSETTO:-0500
TZNAME:EST
DTSTART:20261101T060000
END:STANDARD
END:VTIMEZONE
BEGIN:VEVENT
DTSTART;TZID=America/New_York:20250314T130000
DTEND;TZID=America/New_York:20250314T160000
DTSTAMP:20260425T144621
CREATED:20250304T032901Z
LAST-MODIFIED:20250307T032432Z
UID:22160-1741957200-1741968000@explorebeaufortsc.com
SUMMARY:Cemetery Walking Tour
DESCRIPTION:Beaufort National Cemetery is the 13th oldest national cemetery in the United States and is the final resting place for over 28\,000 veterans and eligible family members. Would you like to learn about some of the heroes buried here and their stories? Come join our cemetery walking tour. Volunteer docents will take you on a tour through the 161-year old cemetery and learn about our nation’s history through the stories of those who served and defended it. Tours start at the main flagpole. For more information\, contact the cemetery at 843-524-3925.
URL:https://explorebeaufortsc.com/event/cemetery-walking-tour-7/
LOCATION:1601 Boundary Street\, Beaufort\, SC\, United States\, South Carolina 29902\, 1601 Boundary Street\, Beaufort\, SC\, United States\, South Carolina 29902
ORGANIZER;CN="Beaufort National Cemetery":MAILTO:noreply@facebookmail.com
END:VEVENT
BEGIN:VEVENT
DTSTART;TZID=America/New_York:20250314T140000
DTEND;TZID=America/New_York:20250314T153000
DTSTAMP:20260425T144621
CREATED:20250304T032901Z
LAST-MODIFIED:20250307T032434Z
UID:22161-1741960800-1741966200@explorebeaufortsc.com
SUMMARY:Early Release - Lucky Ladybug Paint Party - All Ages
DESCRIPTION:Spend the afternoon painting with your peeps at Happy Art Studio!We will paint a lucky ladybug and enjoy some holiday cookies!
URL:https://explorebeaufortsc.com/event/early-release-lucky-ladybug-paint-party-all-ages/
LOCATION:10 Sam’s Point Way\, 29907\, 10 Sam's Point Way\, 29907
ORGANIZER;CN="Happy Art Studio":MAILTO:noreply@facebookmail.com
END:VEVENT
BEGIN:VEVENT
DTSTART;TZID=America/New_York:20250314T173000
DTEND;TZID=America/New_York:20250314T203000
DTSTAMP:20260425T144621
CREATED:20250207T010913Z
LAST-MODIFIED:20250315T022608Z
UID:21963-1741973400-1741984200@explorebeaufortsc.com
SUMMARY:2025 OYSTER ROAST
DESCRIPTION:Our annual Oyster Roast—jointly sponsored by Friends of Fort Fremont and the SC Native Plant Society will be held at Live Oak Park in Port Royal\, on March 14\, 2025\, from 5:30 until 8:00 PM. And once again we will feature music by the “Sweet Ferns”. Oysters & chili by Sea Eagle Catering. Desserts & Appetizers by The Friends.
URL:https://explorebeaufortsc.com/event/2025-oyster-roast/
LOCATION:Live Oak Park in Port Royal\, SC\, Live Oak Park in Port Royal\, SC
ORGANIZER;CN="Friends of Fort Fremont":MAILTO:noreply@facebookmail.com
END:VEVENT
BEGIN:VEVENT
DTSTART;TZID=America/New_York:20250314T180000
DTEND;TZID=America/New_York:20250314T210000
DTSTAMP:20260425T144621
CREATED:20250207T000358Z
LAST-MODIFIED:20250315T022608Z
UID:21923-1741975200-1741986000@explorebeaufortsc.com
SUMMARY:15th Annual BTR Oyster Roast
DESCRIPTION:Get ready for the 15th Annual Beaufort Twilight Run with an evening of great company and Lowcountry flavor! Your $50 ticket includes fresh oysters from Bluffton Oyster Factory and one beer from Shellring Ale Works. Additional food will be available to order from Shellring\, and as always\, their beertenders will be happy to pour up more pints!
URL:https://explorebeaufortsc.com/event/15th-annual-btr-oyster-roast/
LOCATION:Shellring Ale Works\, 1111 11th street\, Port Royal\, SC\, 29935\, US
ORGANIZER;CN="Beaufort Twilight Run":MAILTO:noreply@facebookmail.com
END:VEVENT
END:VCALENDAR