BEGIN:VCALENDAR
VERSION:2.0
PRODID:-//Explore Beaufort SC - ECPv6.15.20//NONSGML v1.0//EN
CALSCALE:GREGORIAN
METHOD:PUBLISH
X-ORIGINAL-URL:https://explorebeaufortsc.com
X-WR-CALDESC:Events for Explore Beaufort SC
REFRESH-INTERVAL;VALUE=DURATION:PT1H
X-Robots-Tag:noindex
X-PUBLISHED-TTL:PT1H
BEGIN:VTIMEZONE
TZID:America/New_York
BEGIN:DAYLIGHT
TZOFFSETFROM:-0500
TZOFFSETTO:-0400
TZNAME:EDT
DTSTART:20240310T070000
END:DAYLIGHT
BEGIN:STANDARD
TZOFFSETFROM:-0400
TZOFFSETTO:-0500
TZNAME:EST
DTSTART:20241103T060000
END:STANDARD
BEGIN:DAYLIGHT
TZOFFSETFROM:-0500
TZOFFSETTO:-0400
TZNAME:EDT
DTSTART:20250309T070000
END:DAYLIGHT
BEGIN:STANDARD
TZOFFSETFROM:-0400
TZOFFSETTO:-0500
TZNAME:EST
DTSTART:20251102T060000
END:STANDARD
BEGIN:DAYLIGHT
TZOFFSETFROM:-0500
TZOFFSETTO:-0400
TZNAME:EDT
DTSTART:20260308T070000
END:DAYLIGHT
BEGIN:STANDARD
TZOFFSETFROM:-0400
TZOFFSETTO:-0500
TZNAME:EST
DTSTART:20261101T060000
END:STANDARD
END:VTIMEZONE
BEGIN:VEVENT
DTSTART;TZID=America/New_York:20250315T090000
DTEND;TZID=America/New_York:20250315T130000
DTSTAMP:20260425T144822
CREATED:20250224T004836Z
LAST-MODIFIED:20250315T022608Z
UID:22072-1742029200-1742043600@explorebeaufortsc.com
SUMMARY:Yard Sale Jericho Woods Subdv.
DESCRIPTION:Neighborhood wide Yard Sale!! Jericho Woods Neighborhood. Joshua circle at Battery Creek Rd.
URL:https://explorebeaufortsc.com/event/yard-sale-jericho-woods-subdv/
LOCATION:Mossy Oaks\, Mossy Oaks
ORGANIZER;CN="Gretchen Peterson":MAILTO:noreply@facebookmail.com
END:VEVENT
BEGIN:VEVENT
DTSTART;TZID=America/New_York:20250315T093000
DTEND;TZID=America/New_York:20250315T123000
DTSTAMP:20260425T144822
CREATED:20250224T004838Z
LAST-MODIFIED:20250315T022608Z
UID:22074-1742031000-1742041800@explorebeaufortsc.com
SUMMARY:St Patrick’s Day Market
DESCRIPTION:Join the St. Patrick’s Day festivities at the Hilton Head Community Market! Jive with live music\, explore fantastic local shopping\, and savor delicious food and refreshing drinks. It’s a celebration you won’t want to miss—embrace the luck of the Irish with us! 🍀🎶🎉
URL:https://explorebeaufortsc.com/event/st-patricks-day-market/
LOCATION:Shelter Cove Community Park\, Hilton Head Island\, SC\, Shelter Cove Community Park\, Hilton Head Island\, SC
ORGANIZER;CN="Hilton Head Community Market":MAILTO:noreply@facebookmail.com
END:VEVENT
BEGIN:VEVENT
DTSTART;TZID=America/New_York:20250315T150000
DTEND;TZID=America/New_York:20250315T200000
DTSTAMP:20260425T144822
CREATED:20250121T230906Z
LAST-MODIFIED:20250315T022609Z
UID:21729-1742050800-1742068800@explorebeaufortsc.com
SUMMARY:Bluffton St Patrick's Celebration
DESCRIPTION:2nd Annual Bluffton St. Patrick’s Celebration Sunset Block Party & Golf Cart Parade on March 15th! Golf cart parade will kick off a 3 PM at Town Hall followed by Block Party at Oyster Factory Park live music from The Horan Brothers Band & The Chilly Willy Band\, along with a food court\, beer garden\, golf cart parade award ceremony\, and much more.
URL:https://explorebeaufortsc.com/event/bluffton-st-patricks-celebration/
LOCATION:Oyster Factory Park\, 55 Wharf Street\, Bluffton\, SC\, United States\, South Carolina 29910\, Oyster Factory Park\, 55 Wharf Street\, Bluffton\, SC\, United States\, South Carolina 29910
ORGANIZER;CN="Bluffton Sunset Parties":MAILTO:noreply@facebookmail.com
END:VEVENT
BEGIN:VEVENT
DTSTART;TZID=America/New_York:20250315T160000
DTEND;TZID=America/New_York:20250315T180000
DTSTAMP:20260425T144822
CREATED:20250304T032903Z
LAST-MODIFIED:20250315T022609Z
UID:22165-1742054400-1742061600@explorebeaufortsc.com
SUMMARY:St. Patricks Day Cookie Decorating Class
DESCRIPTION:Join us for a fun and festive St. Patrick’s Day Cookie Decorating Class!In this hands-on class\, you’ll learn how to decorate a set of beautifully designed cookies\, including shamrocks\, leprechaun hats\, a foamy mug of green beer\, and more! Whether you’re a beginner or have some experience with royal icing\, this class will teach you step-by-step techniques for piping\, flooding\, and adding intricate details.✨ What You’ll Learn:✔️ How to outline and flood cookies with royal icing✔️ Piping techniques for detailed designs✔️ How to create texture\, dimension\, and fun patterns✔️ Tips for a professional finish🎨 What’s Included:✔️ A set of pre-baked cookies ready to decorate✔️ All icing\, tools\, and supplies provided✔️ Step-by-step instruction in a fun\, relaxed environment✔️ Your own decorated cookies to take home and enjoy! \nYou will receive complete and detailed instructions\, and our recipes as well! \nThis class price includes one cocktail from RLB distillery as well! Cocktail Flight Tours available starting an hour prior to the Event. Cocktails tours also available after the event. Please come 30 minutes early for your cocktail tour or you have the option to do the tour after the cookie decorating event. *All cocktails must be finished before or after the Event.  \nDate: Saturday March 15th Place: RLB Distillery 2139 Boundry St. #102 Beaufort\, SCTime: 4-6pmTickets: 75$
URL:https://explorebeaufortsc.com/event/st-patricks-day-cookie-decorating-class/
LOCATION:Rotten Little Bastard Distillery
ORGANIZER;CN="Frosted Artistry":MAILTO:noreply@facebookmail.com
END:VEVENT
BEGIN:VEVENT
DTSTART;TZID=America/New_York:20250315T160000
DTEND;TZID=America/New_York:20250315T190000
DTSTAMP:20260425T144822
CREATED:20250130T144437Z
LAST-MODIFIED:20250315T022609Z
UID:21834-1742054400-1742065200@explorebeaufortsc.com
SUMMARY:Marsh Madness
DESCRIPTION:Join us for our 2nd Annual Marsh Madness – an evening filled with music & food benefiting Port Royal Sound research!  \nLive Music with the Cluster Shucks | Oyster Roast | BBQ & Brewsin The Weezie Educational Pavilion \nTickets $5021+ Only (Alcohol available for purchase)  \nClick the orange “Book a Program” button on our website for tickets: PortRoyalSoundFoundation.org
URL:https://explorebeaufortsc.com/event/marsh-madness-3/
LOCATION:Port Royal Sound Foundation
ORGANIZER;CN="Port Royal Sound Foundation":MAILTO:noreply@facebookmail.com
END:VEVENT
BEGIN:VEVENT
DTSTART;TZID=America/New_York:20250315T180000
DTEND;TZID=America/New_York:20250315T200000
DTSTAMP:20260425T144822
CREATED:20250304T032907Z
LAST-MODIFIED:20250315T022609Z
UID:22168-1742061600-1742068800@explorebeaufortsc.com
SUMMARY:Denim and Diamonds Scholarship Fundraiser
DESCRIPTION:✨Join us for a night of fun and fundraising to support Scholarships for Military Spouses and Dependents in the Low Country!  \n$25 Price includes heavy appetizers\, music and a cash bar.  \n👖💎 Suggested Dress Code: Wear your favorite denim and add a touch of sparkle! \nhttps://www.parrisislandspousesclub.com/tickets*For non DOD-ID holders\, please purchase your ticket by March 1st to apply for base access. \nThe Parris Island Spouses’ Club is a non-federal entity and is not affiliated with the Marine Corps or the Department of Defense. This is not a DOD-sponsored event.
URL:https://explorebeaufortsc.com/event/denim-and-diamonds-scholarship-fundraiser/
LOCATION:Geiger Blvd\, Beaufort\, SC 29904\, United States\, Geiger Blvd\, Beaufort\, SC 29904\, United States
ORGANIZER;CN="Parris Island Spouses Club":MAILTO:noreply@facebookmail.com
END:VEVENT
BEGIN:VEVENT
DTSTART;TZID=America/New_York:20250315T180000
DTEND;TZID=America/New_York:20250315T210000
DTSTAMP:20260425T144822
CREATED:20250224T004841Z
LAST-MODIFIED:20250315T022609Z
UID:22077-1742061600-1742072400@explorebeaufortsc.com
SUMMARY:Distant Sounds plays St. Patrick's Party at Tomfoolery 3/15 6-9pm
DESCRIPTION:Come help Distant Sounds celebrate St. Patrick’s in the garden at Tomfoolery in Habersham\, Saturday 15-March 6-9pm.Perfect place and time to act a fool!Dancing and a bit of greenery encouraged!
URL:https://explorebeaufortsc.com/event/distant-sounds-plays-st-patricks-party-at-tomfoolery-3-15-6-9pm/
LOCATION:Tomfoolery\, A Premier Sports Drinkery\, Tomfoolery\, A Premier Sports Drinkery
ORGANIZER;CN="Distant Sounds":MAILTO:noreply@facebookmail.com
END:VEVENT
END:VCALENDAR