BEGIN:VCALENDAR
VERSION:2.0
PRODID:-//Explore Beaufort SC - ECPv6.15.20//NONSGML v1.0//EN
CALSCALE:GREGORIAN
METHOD:PUBLISH
X-WR-CALNAME:Explore Beaufort SC
X-ORIGINAL-URL:https://explorebeaufortsc.com
X-WR-CALDESC:Events for Explore Beaufort SC
REFRESH-INTERVAL;VALUE=DURATION:PT1H
X-Robots-Tag:noindex
X-PUBLISHED-TTL:PT1H
BEGIN:VTIMEZONE
TZID:America/New_York
BEGIN:DAYLIGHT
TZOFFSETFROM:-0500
TZOFFSETTO:-0400
TZNAME:EDT
DTSTART:20240310T070000
END:DAYLIGHT
BEGIN:STANDARD
TZOFFSETFROM:-0400
TZOFFSETTO:-0500
TZNAME:EST
DTSTART:20241103T060000
END:STANDARD
BEGIN:DAYLIGHT
TZOFFSETFROM:-0500
TZOFFSETTO:-0400
TZNAME:EDT
DTSTART:20250309T070000
END:DAYLIGHT
BEGIN:STANDARD
TZOFFSETFROM:-0400
TZOFFSETTO:-0500
TZNAME:EST
DTSTART:20251102T060000
END:STANDARD
BEGIN:DAYLIGHT
TZOFFSETFROM:-0500
TZOFFSETTO:-0400
TZNAME:EDT
DTSTART:20260308T070000
END:DAYLIGHT
BEGIN:STANDARD
TZOFFSETFROM:-0400
TZOFFSETTO:-0500
TZNAME:EST
DTSTART:20261101T060000
END:STANDARD
END:VTIMEZONE
BEGIN:VEVENT
DTSTART;TZID=America/New_York:20250318T100000
DTEND;TZID=America/New_York:20250318T130000
DTSTAMP:20260425T180846
CREATED:20250121T230907Z
LAST-MODIFIED:20250315T022610Z
UID:21731-1742292000-1742302800@explorebeaufortsc.com
SUMMARY:Lafayette Bicentennial Celebration
DESCRIPTION:A celebration of the bicentennial of the Marquis de Lafayette’s visit to Beaufort during his farewell tour of the nation in 1825. The event will include lectures\, exhibits\, children’s costume parade\, poster and essay contests\, traveling history displays\, hands-on history programs\, and more\, culminating on March 18 with the arrival of Lafayette\, a 13-gun salute\, a parade procession\, triumphal arch\, historic marker\, 18th century dance demonstrations and more.
URL:https://explorebeaufortsc.com/event/lafayette-bicentennial-celebration/
LOCATION:Downtown Beaufort\, Downtown Beaufort
ORGANIZER;CN="Historic Beaufort Foundation":MAILTO:noreply@facebookmail.com
END:VEVENT
BEGIN:VEVENT
DTSTART;TZID=America/New_York:20250318T170000
DTEND;TZID=America/New_York:20250318T200000
DTSTAMP:20260425T180846
CREATED:20250307T032437Z
LAST-MODIFIED:20250315T022610Z
UID:22263-1742317200-1742328000@explorebeaufortsc.com
SUMMARY:High Wire Distillery Bourbon Dinner
DESCRIPTION:We are thrilled to have High Wire Distillery from Charleston partner with us for our first ever bourbon dinner on March 18th at 5pm at the Ribaut Social Club! \nFounded by Scott Blackwell & Ann Marshall\, High Wire was born of a desire to explore a range of flavor that might be found in lost and forgotten grains. \nTheir roots in farming and organic baking drive them toapproach distilling with the palate and curiosity of adventurous cooks; the exuberance of enthusiastic eaters — and the devotion to regenerative practices like no-till farming and seed preservation. It’s all part of their mission to enhance flavor\, celebrate farmers\, preserve rural lands\, and make drinking an agricultural act. \nAlexander Helms\, High Wire’s Head Distiller and Brand Ambassador will be joining us to present each bourbon and cocktail that will be paired with Chef Rob’s latest creations. Each course will include a taste of bourbon neat and a cocktail. The price is $130 per person and can be booked by calling the inn\, 843-525-1770 or on OpenTable.com: \nAmuse:Steak TartarCrostini\, Creamy Sherry Dressing\, Capers\, Cured Egg Yolk\, CaviarPaired with Jimmy Red Sherry Cask Finished Bourbon https://highwiredistilling.com/product/sherry-cask-finish/ \n1st Course:Fried Green Tomato\, Peppadew aioli\, Bourbon Peach Chutney\, local GreensPaired with Jimmy Red Classic Straight Bourbonhttps://highwiredistilling.com/product/jimmy-red-straight-bourbon-whiskey/ \n2nd CourseFrench Onion SliderRed Onion Jam\, Gruyere cheese\, Bourbon slab Bacon\, garlic butter toasted bunPaired with Jimmy Red Bottled-in-Bond Bourbonhttps://highwiredistilling.com/product/bottled-in-bond/ \n3rd CourseSmoked Pork bellyGrits Cake\, Sriracha Whiskey Glaze\, Napa Slaw\, Crispy ShallotsPaired with Benton’s Smoked Jimmy Red Bourbonhttps://highwiredistilling.com/shop/ \nDessert:Whiskey Strawberry Glaze\, White Chocolate Mousse\, Sponge cake\, Chocolate Balsamic\, Pistachio CrumblePaired with Revival Abruzzi Rye Whiskeyhttps://highwiredistilling.com/product/revival-rye/
URL:https://explorebeaufortsc.com/event/high-wire-distillery-bourbon-dinner/
LOCATION:1103 Bay St\, Beaufort\, SC\, United States\, South Carolina 29902\, 1103 Bay St\, Beaufort\, SC\, United States\, South Carolina 29902
ORGANIZER;CN="Ribaut Social Club":MAILTO:noreply@facebookmail.com
END:VEVENT
BEGIN:VEVENT
DTSTART;TZID=America/New_York:20250318T173000
DTEND;TZID=America/New_York:20250318T200000
DTSTAMP:20260425T180846
CREATED:20250218T022233Z
LAST-MODIFIED:20250218T022233Z
UID:22014-1742319000-1742328000@explorebeaufortsc.com
SUMMARY:Dancing With Lafayette at the Beaufort Arsenal
DESCRIPTION:As part of a City-wide commemoration of the Marquis de Lafayette’s return to the United States\, and to Beaufort\, 50 years after the successful American Revolution ended\, the Beaufort History Museum is proud to present “Dancing with Lafayette\,” a Ball in the Arsenal Courtyard on March 18th. \nDance lessons/instructions and music will be made available through a dance master. Lessons are from 5:30-6:00 in the courtyard. The ball begins at 6:00 and ends at 8:00.\n\nPeriod dress/costumes are suggested\, but not required. Authentic period finger foods will be available along with today’s beer and wine.\n\nLimited tickets are now on sale at only $40 each.\nGuests at the event will also be encouraged to visit the Museum and a newly renovated room adjacent to the Museum on the second floor of the Arsenal. In this room\, the Museum will showcase a circulating Lafayette exhibit that will draw visitors from throughout South Carolina and beyond.\n\nThe Arsenal and Beaufort History Museum are located at 713 Craven Street in historic downtown Beaufort\, SC.
URL:https://explorebeaufortsc.com/event/dancing-with-lafayette-at-the-beaufort-arsenal/
LOCATION:The Beaufort Arsenal\, 713 Craven St\, Beaufort\, SC\, 29902\, US
ATTACH;FMTTYPE=image/jpeg:https://explorebeaufortsc.com/wp-content/uploads/2025/02/dancingwithlafayette12.jpg
END:VEVENT
BEGIN:VEVENT
DTSTART;TZID=America/New_York:20250318T173000
DTEND;TZID=America/New_York:20250318T200000
DTSTAMP:20260425T180846
CREATED:20250304T032909Z
LAST-MODIFIED:20250315T022610Z
UID:22170-1742319000-1742328000@explorebeaufortsc.com
SUMMARY:Dancing With Lafayette
DESCRIPTION:As part of a City-wide commemoration of the Marquis de Lafayette’s return to the United States\, and to Beaufort\, 50 years after the successful American Revolution ended\, The Beaufort History Museum is proud to present “Dancing with Lafayette\,” a Ball in the Arsenal Courtyard on March 18th.Dance lessons/instructions and music will be made available through a dance master. Lessons from 5:30-6:00 in the courtyard. The ball begins at 6:00 and ends at 8:00.Period dress/costumes are suggested\, but not required. Authentic period finger foods will be available along with today’s beer and wine.Limited tickets are now on sale at only $40 each.Guests at the event will also be encouraged to visit the Museum and a newly renovated room adjacent to the Museum on the second floor of the Arsenal. In this room\, the Museum will showcase a circulating Lafayette exhibit that will draw visitors from throughout South Carolina and beyond. \nThe Arsenal and Beaufort History Museum is located at 713 Craven Street in historic downtown Beaufort\, SC.
URL:https://explorebeaufortsc.com/event/dancing-with-lafayette/
LOCATION:The Arsenal\, 713 Craven St\, Beaufort\, SC\, United States\, South Carolina 29902\, The Arsenal\, 713 Craven St\, Beaufort\, SC\, United States\, South Carolina 29902
ORGANIZER;CN="Beaufort History Museum":MAILTO:noreply@facebookmail.com
END:VEVENT
BEGIN:VEVENT
DTSTART;TZID=America/New_York:20250318T173000
DTEND;TZID=America/New_York:20250318T203000
DTSTAMP:20260425T180846
CREATED:20250304T032911Z
LAST-MODIFIED:20250315T022610Z
UID:22172-1742319000-1742329800@explorebeaufortsc.com
SUMMARY:Dancing With Lafayette
DESCRIPTION:As part of a City-wide commemoration of the Marquis de Lafayette’s return to the United States\, and to Beaufort\, 50 years after the successful American Revolution ended\, The Beaufort History Museum is proud to present “Dancing with Lafayette\,” a Ball in the Arsenal Courtyard on March 18th. \nDance lessons/instructions and music will be made available through a dance master. Lessons from 5:30-6:00 in the courtyard. The ball begins at 6:00 and ends at 8:00.Period dress/costumes are suggested\, but not required. Authentic period finger foods will be available along with today’s beer and wine. \nGuests at the event will also be encouraged to visit the Museum and a newly renovated room adjacent to the Museum on the second floor of the Arsenal. In this room\, the Museum will showcase a circulating Lafayette exhibit that will draw visitors from throughout South Carolina and beyond. \nThe Arsenal and Beaufort History Museum is located at 713 Craven Street in historic downtown Beaufort\, SC.
URL:https://explorebeaufortsc.com/event/dancing-with-lafayette-2/
LOCATION:713 Craven St\, Beaufort\, SC 29902-5571\, United States
ORGANIZER;CN="The American Friends of Lafayette":MAILTO:noreply@facebookmail.com
END:VEVENT
END:VCALENDAR