BEGIN:VCALENDAR
VERSION:2.0
PRODID:-//Explore Beaufort SC - ECPv6.15.20//NONSGML v1.0//EN
CALSCALE:GREGORIAN
METHOD:PUBLISH
X-ORIGINAL-URL:https://explorebeaufortsc.com
X-WR-CALDESC:Events for Explore Beaufort SC
REFRESH-INTERVAL;VALUE=DURATION:PT1H
X-Robots-Tag:noindex
X-PUBLISHED-TTL:PT1H
BEGIN:VTIMEZONE
TZID:America/New_York
BEGIN:DAYLIGHT
TZOFFSETFROM:-0500
TZOFFSETTO:-0400
TZNAME:EDT
DTSTART:20240310T070000
END:DAYLIGHT
BEGIN:STANDARD
TZOFFSETFROM:-0400
TZOFFSETTO:-0500
TZNAME:EST
DTSTART:20241103T060000
END:STANDARD
BEGIN:DAYLIGHT
TZOFFSETFROM:-0500
TZOFFSETTO:-0400
TZNAME:EDT
DTSTART:20250309T070000
END:DAYLIGHT
BEGIN:STANDARD
TZOFFSETFROM:-0400
TZOFFSETTO:-0500
TZNAME:EST
DTSTART:20251102T060000
END:STANDARD
BEGIN:DAYLIGHT
TZOFFSETFROM:-0500
TZOFFSETTO:-0400
TZNAME:EDT
DTSTART:20260308T070000
END:DAYLIGHT
BEGIN:STANDARD
TZOFFSETFROM:-0400
TZOFFSETTO:-0500
TZNAME:EST
DTSTART:20261101T060000
END:STANDARD
END:VTIMEZONE
BEGIN:VEVENT
DTSTART;TZID=America/New_York:20250321T150000
DTEND;TZID=America/New_York:20250321T170000
DTSTAMP:20260425T144829
CREATED:20250130T144437Z
LAST-MODIFIED:20250315T022611Z
UID:21835-1742569200-1742576400@explorebeaufortsc.com
SUMMARY:'Splish Splash' The Music of Bobby Darin starring Ron Gartner
DESCRIPTION:This fabulous show celebrates everything Bobby Darin — Teen Idol\, Singer-Songwriter\, Movie Star and Nightclub Performer – his music\, his life and times. Snap your fingers to great Darin hits like Mack The Knife\, Splish Splash\, Dream Lover\, Beyond the Sea\, Clementine\, and many many more. Hear the backstage stories about this Entertainment Phenomenon and honor the legacy of the swingin-est guy who ever put on a tux in a show that covers everything from Darin’s rock ‘n’ roll days to his legendary Evening at the Copa. If you loved Bobby Darin\, this show is a must-see! \nUpcoming Dates: Friday\, March 21 at 3:00 PM and 7:30 PMTicket Price: $48 for adults\, $45 for seniors/military\, $30 for studentsVenue: USCB Center for the Arts (801 Carteret St. Beaufort\, SC 29902) \nhttps://www.facebook.com/events/443993268610403/?event_time_id=443993271943736
URL:https://explorebeaufortsc.com/event/splish-splash-the-music-of-bobby-darin-starring-ron-gartner/
LOCATION:801 Carteret St\, Beaufort\, SC\, United States\, South Carolina 29902\, 801 Carteret St\, Beaufort\, SC\, United States\, South Carolina 29902
ORGANIZER;CN="USCB Center for the Arts":MAILTO:noreply@facebookmail.com
END:VEVENT
BEGIN:VEVENT
DTSTART;TZID=America/New_York:20250321T160000
DTEND;TZID=America/New_York:20250321T190000
DTSTAMP:20260425T144829
CREATED:20250315T022611Z
LAST-MODIFIED:20250315T022611Z
UID:22301-1742572800-1742583600@explorebeaufortsc.com
SUMMARY:Habersham Farmers Market
DESCRIPTION:Join us for fresh produce and handcrafted items from our amazing vendors \nhttps://www.facebook.com/events/610706071953415/?event_time_id=610706205286735
URL:https://explorebeaufortsc.com/event/habersham-farmers-market-24/
LOCATION:Habersham South Carolina\, Habersham South Carolina
ORGANIZER;CN="Habersham Farmers Market":MAILTO:noreply@facebookmail.com
END:VEVENT
BEGIN:VEVENT
DTSTART;TZID=America/New_York:20250321T193000
DTEND;TZID=America/New_York:20250321T233000
DTSTAMP:20260425T144829
CREATED:20250130T144438Z
LAST-MODIFIED:20250315T022611Z
UID:21836-1742585400-1742599800@explorebeaufortsc.com
SUMMARY:Gullah/Geechee Indigo Ball
DESCRIPTION:Dress to impress for the Gullah/Geechee Indigo Ball on historic St. Helena Island\, SC in the Gullah/Geechee Nation! \nJoin us on historic St. Helena Island at the Frissell Community House at Penn Center for the Gullah/Geechee Indigo Ball. \nThis outstanding grown folks ONLY party is being brought to you by All Mobile Productions™(AMP™) to raise funds for the Gullah/Geechee Land & Legacy Fund. The evening will feature Gullah/Geechee cuisine and an R&B mix by DJ Kwame Sha and DJ Apollo. \n30 years old and over only. \nDress to impress in a shade of blue and put on your dancing shoes. \nE gwine be a time fa tru!
URL:https://explorebeaufortsc.com/event/gullah-geechee-indigo-ball/
LOCATION:16 Penn Center Circle East\,Saint Helena Island\,29920\,US\, 16 Penn Center Circle East\,Saint Helena Island\,29920\,US
ORGANIZER;CN="Eventbrite":MAILTO:noreply@facebookmail.com
END:VEVENT
END:VCALENDAR