BEGIN:VCALENDAR
VERSION:2.0
PRODID:-//Explore Beaufort SC - ECPv6.15.20//NONSGML v1.0//EN
CALSCALE:GREGORIAN
METHOD:PUBLISH
X-ORIGINAL-URL:https://explorebeaufortsc.com
X-WR-CALDESC:Events for Explore Beaufort SC
REFRESH-INTERVAL;VALUE=DURATION:PT1H
X-Robots-Tag:noindex
X-PUBLISHED-TTL:PT1H
BEGIN:VTIMEZONE
TZID:America/New_York
BEGIN:DAYLIGHT
TZOFFSETFROM:-0500
TZOFFSETTO:-0400
TZNAME:EDT
DTSTART:20240310T070000
END:DAYLIGHT
BEGIN:STANDARD
TZOFFSETFROM:-0400
TZOFFSETTO:-0500
TZNAME:EST
DTSTART:20241103T060000
END:STANDARD
BEGIN:DAYLIGHT
TZOFFSETFROM:-0500
TZOFFSETTO:-0400
TZNAME:EDT
DTSTART:20250309T070000
END:DAYLIGHT
BEGIN:STANDARD
TZOFFSETFROM:-0400
TZOFFSETTO:-0500
TZNAME:EST
DTSTART:20251102T060000
END:STANDARD
BEGIN:DAYLIGHT
TZOFFSETFROM:-0500
TZOFFSETTO:-0400
TZNAME:EDT
DTSTART:20260308T070000
END:DAYLIGHT
BEGIN:STANDARD
TZOFFSETFROM:-0400
TZOFFSETTO:-0500
TZNAME:EST
DTSTART:20261101T060000
END:STANDARD
END:VTIMEZONE
BEGIN:VEVENT
DTSTART;TZID=America/New_York:20250322T100000
DTEND;TZID=America/New_York:20250322T113000
DTSTAMP:20260425T144854
CREATED:20250224T004842Z
LAST-MODIFIED:20250315T022612Z
UID:22081-1742637600-1742643000@explorebeaufortsc.com
SUMMARY:Paper Making - RSVP Required
DESCRIPTION:Click the orange “Book A Program” button on our website to RSVPportroyalsoundfoundation.org \n$15 per participant (plus fees) \nLearn the art of paper making using scrap paper many would throw away. Participants will be provided with all the materials they need for this activity and get to take home the paper they make.  \nAll ages welcome\, children must be accompanied by an adult.
URL:https://explorebeaufortsc.com/event/paper-making-rsvp-required/
LOCATION:310 Okatie Hwy\, Okatie\, SC\, United States\, South Carolina 29909\, 310 Okatie Hwy\, Okatie\, SC\, United States\, South Carolina 29909
ORGANIZER;CN="Port Royal Sound Foundation":MAILTO:noreply@facebookmail.com
END:VEVENT
BEGIN:VEVENT
DTSTART;TZID=America/New_York:20250322T100000
DTEND;TZID=America/New_York:20250322T160000
DTSTAMP:20260425T144854
CREATED:20250213T210902Z
LAST-MODIFIED:20250213T210902Z
UID:21996-1742637600-1742659200@explorebeaufortsc.com
SUMMARY:Revolutionary War Reenactment at Beaufort Arsenal
DESCRIPTION:Calling all of Beaufort’s Children!!! \nIt’s 1780 and Children’s Day at the Museum 10:00 – 4:00 Cannon firing at 10:00 a.m.\, 12:00 p.m.\, and 2:00 p.m. \nThe Beaufort History Museum will be hosting a Revolutionary War Living History Reenactment on Craven Street in front of the Arsenal (closed to traffic for this event). \nChildren will be divided into Patriots and Loyalists to fight in this recreation of the Battle of Port Royal Island in celebration of the 250th anniversary of the American Revolutionary War. \nWe need at least 50 children per battle. Designed and scripted to meet state standards\, this has been a proven highly successful fun hands-on inquiry-based learning experience for children of all ages. Authentic time period hats and child safe musket replicas will be provided. \nThree battles will be fought: 10:00 a.m.\, 12:00 p.m.\, and 2:00 p.m. starting with the firing of the cannon. Please make sure your children are on time in order to participate. This day will be funded through a grant from the 250th  anniversary of the South Carolina American Revolution Sestercentennial Commission (SC250). \nChildren will learn drills\, period medical practices and the fight against historical epidemics\, how to carry and load a musket (using black sugar and gummy balls)\, and a cannon and ballistics lesson in which Warrior Brigade Commander Tom Oblak (retired U.S. Army Infantry Officer) and historian Robert Ryals will lead an interactive session on Revolutionary War ballistics. \nSoldiers can handle a real cannon and test their aim with a “hand cannon\,” all child friendly and safe. No real ammo will be used. \nDon’t miss this rare opportunity! \nThe mission of BHM is to increase and diffuse knowledge by the maintenance of a museum that displays\, educates and enlightens the public on the art\, science\, history and industry of this culturally rich area and by the preservation and protection of artifacts that document that heritage. \nThe Beaufort Arsenal and Beaufort History Museum are located at 713 Craven Street in historic downtown Beaufort\, SC.
URL:https://explorebeaufortsc.com/event/revolutionary-war-reenactment-at-beaufort-arsenal/
LOCATION:The Beaufort Arsenal\, 713 Craven St\, Beaufort\, SC\, 29902\, US
ATTACH;FMTTYPE=image/jpeg:https://explorebeaufortsc.com/wp-content/uploads/2025/02/southerncampaign1780RobertClay.jpg
END:VEVENT
BEGIN:VEVENT
DTSTART;TZID=America/New_York:20250322T100000
DTEND;TZID=America/New_York:20250322T160000
DTSTAMP:20260425T144854
CREATED:20250224T004842Z
LAST-MODIFIED:20250508T152821Z
UID:22082-1742637600-1742659200@explorebeaufortsc.com
SUMMARY:Revolutionary War Reenactment at Beaufort Arsenal
DESCRIPTION:Calling all of Beaufort’s Children!!! \nIt’s 1780 and Children’s Day at the Museum 10:00 – 4:00 Cannon firing at 10:00 a.m.\, 12:00 p.m.\, and 2:00 p.m. \nThe Beaufort History Museum will be hosting a Revolutionary War Living History Reenactment on a closed down Craven Street in front of the Arsenal.\nThe public is invited to enjoy the reenactment\, and children are needed to attend and participate in the recreation of the Battle of Port Royal Island. \nChildren will be divided into Patriots and Loyalists to fight in this recreation of the Battle of Port Royal Island in celebration of the 250th anniversary of the American Revolutionary War.\nWe need at least 50 children per battle. Designed and scripted to meet state standards\, this has been a proven highly successful fun hands-on inquiry-based learning experience for children of all ages. \nAuthentic time period hats and child safe musket replicas will be provided. Three battles will be fought: 10:00 a.m.\, 12:00 p.m.\, and 2:00 p.m. starting with the firing of the cannon. Please make sure your children are on time in order to participate.\nThis day will be funded through a grant from the 250th\nanniversary of the South Carolina American Revolution Sestercentennial Commission (SC250). \nChildren will learn drills\, period medical practices and the fight against historical epidemics\, how to carry and load a musket (using black sugar and gummy balls)\, and a cannon and ballistics lesson in which Warrior Brigade Commander Tom Oblak (retired U.S. Army Infantry Officer) and historian Robert Ryals will lead an interactive session on Revolutionary War ballistics.\nSoldiers can handle a real cannon and test their aim with a “hand cannon\,” all child friendly and safe. No real ammo will be used. \nDon’t miss this rare opportunity! \nThe mission of BHM is to increase and diffuse knowledge by the maintenance of a museum that displays\, educates and enlightens the public on the art\, science\, history and industry of this culturally rich area and by the preservation and protection of artifacts that document that heritage. \nThe Beaufort Arsenal and Beaufort History Museum are located at 713 Craven Street in historic downtown Beaufort\, SC.
URL:https://explorebeaufortsc.com/event/revolutionary-war-reenactment-at-beaufort-arsenal-2/
LOCATION:The Arsenal\, 713 Craven St\, Beaufort\, SC\, United States\, South Carolina 29902\, The Arsenal\, 713 Craven St\, Beaufort\, SC\, United States\, South Carolina 29902
ORGANIZER;CN="Beaufort History Museum":MAILTO:noreply@facebookmail.com
END:VEVENT
BEGIN:VEVENT
DTSTART;TZID=America/New_York:20250322T100000
DTEND;TZID=America/New_York:20250322T160000
DTSTAMP:20260425T144854
CREATED:20250315T022612Z
LAST-MODIFIED:20250315T022612Z
UID:22303-1742637600-1742659200@explorebeaufortsc.com
SUMMARY:Marine Resources Division Open House
DESCRIPTION:Join us for an Open House honoring South Carolina’s coastal waters and the people who work to study and protect them. Meet SCDNR’s marine biologists\, fisheries managers\, and educators and get a behind-the-scenes look at their work in a fun and relaxed setting. Open House is a free\, family-friendly event with dozens of activities for all ages\, including: \n+ Observation tanks with live marine animals 🐚+ Fishing and casting tutorials 🎣+ Research vessel tours ️🛥️+ Dozens of other marine science booths 🐟 \nPLEASE NOTE: Car parking will only be available at James Island Charter High School (1000 Fort Johnson Rd\, Charleston\, SC 29412)\, where shuttles will be waiting to transport visitors to the Marine Resources Center. The last shuttle will leave James Island Charter at 3pm. \nParking for bikes\, golf carts and disabled parking permit-holders is available directly at the Marine Resources Center (217 Fort Johnson Road\, Charleston\, SC 29405). Only service animals are permitted. \nAdmission to the Open House is free and no tickets are required. Food and drinks will be available for purchase on site\, and families are welcome to picnic on the point overlooking Charleston Harbor. We encourage visitors to bring their reusable water bottles to fill up at water stations. Only service animals are permitted at the event. \nThe event will be held rain or shine\, so dress for outside weather..
URL:https://explorebeaufortsc.com/event/marine-resources-division-open-house/
LOCATION:SCDNR Marine Resources Division\, 217 Fort Johnson Road\, Charleston\, SC 29412\, SCDNR Marine Resources Division\, 217 Fort Johnson Road\, Charleston\, SC 29412
ORGANIZER;CN="South Carolina Department of Natural Resources":MAILTO:noreply@facebookmail.com
END:VEVENT
BEGIN:VEVENT
DTSTART;TZID=America/New_York:20250322T103000
DTEND;TZID=America/New_York:20250322T123000
DTSTAMP:20260425T144854
CREATED:20250304T032914Z
LAST-MODIFIED:20250315T022612Z
UID:22177-1742639400-1742646600@explorebeaufortsc.com
SUMMARY:Sweetgrass Basket-March Class! 3 SPOTS LEFT!
DESCRIPTION:We are fortunate to have a March class available!🥳  \n🧺 Love sweetgrass baskets and always dreamed of making one yourself?  \n🧺 Now’s your chance! Join us for an exclusive class with the renowned Andrea Cayetano-Jefferson\, a Charleston-based artist behind Gullah Sweetgrass Baskets. Recently featured in Southern Living Magazine and with her work showcased at the Smithsonian\, she brings her incredible talent and tradition right to you! \n🧺 Learn the art of sweetgrass basket weaving\, a cherished Gullah tradition using Lowcountry sweetgrass\, bulrush\, pine needles\, and palmetto fronds. This craft\, passed down through generations\, traces its origins to West Africa. \n🧺 You’ll create your very own basket starting with a 5-inch-wide base\, and you’ll get to choose from two colors to craft a beautiful and unique piece! \nWith limited spots\, don’t miss this opportunity to take home a piece of Gullah culture! \n– Date: March 22\, 10:30a-12:30 \n– Cost: $100 (includes class + materials) \nSign up now ➡️ https://marshviewmercantile.commentsold.com/products/sweetgrass-basket-class-saturday-march-22-1030-1230 \nLet’s weave some magic! 🧺
URL:https://explorebeaufortsc.com/event/sweetgrass-basket-march-class/
LOCATION:Marshview Mercantile\, 2631 Boundary St\, Beaufort\, SC\, 29906\, US
ORGANIZER;CN="Marshview Mercantile":MAILTO:noreply@facebookmail.com
END:VEVENT
BEGIN:VEVENT
DTSTART;TZID=America/New_York:20250322T110000
DTEND;TZID=America/New_York:20250322T170000
DTSTAMP:20260425T144854
CREATED:20250130T144438Z
LAST-MODIFIED:20250315T022613Z
UID:21837-1742641200-1742662800@explorebeaufortsc.com
SUMMARY:Hilton Head Wingfest - Chicken Wing Festival
DESCRIPTION:Wing Festival 2025: A Weekend to Savor!MAIN EVENT: Saturday\, March 22\, 2025Time: 11am-5pmLocation: Lowcountry Celebration Park\, HHI\, SCAdmission: $10 per person\, Children under 11 are FREE!Food\, beverages\, and activities are sold separately. \nWhat to Expect:Get ready for a finger-lickin’ good time! Saturday’s event will feature 20–25 local restaurants serving up their best wings\, with over 8\,000 lbs of chicken wings prepared fresh for you.  \nThe event promises a fun-filled\, family-friendly atmosphere\, complete with:Live Music\, Kid’s Zone & Attractions\, Kid’s Wing Bobbing Competition\, and Adult Wing Eating Contest. \nVote for the Best Wings: Help crown the champion at 4:30pm!Food & Payment Info:Wings Punch Cards (purchase required):6 Wings: $1212 Wings: $22 (Save $2)24 Wings: $44 (Save $4)50 Wings: $90 (Save $10)Payments: Credit cards and Apple Pay only—no cash accepted. \nBAND LINE UP11 -12 pm | Southern Heat Band12 – 2 pm | Tru Gentlemen2 – 3 pm | Southern Heat Band3 – 5 pm | Naked Karate Girls \nALL PROCEEDS BENEFIT ISLAND REC’S CHILDREN’S SCHOLARSHIP PROGRAM! \nPREPARTY: Friday\, March 21\, 2025Time: 6–9pmLocation: Lincoln and South Brewing CompanyAdmission: Free to attend (food & drinks sold separately). \nKick off the weekend with a relaxed evening featuring: \nLive music by Soul Remedy.Yard games\, fire pits\, and March Madness on a jumbo TV.Raffles with chances to win free wing punch cards or event admission.Note: Seating is limited—bring your own chairs! \nAFTERPARTY:Save room for the official Wingfest After Party at The Bank — just a short 8 minute walk from the park. Live music by Cornbred. \nDon’t miss this ultimate celebration of wings\, fun\, and flavor! Bring your appetite and your friends for a weekend to remember.
URL:https://explorebeaufortsc.com/event/hliton-head-wingfest-chicken-wing-festival/
LOCATION:Lowcountry Celebration Park
ORGANIZER;CN="Island Recreation Center":MAILTO:noreply@facebookmail.com
END:VEVENT
BEGIN:VEVENT
DTSTART;TZID=America/New_York:20250322T113000
DTEND;TZID=America/New_York:20250322T130000
DTSTAMP:20260425T144854
CREATED:20250224T004843Z
LAST-MODIFIED:20250315T022613Z
UID:22083-1742643000-1742648400@explorebeaufortsc.com
SUMMARY:Balance Workshop with Go Yoga Jo
DESCRIPTION:Join the talented & knowledgeable Jo Heckert for a 90-minute workshop. Immerse yourself in the world of balance. How we can improve it\, how we can lose it\, why we need it\, and how we can support ourselves to achieve better balance. \n$45 Members | $55 Non MembersMinimum of 6 Participants \nKindly RSVP by March 19th Payment due in full to complete the reservation. \nAll cancellations made after the RSVP date are non-refundable.  \nRegister through Mindbody at celadonclub.com Call 843.379.1088
URL:https://explorebeaufortsc.com/event/balance-workshop-with-go-yoga-jo/
LOCATION:61 Celadon Drive\, Beaufort\, SC\, United States\, South Carolina 29907\, 61 Celadon Drive\, Beaufort\, SC\, United States\, South Carolina 29907
ORGANIZER;CN="Celadon Club Wellness Center":MAILTO:noreply@facebookmail.com
END:VEVENT
BEGIN:VEVENT
DTSTART;TZID=America/New_York:20250322T140000
DTEND;TZID=America/New_York:20250322T170000
DTSTAMP:20260425T144854
CREATED:20250224T004843Z
LAST-MODIFIED:20250315T022613Z
UID:22084-1742652000-1742662800@explorebeaufortsc.com
SUMMARY:4th Annual Combined GBNF Memorial Party
DESCRIPTION:Four years ago\, we made the heartfelt decision to combine the celebrations honoring the lives of our Gone But Not Forgotten (GBNF) Brothers into a single memorial event. While this choice wasn’t made lightly\, it allows us to come together as one family to celebrate their legacies. \nJoin us on March 22nd as we honor the lives of Porkchop (1/24/09)\, Luis (3/23/12)\, Joe Capone (6/26/21)\, and PK (12/27/23). \nThe day will begin with a memorial ride at 1400 (route TBD but may be similar to last year as we rode to the 3 locations in Beaufort/Jasper County and returned to the clubhouse…approx. 80 mile loop) and conclude with dinner at 1800. \nWe look forward to seeing everyone as we gather to remember and celebrate these incredible lives.
URL:https://explorebeaufortsc.com/event/4th-annual-combined-gbnf-memorial-party/
LOCATION:3116 Trask Parkway\, Beaufort\, SC\, United States\, South Carolina 29906\, 3116 Trask Parkway\, Beaufort\, SC\, United States\, South Carolina 29906
ORGANIZER;CN="Wingmen Motorcycle Club Beaufort County Chapter":MAILTO:noreply@facebookmail.com
END:VEVENT
BEGIN:VEVENT
DTSTART;TZID=America/New_York:20250322T153000
DTEND;TZID=America/New_York:20250322T183000
DTSTAMP:20260425T144854
CREATED:20250224T004849Z
LAST-MODIFIED:20250315T022613Z
UID:22087-1742657400-1742668200@explorebeaufortsc.com
SUMMARY:Celebrate Spring High Tea!
DESCRIPTION:Celebrate the start of spring with our monthly\, popular High Tea Service at Magnolia Cafe. Three options to choose from for service\, reservations are required.We sell out each event\, so don’t delay! Please call 843-816-8535 to reserve.
URL:https://explorebeaufortsc.com/event/celebrate-spring-high-tea/
LOCATION:703 Congress St\, Beaufort\, SC\, United States\, South Carolina 29902\, 703 Congress St\, Beaufort\, SC\, United States\, South Carolina 29902
ORGANIZER;CN="Magnolia Cafe Beaufort":MAILTO:noreply@facebookmail.com
END:VEVENT
BEGIN:VEVENT
DTSTART;TZID=America/New_York:20250322T163000
DTEND;TZID=America/New_York:20250322T183000
DTSTAMP:20260425T144854
CREATED:20250304T032917Z
LAST-MODIFIED:20250315T022614Z
UID:22181-1742661000-1742668200@explorebeaufortsc.com
SUMMARY:Silent Book Club Beaufort
DESCRIPTION:Silent Book Club Beaufort\, a unique take on the traditional book club\, will hold its next meetup on Saturday\, March 22\, from 4:30 to 6:30pm at the nonprofit Pat Conroy Literary Center (601 Bladen St.). A relaxed and pressure-free space for readers of all types\, this community gathering invites book lovers to enjoy their current reads in a welcoming and peaceful atmosphere. \nSilent Book Club Beaufort is co-sponsored by the Conroy Center and the student book club DAYLO (Diversity Awareness Youth Literacy Organization)\, bringing together two organizations dedicated to fostering community connections and celebrating the love of literature. \nUnlike traditional book clubs\, Silent Book Club Beaufort has no assigned reading\, no deadlines\, and no discussions required. Whether you prefer ebooks\, audiobooks\, comic books\, textbooks\, or paperbacks\, readers are invited to bring their book of choice\, settle in\, and savor the joy of uninterrupted reading among like-minded individuals. \nSilent Book Club Beaufort also features a book swap: Leave a book\, take a book.  \nThe casual meetups provide an excellent opportunity to discover new book recommendations\, make friends\, and reconnect with the love of reading. Whether you’re a lifelong bookworm or just getting back into reading\, everyone is welcome.  \nSilent Book Club Beaufort is free to attend and proudly supports local businesses and organizations. Additional dates and locations will be announced soon via the SBCB Instagram page at www.instagram.com/silentbookclubbeaufort.
URL:https://explorebeaufortsc.com/event/silent-book-club-beaufort-3/
LOCATION:601 Bladen Street\, Beaufort\, SC\, United States\, South Carolina 29902\, 601 Bladen Street\, Beaufort\, SC\, United States\, South Carolina 29902
ORGANIZER;CN="Pat Conroy Literary Center":MAILTO:noreply@facebookmail.com
END:VEVENT
END:VCALENDAR