BEGIN:VCALENDAR
VERSION:2.0
PRODID:-//Explore Beaufort SC - ECPv6.15.20//NONSGML v1.0//EN
CALSCALE:GREGORIAN
METHOD:PUBLISH
X-ORIGINAL-URL:https://explorebeaufortsc.com
X-WR-CALDESC:Events for Explore Beaufort SC
REFRESH-INTERVAL;VALUE=DURATION:PT1H
X-Robots-Tag:noindex
X-PUBLISHED-TTL:PT1H
BEGIN:VTIMEZONE
TZID:America/New_York
BEGIN:DAYLIGHT
TZOFFSETFROM:-0500
TZOFFSETTO:-0400
TZNAME:EDT
DTSTART:20240310T070000
END:DAYLIGHT
BEGIN:STANDARD
TZOFFSETFROM:-0400
TZOFFSETTO:-0500
TZNAME:EST
DTSTART:20241103T060000
END:STANDARD
BEGIN:DAYLIGHT
TZOFFSETFROM:-0500
TZOFFSETTO:-0400
TZNAME:EDT
DTSTART:20250309T070000
END:DAYLIGHT
BEGIN:STANDARD
TZOFFSETFROM:-0400
TZOFFSETTO:-0500
TZNAME:EST
DTSTART:20251102T060000
END:STANDARD
BEGIN:DAYLIGHT
TZOFFSETFROM:-0500
TZOFFSETTO:-0400
TZNAME:EDT
DTSTART:20260308T070000
END:DAYLIGHT
BEGIN:STANDARD
TZOFFSETFROM:-0400
TZOFFSETTO:-0500
TZNAME:EST
DTSTART:20261101T060000
END:STANDARD
END:VTIMEZONE
BEGIN:VEVENT
DTSTART;TZID=America/New_York:20250328T110000
DTEND;TZID=America/New_York:20250328T140000
DTSTAMP:20260425T144851
CREATED:20250304T032920Z
LAST-MODIFIED:20250325T134031Z
UID:22184-1743159600-1743170400@explorebeaufortsc.com
SUMMARY:Cemetery Walking Tour
DESCRIPTION:Beaufort National Cemetery is the 13th oldest national cemetery in the United States and is the final resting place for over 28\,000 veterans and eligible family members. Would you like to learn about some of the heroes buried here and their stories? Come join our cemetery walking tour. Volunteer docents will take you on a tour through the 161-year old cemetery and learn about our nation’s history through the stories of those who served and defended it. Tours start at the main flagpole. For more information\, contact the cemetery at 843-524-3925.
URL:https://explorebeaufortsc.com/event/cemetery-walking-tour-8/
LOCATION:1601 Boundary Street\, Beaufort\, SC\, United States\, South Carolina 29902\, 1601 Boundary Street\, Beaufort\, SC\, United States\, South Carolina 29902
ORGANIZER;CN="Beaufort National Cemetery":MAILTO:noreply@facebookmail.com
END:VEVENT
BEGIN:VEVENT
DTSTART;TZID=America/New_York:20250328T123000
DTEND;TZID=America/New_York:20250328T153000
DTSTAMP:20260425T144851
CREATED:20250130T144438Z
LAST-MODIFIED:20250325T134347Z
UID:21840-1743165000-1743175800@explorebeaufortsc.com
SUMMARY:Volunteer: Oyster Reef Build with SCDNR
DESCRIPTION:Get muddy with us as we volunteer with the South Carolina Department of Natural Resources’ Oyster Recycling and Enhancement program (SCDNR SCORE) to restore oyster reefs along the Beaufort River! \nWHAT TO EXPECT:\nWhile reef builds are a blast\, they are labor intensive! Expect to get muddy and wet\, be in the sun\, and get some exercise. Volunteers should be capable of and enjoy working in soft pluff mud while lifting and passing up to 40-pound bags of oyster shell and wire cages. \nWe will meet at the Parris Island Boat Ramp (off-base) located at 21 Marina Blvd to sign volunteer waivers\, meet SCDNR’s oyster restoration crew\, learn about the importance of oyster reefs to our coastal environment\, and hear the game plan for the day. Following the briefing\, we will load the material onto the boats and head out to the site for the restoration. \nWHAT TO WEAR/BRING:\n– Closed-toe shoes. Rainboots/ muck boots are recommended. If you do not have boots\, old sneakers will work. No sandals!\n– Clothes you don’t mind getting muddy or stained.\n– Hat\n– Sunscreen\n– Reusable water bottle – there will be a water cooler to refill.\n– I recommend leaving a set of clean clothes in your car to change into after the build \nRegistration required as there is limited space\, and we need an accurate headcount for the boats. \n— \nPlease note\, this is challenging\, but rewarding\, work. If this is not within your wheelhouse\, please check out our other volunteer and event opportunities here! \n— \nShould we need to cancel due to weather\, an email will be sent the evening prior to the event. If registration is full\, please send me an email at rachelh@scccl.org and I will put you on the waitlist. If you need to back out before the event\, please let me know\, so I can fill your spot.
URL:https://explorebeaufortsc.com/event/volunteer-oyster-reef-build-with-scdnr/
LOCATION:21 Marina Blvd\, Beaufort\, SC 29902-6954\, United States\, 21 Marina Blvd\, Beaufort\, SC 29902-6954\, United States
ATTACH;FMTTYPE=image/jpeg:https://explorebeaufortsc.com/wp-content/uploads/2025/01/oysterreefSCDNR.jpeg
ORGANIZER;CN="Coastal Conservation League":MAILTO:noreply@facebookmail.com
END:VEVENT
BEGIN:VEVENT
DTSTART;TZID=America/New_York:20250328T140000
DTEND;TZID=America/New_York:20250328T153000
DTSTAMP:20260425T144851
CREATED:20250130T144439Z
LAST-MODIFIED:20250325T134032Z
UID:21841-1743170400-1743175800@explorebeaufortsc.com
SUMMARY:An Afternoon with Novelists Jeffrey Blount and John Pruitt
DESCRIPTION:The nonprofit Pat Conroy Literary Center will host an afternoon with novelists Jeffrey Blount (Mr. Jimmy from Around the Way) and John Pruitt (Tell It True)\, in conversation with Rebecca Dwight Bruff (Trouble the Water) on Friday\, March 28\, at 2:00 p.m. Free and open to the public\, this special event is presented in partnership with Luxe Lowcountry Travel and will be held at Penn Center’s Frissell Hall\, 16 Penn Center West\, St. Helena Island. Books by all three authors will be available for sale and signing.  \nAdvance registration is required by March 27 at: https://blountandpruitt.eventbrite.com \nAbout Jeffrey Blount and Mr. Jimmy from Around the Way \nJeffrey Blount is the award-winning author of three novels. He is also an Emmy award-winning television director and a 2016 inductee to the Virginia Communications Hall of Fame. During a 34-year career at NBC News\, Jeffrey directed a decade of Meet the Press and was the first African-American to direct the Today show. He is an award-winning documentary scriptwriter for films and interactives that are now on display in the Smithsonian Museum of African American History and Culture. \nMr. Jimmy from Around the Way is a story about failure\, self-discovery\, empowerment\, and the possibility of redemption. James Henry Ferguson doesn’t belong here. After a highly publicized fall from grace\, James attempts to flee from the chaos in his life. He ends up in a community he had never heard of before\, one that has been neglected and ignored by everyone in rural Ham\, Mississippi. A place of abject poverty\, the neighborhood is commonly referred to as “Around the Way.” Within a place forgotten by the rest of the world\, politics can be a dangerous game. When a troubling discovery is made\, the entire neighborhood is rocked to its core and James is forced to confront his own past in order to help the community have a future. He will have to find the strength to fight for the neighbors he once disregarded and avert a heart-breaking disaster. A self-identified failure is forced to uncover the wisdom of his past in order to recognize that money can’t solve every problem. Full of never-ending twists and turns\, no one can prepare themselves for the surprises in store. Winner of the 2024 National Indie Excellence Award for African American Fiction\, 2024 Next Generation Indie Book Awards for African American Fiction\, 2024 NYC Big Book Award for General Fiction\, and 2024 American Book Fest Best Book Award for African American Fiction. \n“This tender story is for any of us who have fallen and found the only way up is by reaching out a hand to others.”—Cassandra King\, author of Tell Me a Story: My Life with Pat Conroy  \nAbout John Pruitt and Tell It True \nJohn Pruitt began his journalism career in 1964 as a television reporter-cameraman and eventually rose to top anchor at WSB-TV in Atlanta\, Georgia. For a half-century he covered the civil rights movement\, Georgia politics\, and the major news figures of the day. His reporting has been honored with multiple awards including induction into the Atlanta Press Club and Georgia Association of Broadcasters Halls of Fame. \nIn Tell It True\, An African American serviceman is gunned down on a rural Georgia road in July 1964. This shocking murder ensnares a wide range of characters including the journalists who cover it\, the lawmen who must solve it\, the civil rights leaders who capitalize upon it\, the politicians who exploit it\, and the Atlanta magnate who fears its impact on the New South image he desperately wants to protect. TV news cameraman Gil Matthews and AP reporter Mindy Williams team up to follow the twists and turns of the murder investigation as rural\, state\, and federal lawmen clash\, a civil rights leader fends off a black power challenger\, and voters take sides in a governor’s race pitting virulent racist Roscoe Pike against moderate underdog Harrison Parker. Focusing on the challenges faced by journalists as they covered a societal revolution and brought the dramatic and sometimes violent scenes to TV screens around the world\, Tell It True takes us to a time when the future of the South hung in the balance. \n“Pruitt takes us back to a time where black lives truly didn’t matter in the South\, but it was a time black votes began to matter. The characters in this novel tell the story of the media’s role in changing race relations in the South\, and the behind-the-scenes political alliances that helped to bring change. Pruitt’s meticulous character development and scenery depiction put me right there in the story. Gripping from beginning to end and hard to put down.”—Monica Kaufman Pearson\, journalist and former news anchor \nAbout Rebecca Dwight BruffRebecca Bruff is the author of the award-winning historical novel Trouble the Water and the children’s book Stars of Wonder. Bruff earned her bachelor’s degree in education at Texas A&M and a master’s and doctorate in theology at Southern Methodist University. In 2017\, she was a scholarship recipient for the prestigious Key West Literary Seminar. A frequent presenter at literary events\, she volunteers at the Pat Conroy Literary Center.
URL:https://explorebeaufortsc.com/event/an-afternoon-with-novelists-jeffrey-blount-and-john-pruitt/
LOCATION:Penn Center Cir W\, St Helena\, SC 29920\, United States\, Penn Center Cir W\, St Helena\, SC 29920\, United States
ORGANIZER;CN="Pat Conroy Literary Center":MAILTO:noreply@facebookmail.com
END:VEVENT
BEGIN:VEVENT
DTSTART;TZID=America/New_York:20250328T160000
DTEND;TZID=America/New_York:20250328T190000
DTSTAMP:20260425T144851
CREATED:20250315T022615Z
LAST-MODIFIED:20250325T134032Z
UID:22306-1743177600-1743188400@explorebeaufortsc.com
SUMMARY:Habersham Farmers Market
DESCRIPTION:Join us for fresh produce and handcrafted items from our amazing vendors \nhttps://www.facebook.com/events/610706071953415/?event_time_id=610706201953402
URL:https://explorebeaufortsc.com/event/habersham-farmers-market-25/
LOCATION:Habersham South Carolina\, Habersham South Carolina
ORGANIZER;CN="Habersham Farmers Market":MAILTO:noreply@facebookmail.com
END:VEVENT
BEGIN:VEVENT
DTSTART;TZID=America/New_York:20250328T173000
DTEND;TZID=America/New_York:20250328T193000
DTSTAMP:20260425T144851
CREATED:20250130T144439Z
LAST-MODIFIED:20250325T134034Z
UID:21843-1743183000-1743190200@explorebeaufortsc.com
SUMMARY:Chalk it Up! Beaufort - Opening Reception
DESCRIPTION:On Friday March 28\, Chalk It Up! —Beaufort’s most colorful festival— kicks off with an Opening Reception Cultural Open House. \nThe Opening Reception will be held 5:30-7:30 pm in Tabby Place at 913 Port Republic Street—adjacent to the parking lot where chalk artists from around the country will be creating fantastic chalk art the following two days\, March 29-30! \nThe reception is all about connecting with people to enjoy and appreciate our lowcountry culture\, its diversity and its vibrance. The evening’s very special entertainment includes a snippet from Aunt Pearlie Sue and the Gullah Kinfolk’s new stage production “Da Dreamers: Robert Smalls and Martin Luther King”\, and a fascinating presentation by Historian Valinda W. Littlefield on the first regiment of Black Soldiers during the Civil War. \nEnjoy some light fare while meeting the visiting chalk artists and learn about some of the opportunities to participate many of our area’s cultural outlets— from visual art\, to music\, to theatre. \n__________________________________________ \nJoin us for the 2nd Annual Chalk It Up! Beaufort Festival\, hosted by the Freedman Arts District. \nChalk It Up! is an immersive\, large-scale street painting experience. Professional and emerging visual artists create larger-than-life\, bold images in pastel directly on pavement for all to watch. \nThis colorful celebration will also feature live performances by local musicians\, artisan craft booths and food & drinks. The festival is FREE and open to the public. \nThis year\, we have a NEW VENUE and the Chalk It Up! Festival will take place in the parking area of Tabby Place in Downtown Beaufort. If you put 913 Port Republic Street\, Beaufort SC into Google Maps\, you can’t miss us! \nFriday\, March 28\, 5:30pm-7:30pm: Kicking off the event will be an Opening Reception inside Tabby Place. This event is free and open to the public. \nSaturday\, March 29th\, 10am-5pm: Artists will begin Chalking it up on the pavement at our NEW VENUE! Trust us\, you don’t want to miss out on the Food\, Drinks\, Live Music\, and watching the artists create their masterpieces LIVE! \nSunday\, March 30th\, 10am-4pm: In addition to the Chalk Artists from Saturday finishing up their pieces\, local Middle and High School Art Class Teams will be competing for YOUR VOTE on their Team Art Squares! \nSunday\, March 30th at 5pm: Awards Ceremony – YOU will determine our winners by voting for your favorites! Voting will be open during the whole festival and tallied toward the end of the Festival on Sunday. \nWe have limited artist squares available! https://chalkitupbeaufort.com/artist-application/ \nWe also have sponsorship opportunities available!https://funraise.org/give/Freedman-Arts-District-Inc./9b55f7c3-5389-47cd-9114-165c9c6467e0/ \nWe are also seeking volunteers:https://chalkitupbeaufort.com/volunteer/ \nFor questions\, please reach out to info@freedmanartsdistrict.org
URL:https://explorebeaufortsc.com/event/chalk-it-up-beaufort-opening-reception/
LOCATION:The Tabby Place at The Beaufort Inn\, The Tabby Place at The Beaufort Inn
ORGANIZER;CN="Freedman Arts District":MAILTO:noreply@facebookmail.com
END:VEVENT
END:VCALENDAR