BEGIN:VCALENDAR
VERSION:2.0
PRODID:-//Explore Beaufort SC - ECPv6.15.20//NONSGML v1.0//EN
CALSCALE:GREGORIAN
METHOD:PUBLISH
X-WR-CALNAME:Explore Beaufort SC
X-ORIGINAL-URL:https://explorebeaufortsc.com
X-WR-CALDESC:Events for Explore Beaufort SC
REFRESH-INTERVAL;VALUE=DURATION:PT1H
X-Robots-Tag:noindex
X-PUBLISHED-TTL:PT1H
BEGIN:VTIMEZONE
TZID:America/New_York
BEGIN:DAYLIGHT
TZOFFSETFROM:-0500
TZOFFSETTO:-0400
TZNAME:EDT
DTSTART:20240310T070000
END:DAYLIGHT
BEGIN:STANDARD
TZOFFSETFROM:-0400
TZOFFSETTO:-0500
TZNAME:EST
DTSTART:20241103T060000
END:STANDARD
BEGIN:DAYLIGHT
TZOFFSETFROM:-0500
TZOFFSETTO:-0400
TZNAME:EDT
DTSTART:20250309T070000
END:DAYLIGHT
BEGIN:STANDARD
TZOFFSETFROM:-0400
TZOFFSETTO:-0500
TZNAME:EST
DTSTART:20251102T060000
END:STANDARD
BEGIN:DAYLIGHT
TZOFFSETFROM:-0500
TZOFFSETTO:-0400
TZNAME:EDT
DTSTART:20260308T070000
END:DAYLIGHT
BEGIN:STANDARD
TZOFFSETFROM:-0400
TZOFFSETTO:-0500
TZNAME:EST
DTSTART:20261101T060000
END:STANDARD
END:VTIMEZONE
BEGIN:VEVENT
DTSTART;TZID=America/New_York:20250329T093000
DTEND;TZID=America/New_York:20250329T140000
DTSTAMP:20260425T180619
CREATED:20250212T120221Z
LAST-MODIFIED:20250325T134035Z
UID:21991-1743240600-1743256800@explorebeaufortsc.com
SUMMARY:The 2025 Great Helicopter Easter Egg Drop
DESCRIPTION:Community Easter event where 19\,500 plastic eggs will be dropped from a Helicopter on the Beaufort Academy Football Field on March 29\, 2025 @9:30am-2pm.  \nTICKETS WILL NOT BE AVAILABLE AT THE DOOR\, KIDS MUST REGISTER & PAY ONLINE BEFORE ENTRY. \nOn Saturday\, March 29\, 2025\, we invite the ENTIRE community to join us for the fifth annual Great Helicopter Easter Egg Drop on the Beaufort Academy Football Field. \nWe’re dropping thousands of plastic Easter eggs from a helicopter…yup\, you heard that right – a HELICOPTER! Pre-register your children to participate in one of SIX age-specific egg hunts with over 19\,500 eggs. \n**PARENTS ARE NOT ALLOWED ON THE FIELD FOR AGES 4-11** If your child is 4 years or older or cannot go on the field without you\, please do not register. \nPlease arrive earlier than your scheduled egg drop time for check-in\, and to enjoy all of the great activities\, shopping\, music and food trucks. \nAdmission to the festival is FREE\, and open to the public. Even if you don’t have kids\, join us for lunch\, shop with various shopping vendors\, stay for lunch with over 10 FOOD TRUCKS and watch the egg drop fun! \nIf you have any questions about The Great Helicopter Egg Drop\, please email Lisa Gallagher at lgallagher@beaufortacademy.org .
URL:https://explorebeaufortsc.com/event/the-2025-great-helicopter-easter-egg-drop/
LOCATION:240 Sams Point Road\,Beaufort\,29907\,US
ORGANIZER;CN="Eventbrite":MAILTO:noreply@facebookmail.com
END:VEVENT
BEGIN:VEVENT
DTSTART;TZID=America/New_York:20250329T100000
DTEND;TZID=America/New_York:20250329T110000
DTSTAMP:20260425T180619
CREATED:20250324T233416Z
LAST-MODIFIED:20250324T233416Z
UID:22357-1743242400-1743246000@explorebeaufortsc.com
SUMMARY:Vietnam War Veterans Day Ceremony
DESCRIPTION:Beaufort County Veterans Affairs Department and Beaufort National Cemetery hosting a Vietnam War Veterans Day Ceremony together on Saturday\, March 29\, from 10 a.m. until 11 a.m.\, in Beaufort National Cemetery\, 1601 Boundary Street.\n\nThe sister of Medal of Honor recipient Ralph Johnson\, Charleston native\, will be one of the guests of honor at the ceremony and will lay a remembrance wreath on her brother’s grave.The service and sacrifice of Vietnam War veterans will be honored with a pinning ceremony. All Vietnam Var Veterans\, the families and the general public are invited to this free event. \nThe Beaufort County Veterans Affairs Office assists all veterans\, their spouses and other dependents with access to government programs for which they are eligible. \nVeterans Affairs Counselors are available by appointment only by calling 843-255-6880.
URL:https://explorebeaufortsc.com/event/vietnam-war-veterans-day-ceremony-2/
LOCATION:Beaufort National Cemetery\, 1601 Boundary Street\, BEAUFORT\, SC\, 29902\, United States
ATTACH;FMTTYPE=image/jpeg:https://explorebeaufortsc.com/wp-content/uploads/2025/03/vietnamvetsceremony2025.jpg
END:VEVENT
BEGIN:VEVENT
DTSTART;TZID=America/New_York:20250329T100000
DTEND;TZID=America/New_York:20250329T130000
DTSTAMP:20260425T180619
CREATED:20250304T032925Z
LAST-MODIFIED:20250325T134036Z
UID:22186-1743242400-1743253200@explorebeaufortsc.com
SUMMARY:Vietnam War Veterans Day Ceremony
DESCRIPTION:Beaufort County Veterans Affairs Department and Beaufort National Cemetery invite you to the Vietnam War Veterans Day Ceremony\, Saturday\, Mar 29th at 10am at Beaufort National Cemetery.Join us in honoring the great service and sacrifice of our Vietnam War Veterans with a pinning ceremony. All Vietnam Veterans\, their families and the public are invited.
URL:https://explorebeaufortsc.com/event/vietnam-war-veterans-day-ceremony/
LOCATION:1601 Boundary Street\, Beaufort\, SC\, United States\, South Carolina 29902\, 1601 Boundary Street\, Beaufort\, SC\, United States\, South Carolina 29902
ORGANIZER;CN="Beaufort National Cemetery":MAILTO:noreply@facebookmail.com
END:VEVENT
BEGIN:VEVENT
DTSTART;TZID=America/New_York:20250329T100000
DTEND;TZID=America/New_York:20250329T140000
DTSTAMP:20260425T180619
CREATED:20250224T004854Z
LAST-MODIFIED:20250325T134036Z
UID:22094-1743242400-1743256800@explorebeaufortsc.com
SUMMARY:Pluff Mudder Club - RSVP Required
DESCRIPTION:Pluff Mudder Club Members will explore different themes to learn more about the water\, plants\, and animals of the Lowcountry.  \nTo become a Pluff Mudder Club Member\, your child must participate in 1 of 4 themes: water\, plants\, vertebrates\, and invertebrates. Each theme will be offered twice a year.  \nTo become an Ultimate Pluff Mudder Club Member and receive a limited-edition t-shirt\, you must attend all four themes. \nA party will be hosted at the end of the year for all club members to meet each other\, play games\, win prizes\, and get awarded their T-shirts (if applicable).  \nThemes might change from year to year\, so club members are encouraged to attend all within 2025! \n2025 Meeting Dates: •	February 15: Vertebrates•	March 29: Plants•	April 26: Invertebrates•	May 17: Water•	August 16: Water •	September 20: Plants•	October 11: Invertebrates•	November 8: Vertebrates \nTime: 10am-2pmPrice: $55/meetingAge: 4th-7th Grade \nClick the orange “Book A Program” button on our website to RSVP: portroyalsoundfoundation.org \nThis program has limited space. \nhttps://www.facebook.com/events/628036799878683/?event_time_id=628036809878682
URL:https://explorebeaufortsc.com/event/pluff-mudder-club-rsvp-required/
LOCATION:310 Okatie Hwy\, Okatie\, SC\, United States\, South Carolina 29909\, 310 Okatie Hwy\, Okatie\, SC\, United States\, South Carolina 29909
ORGANIZER;CN="Port Royal Sound Foundation":MAILTO:noreply@facebookmail.com
END:VEVENT
BEGIN:VEVENT
DTSTART;TZID=America/New_York:20250329T100000
DTEND;TZID=America/New_York:20250329T170000
DTSTAMP:20260425T180619
CREATED:20250130T144439Z
LAST-MODIFIED:20250325T134509Z
UID:21844-1743242400-1743267600@explorebeaufortsc.com
SUMMARY:Chalk it Up! Beaufort - Day 1
DESCRIPTION:Join us for the 2nd Annual Chalk It Up! Beaufort Festival\, hosted by the Freedman Arts District. \nChalk It Up! is an immersive\, large-scale street painting experience. Professional and emerging visual artists create larger-than-life\, bold images in pastel directly on pavement for all to watch. \nThis colorful celebration will also feature live performances by local musicians\, artisan craft booths and food & drinks. The festival is FREE and open to the public. \nThis year\, we have a NEW VENUE and the Chalk It Up! Festival will take place in the parking area of Tabby Place in Downtown Beaufort. If you put 913 Port Republic Street\, Beaufort SC into Google Maps\, you can’t miss us! \nFriday\, March 28\, 5:30pm-7:30pm: Kicking off the event will be an Opening Reception inside Tabby Place. Additional information and a ticket link coming soon! \nSaturday\, March 29th\, 10am-5pm: Artists will begin Chalking it up on the pavement at our NEW VENUE! Trust us\, you don’t want to miss out on the Food\, Drinks\, Live Music\, and watching the artists create their masterpieces LIVE! \nSunday\, March 30th\, 10am-4pm: In addition to the Chalk Artists from Saturday finishing up their pieces\, local Middle and High School Art Class Teams will be competing for YOUR VOTE on their Team Art Squares! \nSunday\, March 30th at 5pm: Awards Ceremony – YOU will determine our winners by voting for your favorites! Voting will be open during the whole festival and tallied toward the end of the Festival on Sunday. \nFun activities for children in the Kids Zone\, presented by Happy Art Studio! \nWe also have sponsorship opportunities available!\nhttps://funraise.org/give/Freedman-Arts-District-Inc./9b55f7c3-5389-47cd-9114-165c9c6467e0/ \nWe are also seeking volunteers:\nhttps://chalkitupbeaufort.com/volunteer/ \nFor questions\, please reach out to info@freedmanartsdistrict.org
URL:https://explorebeaufortsc.com/event/chalk-it-up-beaufort-day-1/
LOCATION:The Tabby Place at The Beaufort Inn\, The Tabby Place at The Beaufort Inn
ATTACH;FMTTYPE=image/jpeg:https://explorebeaufortsc.com/wp-content/uploads/2025/01/chalk.jpg
ORGANIZER;CN="Freedman Arts District":MAILTO:noreply@facebookmail.com
END:VEVENT
BEGIN:VEVENT
DTSTART;TZID=America/New_York:20250329T130000
DTEND;TZID=America/New_York:20250329T150000
DTSTAMP:20260425T180619
CREATED:20250315T022616Z
LAST-MODIFIED:20250325T134559Z
UID:22308-1743253200-1743260400@explorebeaufortsc.com
SUMMARY:Easter Bunny Photos (Free Event)
DESCRIPTION:Come see us Saturday\, March 29th from 1PM – 3PM got get a family photo with the Easter Bunny! We will have some drinks and easter eggs for you and your family as well. We look forward to seeing you! \nWe will be located in Freedom Mall\, the green space across from the Best Western in Downtown Beaufort\, SC. Parking is available at the Marina and on the street. \nSign-in ahead of time under the tickets link!
URL:https://explorebeaufortsc.com/event/easter-bunny-photos-free-event/
LOCATION:Downtown Beaufort\, SC\, Beaufort\, SC\, 29902\, US
ATTACH;FMTTYPE=image/jpeg:https://explorebeaufortsc.com/wp-content/uploads/2025/03/bunnyphotos2025.jpg
ORGANIZER;CN="J.P. Signature Group - Keller Williams Realty":MAILTO:noreply@facebookmail.com
END:VEVENT
BEGIN:VEVENT
DTSTART;TZID=America/New_York:20250329T193000
DTEND;TZID=America/New_York:20250329T223000
DTSTAMP:20260425T180619
CREATED:20250325T134036Z
LAST-MODIFIED:20250325T134036Z
UID:22373-1743276600-1743287400@explorebeaufortsc.com
SUMMARY:Off the Wall & Onto the Stage: Dancing the Art of Jonathan Green
DESCRIPTION:The Freedman Arts District and USCB Center for the Arts are partnering to bring the South Carolina Ballet (Formerly Columbia City Ballet) one-of-a-kind ballet\, “Off the Wall and Onto the Stage: Dancing the Art of Jonathan Green.” Praised by the New York Times as “fabulous…an ingenious idea…striking\,” this production vividly brings Jonathan Green’s Gullah-inspired paintings to life with captivating choreography and innovative sets. Artistic Director William Starrett crafted this extraordinary performance\, scheduled for March 29th 2025\, at the USCB Center For the Arts. Adults $60\, Seniors/Military $50\, Students $35
URL:https://explorebeaufortsc.com/event/off-the-wall-onto-the-stage-dancing-the-art-of-jonathan-green/
LOCATION:801 Carteret St\, Beaufort\, SC\, United States\, South Carolina 29902\, 801 Carteret St\, Beaufort\, SC\, United States\, South Carolina 29902
ORGANIZER;CN="USCB Center for the Arts":MAILTO:noreply@facebookmail.com
END:VEVENT
END:VCALENDAR