BEGIN:VCALENDAR
VERSION:2.0
PRODID:-//Explore Beaufort SC - ECPv6.15.20//NONSGML v1.0//EN
CALSCALE:GREGORIAN
METHOD:PUBLISH
X-ORIGINAL-URL:https://explorebeaufortsc.com
X-WR-CALDESC:Events for Explore Beaufort SC
REFRESH-INTERVAL;VALUE=DURATION:PT1H
X-Robots-Tag:noindex
X-PUBLISHED-TTL:PT1H
BEGIN:VTIMEZONE
TZID:America/New_York
BEGIN:DAYLIGHT
TZOFFSETFROM:-0500
TZOFFSETTO:-0400
TZNAME:EDT
DTSTART:20240310T070000
END:DAYLIGHT
BEGIN:STANDARD
TZOFFSETFROM:-0400
TZOFFSETTO:-0500
TZNAME:EST
DTSTART:20241103T060000
END:STANDARD
BEGIN:DAYLIGHT
TZOFFSETFROM:-0500
TZOFFSETTO:-0400
TZNAME:EDT
DTSTART:20250309T070000
END:DAYLIGHT
BEGIN:STANDARD
TZOFFSETFROM:-0400
TZOFFSETTO:-0500
TZNAME:EST
DTSTART:20251102T060000
END:STANDARD
BEGIN:DAYLIGHT
TZOFFSETFROM:-0500
TZOFFSETTO:-0400
TZNAME:EDT
DTSTART:20260308T070000
END:DAYLIGHT
BEGIN:STANDARD
TZOFFSETFROM:-0400
TZOFFSETTO:-0500
TZNAME:EST
DTSTART:20261101T060000
END:STANDARD
END:VTIMEZONE
BEGIN:VEVENT
DTSTART;TZID=America/New_York:20250401T170000
DTEND;TZID=America/New_York:20250401T190000
DTSTAMP:20260425T144816
CREATED:20250325T134037Z
LAST-MODIFIED:20250325T134037Z
UID:22375-1743526800-1743534000@explorebeaufortsc.com
SUMMARY:Winemaker Spotlight Event: Bree Stock of Limited Addition Wines
DESCRIPTION:We’re thrilled to welcome Bree Stock of Limited Addition Wines for our first Winemaker Spotlight Event! A true pioneer in the world of wine\, Bree is the first female Master of Wine in the Pacific Northwest and an advocate for natural fermentation and varietal diversity. Alongside enologist Chad Stock\, she’s helping shape the future of the Willamette Valley with sustainable\, exciting wines that go beyond Pinot Noir. \nBree’s mission is to educate\, inspire\, and lead with purpose\, championing sustainability\, diversity\, and wellness in the wine industry. She is dedicated to making wine approachable and helping us appreciate the unique stories behind each bottle. We’ll hear firsthand from Bree as she shares her winemaking journey while we sip through a selection of her beautiful portfolio\, listening and learning along the way! \nJoin us for an exclusive evening with Bree Stock\, Master of Wine\, as we explore the diverse world of Willamette Valley wines beyond the iconic Pinot Noir. While Pinot Noir has long been the region’s star\, Bree will introduce us to the lesser-known gems shaping its future. \nAs a champion of natural fermentation and varietal diversity\, Bree will explain how these practices are transforming Willamette Valley wines\, creating sustainable expressions that reflect the land’s true character. We’ll dive into fermentation\, the importance of embracing a range of varietals\, and the innovative steps winemakers are taking to craft authentic wines. \nExpect to taste exciting wines from the Limited Addition portfolio\, showcasing the incredible range of flavors Willamette Valley has to offer while discovering how the region is evolving. \nThis evening will be filled with insights\, stories\, and\, of course\, remarkable wines. Don’t miss out on this unforgettable experience! \n✨ Additional Event Details Coming Soon ✨ Mark your calendars for April 1st\, and stay tuned for more information! \nSpace is limited! $25/person — don’t miss out!
URL:https://explorebeaufortsc.com/event/winemaker-spotlight-event-bree-stock-of-limited-addition-wines/
LOCATION:809 Paris Ave\, Port Royal\, SC\, United States\, South Carolina\, 809 Paris Ave\, Port Royal\, SC\, United States\, South Carolina
ORGANIZER;CN="Windhorse Gallery & Marketplace":MAILTO:noreply@facebookmail.com
END:VEVENT
END:VCALENDAR