BEGIN:VCALENDAR
VERSION:2.0
PRODID:-//Explore Beaufort SC - ECPv6.15.20//NONSGML v1.0//EN
CALSCALE:GREGORIAN
METHOD:PUBLISH
X-WR-CALNAME:Explore Beaufort SC
X-ORIGINAL-URL:https://explorebeaufortsc.com
X-WR-CALDESC:Events for Explore Beaufort SC
REFRESH-INTERVAL;VALUE=DURATION:PT1H
X-Robots-Tag:noindex
X-PUBLISHED-TTL:PT1H
BEGIN:VTIMEZONE
TZID:America/New_York
BEGIN:DAYLIGHT
TZOFFSETFROM:-0500
TZOFFSETTO:-0400
TZNAME:EDT
DTSTART:20240310T070000
END:DAYLIGHT
BEGIN:STANDARD
TZOFFSETFROM:-0400
TZOFFSETTO:-0500
TZNAME:EST
DTSTART:20241103T060000
END:STANDARD
BEGIN:DAYLIGHT
TZOFFSETFROM:-0500
TZOFFSETTO:-0400
TZNAME:EDT
DTSTART:20250309T070000
END:DAYLIGHT
BEGIN:STANDARD
TZOFFSETFROM:-0400
TZOFFSETTO:-0500
TZNAME:EST
DTSTART:20251102T060000
END:STANDARD
BEGIN:DAYLIGHT
TZOFFSETFROM:-0500
TZOFFSETTO:-0400
TZNAME:EDT
DTSTART:20260308T070000
END:DAYLIGHT
BEGIN:STANDARD
TZOFFSETFROM:-0400
TZOFFSETTO:-0500
TZNAME:EST
DTSTART:20261101T060000
END:STANDARD
END:VTIMEZONE
BEGIN:VEVENT
DTSTART;TZID=America/New_York:20250403T130000
DTEND;TZID=America/New_York:20250403T170000
DTSTAMP:20260425T130507
CREATED:20250325T134037Z
LAST-MODIFIED:20250325T134037Z
UID:22376-1743685200-1743699600@explorebeaufortsc.com
SUMMARY:Lowcountry Career Fair
DESCRIPTION:Looking for a new opportunity? Join us for this free annual job fair and connect with over 50 local employers. \nHosted by the Technical College of the Lowcountry and numerous other area employers. \nExplore career opportunities in:HospitalityHealth CareRetailFood ServicesLaw EnforcementManufacturingAnd more! \nWHEN:Thursday\, April 31 – 5 p.m. \nWHERE:Beaufort National Guard Readiness Center1 Cavalry LaneBeaufort\, SC (On S.C. Hwy 21 next to MCAS) \nINFO:For more information contact Melanie Gallion at (843) 525-8224 or email: mgallion@tcl.edu.
URL:https://explorebeaufortsc.com/event/lowcountry-career-fair/
LOCATION:1 Cavalry Ln\, Beaufort\, SC 29906-7101\, United States
ORGANIZER;CN="Technical College of the Lowcountry - TCL":MAILTO:noreply@facebookmail.com
END:VEVENT
END:VCALENDAR