BEGIN:VCALENDAR
VERSION:2.0
PRODID:-//Explore Beaufort SC - ECPv6.15.20//NONSGML v1.0//EN
CALSCALE:GREGORIAN
METHOD:PUBLISH
X-ORIGINAL-URL:https://explorebeaufortsc.com
X-WR-CALDESC:Events for Explore Beaufort SC
REFRESH-INTERVAL;VALUE=DURATION:PT1H
X-Robots-Tag:noindex
X-PUBLISHED-TTL:PT1H
BEGIN:VTIMEZONE
TZID:America/New_York
BEGIN:DAYLIGHT
TZOFFSETFROM:-0500
TZOFFSETTO:-0400
TZNAME:EDT
DTSTART:20240310T070000
END:DAYLIGHT
BEGIN:STANDARD
TZOFFSETFROM:-0400
TZOFFSETTO:-0500
TZNAME:EST
DTSTART:20241103T060000
END:STANDARD
BEGIN:DAYLIGHT
TZOFFSETFROM:-0500
TZOFFSETTO:-0400
TZNAME:EDT
DTSTART:20250309T070000
END:DAYLIGHT
BEGIN:STANDARD
TZOFFSETFROM:-0400
TZOFFSETTO:-0500
TZNAME:EST
DTSTART:20251102T060000
END:STANDARD
BEGIN:DAYLIGHT
TZOFFSETFROM:-0500
TZOFFSETTO:-0400
TZNAME:EDT
DTSTART:20260308T070000
END:DAYLIGHT
BEGIN:STANDARD
TZOFFSETFROM:-0400
TZOFFSETTO:-0500
TZNAME:EST
DTSTART:20261101T060000
END:STANDARD
END:VTIMEZONE
BEGIN:VEVENT
DTSTART;TZID=America/New_York:20250406T130000
DTEND;TZID=America/New_York:20250406T160000
DTSTAMP:20260425T144740
CREATED:20250304T032928Z
LAST-MODIFIED:20250404T181347Z
UID:22192-1743944400-1743955200@explorebeaufortsc.com
SUMMARY:Beaufort Human Library -- Fifth Edition
DESCRIPTION:Check Out the Fifth Edition of the Beaufort Human Library\, April 6 \n“Where oral history meets speed dating.” The Beaufort Human Library project promotes empathy and understanding across communities by offering the public opportunities to “check out” more than a dozen volunteer Human Books who will be sharing their personal stories of facing challenges and striving for acceptance. These engaging conversations will cover topics including education\, military service\, healthcare\, gender\, race\, addiction\, abuse\, and advocacy\, among others. The dialogues focus on building bridges of understanding\, person to person\, through storytelling. \nThe Beaufort Human Library will be held on opening day of National Library Week: Sunday\, April 6\, from 1:00 to 4:00 p.m. in MacLean Hall\, building 12 of the Technical College of the Lowcountry (TCL)\, at 104 Reynolds Street in Beaufort. Free and open to the public\, the event is hosted by TCL; the nonprofit Pat Conroy Literary Center; DAYLO: Diversity Awareness Youth Literacy Organization; and volunteer community organizers. \nThe afternoon begins at 1:00-1:45 p.m. with this year’s featured Human Books\, sisters Lynn Bryant and Victoria Smalls. Following that featured conversation\, all the volunteer Human Books will be available throughout MacLean Hall to be checked out for 30-minute small group conversations from 2:00 to 4:00 p.m.  \nAttendees (the “Readers”) may choose to participate in a new conversation every half-hour throughout the afternoon. Advance registration is not required\, nor are attendees required to stay for the whole afternoon. Check out just one Human Book\, or four\, or any number in between. Volunteer Librarians and student Bookmarks from DAYLO will be on hand to help guests navigate their Beaufort Human Library experience and answer questions. \nIn addition to Lynn Bryant and Victoria Smalls\, this year’s Human Books include community members Paulette Edwards\, Ashley Gardner\, Karen Gareis\, Col. Richard Geier (U.S.A. ret.)\, Marie Gibbs\, Connie Hipp\, Gwenn McClune\, Gene Rugala\, Sissy the Entertainer\, and Beth Young. \nTo learn more about the Beaufort Human Library\, please visit www.facebook.com/beauforthumanlibrary.
URL:https://explorebeaufortsc.com/event/beaufort-human-library-fifth-edition/
LOCATION:104 Reynolds Street\, Beaufort SC 29902\, 104 Reynolds Street\, Beaufort SC 29902
ORGANIZER;CN="Beaufort Human Library":MAILTO:noreply@facebookmail.com
END:VEVENT
BEGIN:VEVENT
DTSTART;TZID=America/New_York:20250406T140000
DTEND;TZID=America/New_York:20250406T160000
DTSTAMP:20260425T144740
CREATED:20250325T134040Z
LAST-MODIFIED:20250404T181347Z
UID:22386-1743948000-1743955200@explorebeaufortsc.com
SUMMARY:Easter Egg Hunt & Photos with the Easter Bunny!
DESCRIPTION:Bring your kids and join us at Shellring for a fun afternoon with the Easter Bunny!There will be 2 Easter Egg Hunts (2-6 yrs old; 7-12 yrs old\,) Photos with The Easter Bunny; Crafts; Games; and a Snow Cone Truck!
URL:https://explorebeaufortsc.com/event/easter-egg-hunt-photos-with-the-easter-bunny/
LOCATION:Shellring Ale Works\, 1111 11th street\, Port Royal\, SC\, 29935\, US
ORGANIZER;CN="The Rambo Team - Carolina Realty of the Lowcountry":MAILTO:noreply@facebookmail.com
END:VEVENT
END:VCALENDAR