BEGIN:VCALENDAR
VERSION:2.0
PRODID:-//Explore Beaufort SC - ECPv6.15.20//NONSGML v1.0//EN
CALSCALE:GREGORIAN
METHOD:PUBLISH
X-ORIGINAL-URL:https://explorebeaufortsc.com
X-WR-CALDESC:Events for Explore Beaufort SC
REFRESH-INTERVAL;VALUE=DURATION:PT1H
X-Robots-Tag:noindex
X-PUBLISHED-TTL:PT1H
BEGIN:VTIMEZONE
TZID:America/New_York
BEGIN:DAYLIGHT
TZOFFSETFROM:-0500
TZOFFSETTO:-0400
TZNAME:EDT
DTSTART:20240310T070000
END:DAYLIGHT
BEGIN:STANDARD
TZOFFSETFROM:-0400
TZOFFSETTO:-0500
TZNAME:EST
DTSTART:20241103T060000
END:STANDARD
BEGIN:DAYLIGHT
TZOFFSETFROM:-0500
TZOFFSETTO:-0400
TZNAME:EDT
DTSTART:20250309T070000
END:DAYLIGHT
BEGIN:STANDARD
TZOFFSETFROM:-0400
TZOFFSETTO:-0500
TZNAME:EST
DTSTART:20251102T060000
END:STANDARD
BEGIN:DAYLIGHT
TZOFFSETFROM:-0500
TZOFFSETTO:-0400
TZNAME:EDT
DTSTART:20260308T070000
END:DAYLIGHT
BEGIN:STANDARD
TZOFFSETFROM:-0400
TZOFFSETTO:-0500
TZNAME:EST
DTSTART:20261101T060000
END:STANDARD
END:VTIMEZONE
BEGIN:VEVENT
DTSTART;TZID=America/New_York:20250410T113000
DTEND;TZID=America/New_York:20250410T143000
DTSTAMP:20260425T144814
CREATED:20250410T025513Z
LAST-MODIFIED:20250410T025513Z
UID:22587-1744284600-1744295400@explorebeaufortsc.com
SUMMARY:Home Cooked Meals - April 10th\, 2025
DESCRIPTION:Cum Jine We!!!Blessed Souls\, we hope that you will join us as we celebrate our Fifth year providing nutritional\, and healing foods to our community. \nPlease share with your family and friends. \nPeace & blessings\,Bill & Sarah
URL:https://explorebeaufortsc.com/event/home-cooked-meals-april-10th-2025/
LOCATION:10 De Gullah Way\, St Helena\, SC 29920-5523\, United States\, 10 De Gullah Way\, St Helena\, SC 29920-5523\, United States
END:VEVENT
BEGIN:VEVENT
DTSTART;TZID=America/New_York:20250410T173000
DTEND;TZID=America/New_York:20250410T193000
DTSTAMP:20260425T144814
CREATED:20250410T025514Z
LAST-MODIFIED:20250410T025514Z
UID:22590-1744306200-1744313400@explorebeaufortsc.com
SUMMARY:Masters Launch Party! Few spots left!
DESCRIPTION:Join us for an exclusive Masters Launch Party\, where you can indulge in the renowned concessions of Augusta National\, including pimento cheese\, egg salad\, barbecue\, and other sides. 🥪We’re bringing these delicacies directly from Augusta for your enjoyment. The traditional Azalea cocktail will be the perfect complement to your experience! 🍹 \nSelect your Masters Fantasy Golf Team during the party for a chance to win an official prize. Every guest will receive a souvenir!  \nWHEN: Thursday\, April 10\, 5:30-7:30.  \nWe only have service for 12 guests\, so don’t hesitate to sign up! \nhttps://marshviewmercantile.commentsold.com/products/masters-launch-party \n#mastersgolf #launchparty #augustanational #sipandshop #marshviewmercantile #beaufortsc
URL:https://explorebeaufortsc.com/event/masters-launch-party-few-spots-left/
LOCATION:2631 Boundary St\, Beaufort\, SC\, 2631 Boundary St\, Beaufort\, SC
ORGANIZER;CN="Marshview Mercantile":MAILTO:noreply@facebookmail.com
END:VEVENT
BEGIN:VEVENT
DTSTART;TZID=America/New_York:20250410T180000
DTEND;TZID=America/New_York:20250410T193000
DTSTAMP:20260425T144814
CREATED:20250130T144440Z
LAST-MODIFIED:20250410T025514Z
UID:21847-1744308000-1744313400@explorebeaufortsc.com
SUMMARY:Open Mic Night--Featuring Galen Warden\, Author of I Believe You\, Also Reading for Poet James Strazza
DESCRIPTION:The Pat Conroy Literary Center’s monthly Open Mic Night will be held at the Conroy Center (601 Bladen St.) on Thursday\, April 10\, from 6:00 to 7:30 p.m. For National Poetry Month\, Open Mic Night will feature poet and memoirist Galen Warden\, author of I Believe You: When Doctors Won’t\, A Mother Must. She will also be reading on behalf of her son\, James Strazza\, author of Unsung: Poems Written in the Dark. Open Mic will also include short readings of 3 to 5 minutes each by other writers in many genres. \nInterested in reading as part of Open Mic? Let us know at contact@patconroyliterarycenter.org. \nAbout Our Featured AuthorsGalen Warden has enjoyed poetry since childhood\, drawing from the joyful\, transcendent\, and most difficult moments of her life. From adolescence through motherhood\, divorce\, dating\, and caregiving—and throughout her career as a designer and marketer for Bowker and LexisNexis—poetry has been a steady companion. Her work has appeared in Sensations Magazine\, The Ever-Dancing Muse\, Get Satisfied\, and Lips\, plus the anthologies Poets of the Palisades\, The Paterson Literary Review\, and The World Book of Healing. Galen is a fourth-generation Beaufortonian who has cared for her adult son James in her home for the past five years. Her forthcoming memoir\, I Believe You\, captures the heartrending reality of very severe M.E. \n“I have come to know Galen as an amazing mother\, caregiver and advocate. Patients\, families\, caregivers and medical professionals will benefit from her lived experience and effectiveness…. Her book is a highly effective clarion call to anyone with ME or long COVID to just rest\, and to their loved ones to support them. I believe it’s what the world urgently needs right now.”—Janet L. Dafoe\, PhD\, psychologist  \nJames Strazza was a prolific songwriter as well as a professional music producer when his young life was destroyed by a serious neurological disease. His only creative outlet became texting on his phone\, so he leveraged his songwriting skills for a newfound passion: poetry. His second collection of poetry is Unsung\, Poems Written in the Dark.  \n“This poet—and he is a poet in the fullest sense—gives utterance to a horrific reality that escapes all utterance. Transforming us into witnesses\, he ignites our own soul: to read James Strazza is to burn with him.And to be forever transformed.”—David Patterson\, Hillel A. Feinberg Distinguished Chair in Holocaust Studies\, University of Texas at Dallas
URL:https://explorebeaufortsc.com/event/open-mic-night-featuring-galen-warden-author-of-i-believe-you-also-reading-for-poet-james-strazza/
LOCATION:601 Bladen Street\, Beaufort\, SC\, United States\, South Carolina 29902\, 601 Bladen Street\, Beaufort\, SC\, United States\, South Carolina 29902
ORGANIZER;CN="Pat Conroy Literary Center":MAILTO:noreply@facebookmail.com
END:VEVENT
BEGIN:VEVENT
DTSTART;TZID=America/New_York:20250410T180000
DTEND;TZID=America/New_York:20250410T210000
DTSTAMP:20260425T144814
CREATED:20250325T134041Z
LAST-MODIFIED:20250325T134041Z
UID:22387-1744308000-1744318800@explorebeaufortsc.com
SUMMARY:Women United’s Power of the Purse – Presented by Tanger Outlets Hilton Head
DESCRIPTION:Join us for an evening of purpose\, philanthropy\, and elegance at Women United’s Power of the Purse. \nDate: Thursday\, April 10\, 2025Time: 6:00 PMLocation: Saltus River Grill \nEnjoy hors d’oeuvres\, an open bar\, live music by The Alibis\, a virtual silent auction\, and a blind wine raffle. \nTickets: $100 per person | $180 per couple (Limited availability)Purchase tickets: www.uwlowcountry.org/pop \nFor 13 years\, Women United has been making a difference in the Lowcountry. Proceeds from this event support the Breaking Barriers to Education Fund\, Operation Backpack\, Mimi’s Closet\, and the Women’s Scholarship Fund. \nFor sponsorship opportunities or to donate an auction item\, contact Bethany Marcinkowski at bethanym@uwlowcountry.org or 843.837.2001. \nCome Beyond the Bag and be a Beacon of Hope in our community.
URL:https://explorebeaufortsc.com/event/women-uniteds-power-of-the-purse-presented-by-tanger-outlets-hilton-head/
LOCATION:Saltus River Grill\, Saltus River Grill
ORGANIZER;CN="United Way of the Lowcountry Serving Beaufort and Jasper Counties":MAILTO:noreply@facebookmail.com
END:VEVENT
END:VCALENDAR