BEGIN:VCALENDAR
VERSION:2.0
PRODID:-//Explore Beaufort SC - ECPv6.15.20//NONSGML v1.0//EN
CALSCALE:GREGORIAN
METHOD:PUBLISH
X-WR-CALNAME:Explore Beaufort SC
X-ORIGINAL-URL:https://explorebeaufortsc.com
X-WR-CALDESC:Events for Explore Beaufort SC
REFRESH-INTERVAL;VALUE=DURATION:PT1H
X-Robots-Tag:noindex
X-PUBLISHED-TTL:PT1H
BEGIN:VTIMEZONE
TZID:America/New_York
BEGIN:DAYLIGHT
TZOFFSETFROM:-0500
TZOFFSETTO:-0400
TZNAME:EDT
DTSTART:20240310T070000
END:DAYLIGHT
BEGIN:STANDARD
TZOFFSETFROM:-0400
TZOFFSETTO:-0500
TZNAME:EST
DTSTART:20241103T060000
END:STANDARD
BEGIN:DAYLIGHT
TZOFFSETFROM:-0500
TZOFFSETTO:-0400
TZNAME:EDT
DTSTART:20250309T070000
END:DAYLIGHT
BEGIN:STANDARD
TZOFFSETFROM:-0400
TZOFFSETTO:-0500
TZNAME:EST
DTSTART:20251102T060000
END:STANDARD
BEGIN:DAYLIGHT
TZOFFSETFROM:-0500
TZOFFSETTO:-0400
TZNAME:EDT
DTSTART:20260308T070000
END:DAYLIGHT
BEGIN:STANDARD
TZOFFSETFROM:-0400
TZOFFSETTO:-0500
TZNAME:EST
DTSTART:20261101T060000
END:STANDARD
END:VTIMEZONE
BEGIN:VEVENT
DTSTART;TZID=America/New_York:20250411T110000
DTEND;TZID=America/New_York:20250411T140000
DTSTAMP:20260425T130506
CREATED:20250410T025514Z
LAST-MODIFIED:20250410T025514Z
UID:22591-1744369200-1744380000@explorebeaufortsc.com
SUMMARY:Cemetery Walking Tour
DESCRIPTION:Beaufort National Cemetery is the 13th oldest national cemetery in the United States and is the final resting place for over 28\,000 veterans and eligible family members. Would you like to learn about some of the heroes buried here and their stories? Come join our cemetery walking tour. Volunteer docents will take you on a tour through the 162-year old cemetery and learn about our nation’s history through the stories of those who served and defended it. Tours start at the main flagpole. For more information\, contact the cemetery at 843-524-3925.
URL:https://explorebeaufortsc.com/event/cemetery-walking-tour-9/
LOCATION:1601 Boundary Street\, Beaufort\, SC\, United States\, South Carolina 29902\, 1601 Boundary Street\, Beaufort\, SC\, United States\, South Carolina 29902
ORGANIZER;CN="Beaufort National Cemetery":MAILTO:noreply@facebookmail.com
END:VEVENT
BEGIN:VEVENT
DTSTART;TZID=America/New_York:20250411T140000
DTEND;TZID=America/New_York:20250411T170000
DTSTAMP:20260425T130506
CREATED:20250325T134041Z
LAST-MODIFIED:20250410T025515Z
UID:22390-1744380000-1744390800@explorebeaufortsc.com
SUMMARY:Beaufort Wine - Grand Opening Ribbon Cutting
DESCRIPTION:UPDATE! New time – we’ll celebrate at 2:00 pm.  \nMark your calendar and join us for our grand opening ribbon cutting with the Beaufort Regional Chamber!! 🥳🥂 \n#beaufortwine #wineshop #winetasting #BeaufortSC #GrandOpeningEvent
URL:https://explorebeaufortsc.com/event/beaufort-wine-grand-opening-ribbon-cutting/
LOCATION:1113 Harrington St\, Beaufort\, SC 29902-4168\, United States\, 1113 Harrington St\, Beaufort\, SC 29902-4168\, United States
ORGANIZER;CN="Beaufort Wine & Whiskey":MAILTO:noreply@facebookmail.com
END:VEVENT
BEGIN:VEVENT
DTSTART;TZID=America/New_York:20250411T160000
DTEND;TZID=America/New_York:20250411T190000
DTSTAMP:20260425T130506
CREATED:20250315T022619Z
LAST-MODIFIED:20250410T025515Z
UID:22311-1744387200-1744398000@explorebeaufortsc.com
SUMMARY:Habersham Farmers Market
DESCRIPTION:Join us for fresh produce and handcrafted items from our amazing vendors \nhttps://www.facebook.com/events/610706071953415/?event_time_id=610706145286741
URL:https://explorebeaufortsc.com/event/habersham-farmers-market-27/
LOCATION:Habersham South Carolina\, Habersham South Carolina
ORGANIZER;CN="Habersham Farmers Market":MAILTO:noreply@facebookmail.com
END:VEVENT
BEGIN:VEVENT
DTSTART;TZID=America/New_York:20250411T173000
DTEND;TZID=America/New_York:20250413T190000
DTSTAMP:20260425T130506
CREATED:20250325T134041Z
LAST-MODIFIED:20250410T025515Z
UID:22392-1744392600-1744570800@explorebeaufortsc.com
SUMMARY:Old Town Bluffton Spring Fling!
DESCRIPTION:Old Town Bluffton Spring Fling! Kick off the weekend of fun with a concert in the Promenade Friday\, April 11th\, 5:30-8:30.
URL:https://explorebeaufortsc.com/event/old-town-bluffton-spring-fling/
LOCATION:Old Town Bluffton\, Bluffton\, SC\, 29910\, US
ORGANIZER;CN="Shop Old Town Bluffton":MAILTO:noreply@facebookmail.com
END:VEVENT
BEGIN:VEVENT
DTSTART;TZID=America/New_York:20250411T180000
DTEND;TZID=America/New_York:20250411T220000
DTSTAMP:20260425T130506
CREATED:20250404T181350Z
LAST-MODIFIED:20250410T025515Z
UID:22547-1744394400-1744408800@explorebeaufortsc.com
SUMMARY:Parents' Night Out
DESCRIPTION:Have a night to yourself and we’ll have fun with the kids during Parents’ Night Out at the Wardle Family YMCA! \nAGES: 3 MONTHS – 12 YEARS \nRATES: $25/CHILD | $20/SIBLING \nRegister in house (payment due at time of registration) by the Thursday before the event date.  \nGames\, crafts\, swimming (depending on the month)\, dinner and fun is included! \nhttps://www.facebook.com/events/642734075069159/?event_time_id=642749288400971
URL:https://explorebeaufortsc.com/event/parents-night-out/
LOCATION:Wardle Family YMCA
ORGANIZER;CN="Beaufort-Jasper YMCA of the Lowcountry":MAILTO:noreply@facebookmail.com
END:VEVENT
BEGIN:VEVENT
DTSTART;TZID=America/New_York:20250411T180000
DTEND;TZID=America/New_York:20250411T220000
DTSTAMP:20260425T130506
CREATED:20250130T144440Z
LAST-MODIFIED:20250410T025515Z
UID:21849-1744394400-1744408800@explorebeaufortsc.com
SUMMARY:VMFA-122 Reunion
DESCRIPTION:Attention all VMFA-122 Flying Leathernecks\, Werewolves\, Crusaders\, and Candystripers: The Call On Me Foundation is hosting an All-Hands\, All-Generations Reunion for 2025 in Beaufort\, South Carolina.  \nThe Call On Me Foundation\, a non-profit organization started by former VMFA-122 members\, will be hosting the reunion at Shellring Ale Works in Port Royal\, South Carolina on the evening of April 11th\, 2025\, from 18:00 to 22:00. \nThis will be our second time gathering VMFA-122 Marines for a reunion occurring the same weekend as the Beaufort Air Show. This will be a great kickoff to your weekend there and a chance to see fellow Marines you may have not seen for decades\, or from generations of VMF-122/VMFA-122 you have not had the chance to meet! We are all brothers and sisters and most certainly family.  \nPlease plan on joining us for an evening of sharing stories\, seeing old friends\, making new friends\, sharing a few laughs\, toasting with great drinks\, and making some great memories. There might even be an old-school safety brief thrown in there somewhere. \nShare this with as many past and present VMFA-122 Marines as you can\, certainly those who don’t have access to social media. \nPlease RSVP as soon as possible if you plan on attending so we can get a good head count ahead of time\, and save the date for April 11th\, 2025! \nSend emails to: Callonmefoundation@gmail.com
URL:https://explorebeaufortsc.com/event/vmfa-122-reunion/
LOCATION:Shellring Ale Works\, 1111 11th street\, Port Royal\, SC\, 29935\, US
ORGANIZER;CN="COM":MAILTO:noreply@facebookmail.com
END:VEVENT
END:VCALENDAR