BEGIN:VCALENDAR
VERSION:2.0
PRODID:-//Explore Beaufort SC - ECPv6.15.20//NONSGML v1.0//EN
CALSCALE:GREGORIAN
METHOD:PUBLISH
X-ORIGINAL-URL:https://explorebeaufortsc.com
X-WR-CALDESC:Events for Explore Beaufort SC
REFRESH-INTERVAL;VALUE=DURATION:PT1H
X-Robots-Tag:noindex
X-PUBLISHED-TTL:PT1H
BEGIN:VTIMEZONE
TZID:America/New_York
BEGIN:DAYLIGHT
TZOFFSETFROM:-0500
TZOFFSETTO:-0400
TZNAME:EDT
DTSTART:20240310T070000
END:DAYLIGHT
BEGIN:STANDARD
TZOFFSETFROM:-0400
TZOFFSETTO:-0500
TZNAME:EST
DTSTART:20241103T060000
END:STANDARD
BEGIN:DAYLIGHT
TZOFFSETFROM:-0500
TZOFFSETTO:-0400
TZNAME:EDT
DTSTART:20250309T070000
END:DAYLIGHT
BEGIN:STANDARD
TZOFFSETFROM:-0400
TZOFFSETTO:-0500
TZNAME:EST
DTSTART:20251102T060000
END:STANDARD
BEGIN:DAYLIGHT
TZOFFSETFROM:-0500
TZOFFSETTO:-0400
TZNAME:EDT
DTSTART:20260308T070000
END:DAYLIGHT
BEGIN:STANDARD
TZOFFSETFROM:-0400
TZOFFSETTO:-0500
TZNAME:EST
DTSTART:20261101T060000
END:STANDARD
END:VTIMEZONE
BEGIN:VEVENT
DTSTART;TZID=America/New_York:20250414T090000
DTEND;TZID=America/New_York:20250417T120000
DTSTAMP:20260425T144736
CREATED:20250325T134044Z
LAST-MODIFIED:20250410T025519Z
UID:22404-1744621200-1744891200@explorebeaufortsc.com
SUMMARY:Spring Break Tennis Camp
DESCRIPTION:Join us for a fun-filled four days of Tennis instruction\, arts & crafts and team building games at Celadon Club.  \nSpring Break Tennis Camp is for Campers Ages 5-12 years old. \nCamp runs Monday through Thursday from 9:00am-12:00pm.  \nCamp families are welcome to stay and enjoy our pool facilities for the afternoon following pick up at 12:00pm. \nTo register kindly email jessica@celadonclub.com
URL:https://explorebeaufortsc.com/event/spring-break-tennis-camp/
LOCATION:61 Celadon Drive\, Beaufort\, SC\, United States\, South Carolina 29907\, 61 Celadon Drive\, Beaufort\, SC\, United States\, South Carolina 29907
ORGANIZER;CN="Celadon Club Wellness Center":MAILTO:noreply@facebookmail.com
END:VEVENT
BEGIN:VEVENT
DTSTART;TZID=America/New_York:20250417T170000
DTEND;TZID=America/New_York:20250417T190000
DTSTAMP:20260425T144736
CREATED:20250410T025521Z
LAST-MODIFIED:20250410T025521Z
UID:22608-1744909200-1744916400@explorebeaufortsc.com
SUMMARY:Cigar Night @ Shellring Ale Works
DESCRIPTION:JUST LIKE EVERY 3RD WEEK OF THE MONTH JOIN US FOR A WONDERFUL NIGHT FILLED WITH CIGARS\, BEERS\, FELLOWSHIP\, MUSIC\, & VIEWS.NEED SPECIALTY CIGARS? ASK THE CIGAR CONCIERGE. NEED ENGRAVING OR PRINT TALK TO VIVID LASERWORK & DESIGN.
URL:https://explorebeaufortsc.com/event/cigar-night-shellring-ale-works-3/
LOCATION:Shellring Ale Works\, 1111 11th street\, Port Royal\, SC\, 29935\, US
ORGANIZER;CN="Lowcountry Cigar Club":MAILTO:noreply@facebookmail.com
END:VEVENT
BEGIN:VEVENT
DTSTART;TZID=America/New_York:20250417T170000
DTEND;TZID=America/New_York:20250417T183000
DTSTAMP:20260425T144736
CREATED:20250130T144441Z
LAST-MODIFIED:20250410T025521Z
UID:21851-1744909200-1744914600@explorebeaufortsc.com
SUMMARY:An Evening with Novelist Emily Carpenter\, Author of Gothictown
DESCRIPTION:The nonprofit Pat Conroy Literary Center\, in partnership with NeverMore Books\, will host an evening with novelist Emily Carpenter\, author of the newly published novel Gothictown\, on Thursday\, April 17\, at 5:00 p.m.\, at the Conroy Center (601 Bladen St.\, Beaufort). Carpenter will be in conversation with Conroy Center executive director Jonathan Haupt. Free and open to the public. Books will be available for sale and signing. Seating is limited; please call in advance to reserve: 843-379-7025. \nABOUT THE BOOK AND AUTHOR“A high-energy read that effortlessly reinvents the modern Gothic while delivering all the elements that make the genre so captivating: a haunting atmosphere\, a dark legacy\, a determined heroine and a whisper of horror. I love the Gothic and I love Gothictown.” —Jayne Ann Krentz\, New York Times bestselling author \n“Just the right amount of creepiness to add a scary but not terrifying element to the promised gothic tale\, and the post-pandemic what-do-I-do-now feeling is spot on.” —firstCLUE \n*A Publishers Marketplace BUZZ BOOKS Selection* \nIn an immersive Southern Gothic with echoes of Shirley Jackson’s The Lottery and Sharp Objects by Gillian Flynn\, a restauranteur lured by pandemic-era incentives moves her family to a seemingly idyllic small town in Georgia\, only to discover a darkness lurking beneath the Southern hospitality and sun-dappled streets. \nThe email that lands in Billie Hope’s inbox seems like a gift from the universe. For $100\, she can purchase a spacious Victorian home in Juliana\, Georgia\, a small town eager to boost its economy in the wake of the pandemic. She can leave behind her cramped New York City rental and the painful memories of shuttering her once thriving restaurant and start over with her husband and her daughter. Plus\, she’ll get a business grant to open a new restaurant in a charming riverside community laden with opportunity. It seems like a dream come true…or a devil’s bargain. \nA few phone calls and one hurried visit later\, and Billie\, Peter\, and six-year-old Meredith are officially part of the Juliana Initiative. The town is everything promised—two hours northwest of Atlanta but a world away from city living\, a “gentle jewel” with weather as warm as its people. Between settling into their lavish home and starting her new restaurant\, Billie is busy enough to dismiss any troubling signS. \nBut Billie’s sleep is marred by haunting dreams\, and her marriage with Peter is growing increasingly strained. Meanwhile the town elders\, all descended from Juliana’s founding families\, exert a level of influence that feels less benevolent and more stifling day by day. \nThere’s something about “Gentle Juliana”—something off-kilter and menacing beneath that famous Southern hospitality. And no matter how much Billie longed for her family to come here\, she’s starting to wonder how\, and if\, they’ll ever leave. \nABOUT THE AUTHOREmily Carpenter is a bestselling author of suspense novels including Burying the Honeysuckle Girls\, The Weight of Lies and Gothictown. Born and raised in Birmingham\, Alabama\, she graduated from Auburn University and worked in New York City as an actor\, producer\, screenwriter\, and behind-the-scenes soap opera assistant for the CBS shows As the World Turns and Guiding Light. She now lives with her family outside Atlanta\, Georgia\, and can be found online at EmilyCarpenterAuthor.com. \nABOUT THE INTERVIEWERJonathan Haupt is the executive director of the nonprofit Pat Conroy Literary Center\, the past director of the University of South Carolina Press\, and co-editor of the anthology Our Prince of Scribes: Writers Remember Pat Conroy\, winner of 17 book awards. He is a frequent guest book reviewer for the Charleston Post and Courier and a mentor to the student leaders of DAYLO: Diversity Awareness Youth Literacy Organization.
URL:https://explorebeaufortsc.com/event/an-evening-with-novelist-emily-carpenter-author-of-gothictown/
LOCATION:601 Bladen Street\, Beaufort\, SC\, United States\, South Carolina 29902\, 601 Bladen Street\, Beaufort\, SC\, United States\, South Carolina 29902
ORGANIZER;CN="Pat Conroy Literary Center":MAILTO:noreply@facebookmail.com
END:VEVENT
END:VCALENDAR