BEGIN:VCALENDAR
VERSION:2.0
PRODID:-//Explore Beaufort SC - ECPv6.15.20//NONSGML v1.0//EN
CALSCALE:GREGORIAN
METHOD:PUBLISH
X-WR-CALNAME:Explore Beaufort SC
X-ORIGINAL-URL:https://explorebeaufortsc.com
X-WR-CALDESC:Events for Explore Beaufort SC
REFRESH-INTERVAL;VALUE=DURATION:PT1H
X-Robots-Tag:noindex
X-PUBLISHED-TTL:PT1H
BEGIN:VTIMEZONE
TZID:America/New_York
BEGIN:DAYLIGHT
TZOFFSETFROM:-0500
TZOFFSETTO:-0400
TZNAME:EDT
DTSTART:20240310T070000
END:DAYLIGHT
BEGIN:STANDARD
TZOFFSETFROM:-0400
TZOFFSETTO:-0500
TZNAME:EST
DTSTART:20241103T060000
END:STANDARD
BEGIN:DAYLIGHT
TZOFFSETFROM:-0500
TZOFFSETTO:-0400
TZNAME:EDT
DTSTART:20250309T070000
END:DAYLIGHT
BEGIN:STANDARD
TZOFFSETFROM:-0400
TZOFFSETTO:-0500
TZNAME:EST
DTSTART:20251102T060000
END:STANDARD
BEGIN:DAYLIGHT
TZOFFSETFROM:-0500
TZOFFSETTO:-0400
TZNAME:EDT
DTSTART:20260308T070000
END:DAYLIGHT
BEGIN:STANDARD
TZOFFSETFROM:-0400
TZOFFSETTO:-0500
TZNAME:EST
DTSTART:20261101T060000
END:STANDARD
END:VTIMEZONE
BEGIN:VEVENT
DTSTART;TZID=America/New_York:20250422T173000
DTEND;TZID=America/New_York:20250422T203000
DTSTAMP:20260425T180652
CREATED:20250410T025526Z
LAST-MODIFIED:20250421T180107Z
UID:22619-1745343000-1745353800@explorebeaufortsc.com
SUMMARY:Artist Meet & Greet: Mary Bradlee Baker
DESCRIPTION:We’re excited to welcome local artist Mary Bradlee Baker to the Windhorse Gallery! Join us on April 22nd for an exclusive Meet & Greet and discover Mary Bradlee’s latest collection of stunning acrylic and mixed media artworks. Don’t miss the chance to meet the artist in person and take home an original piece to brighten your space.  \nRSVPs are kindly requested for this drop-in event—see you there!
URL:https://explorebeaufortsc.com/event/artist-meet-greet-mary-bradlee-baker/
LOCATION:809 Paris Ave\, Port Royal\, SC\, United States\, South Carolina\, 809 Paris Ave\, Port Royal\, SC\, United States\, South Carolina
ORGANIZER;CN="Windhorse Gallery & Marketplace":MAILTO:noreply@facebookmail.com
END:VEVENT
BEGIN:VEVENT
DTSTART;TZID=America/New_York:20250422T173000
DTEND;TZID=America/New_York:20250422T183000
DTSTAMP:20260425T180652
CREATED:20250224T004858Z
LAST-MODIFIED:20250421T180106Z
UID:22105-1745343000-1745346600@explorebeaufortsc.com
SUMMARY:Jonathan Haupt & Tim Conroy - Pat Conroy as Nature Writer
DESCRIPTION:Presented by 303 Associates \nClick the orange “Book A Program” button on our website to RSVPportroyalsoundfoundation.org \n$10/person (plus fees) \nHonoring Earth Day\, Jonathan Haupt will discuss the nature writing of Pat Conroy\, the bestselling author of The Water Is Wide\, The Great Santini\, The Prince of Tides\, and more. From his obscure boyhood poetry to his beloved lyrical adult prose\, Conroy wrote about the beauty of our natural world as both wondrous and perilous\, using the lowcountry not only as a setting but as the central character of his many books. This presentation will highlight representative examples of Conroy’s nature writing from across the span of his writing life\, drawing attention to how Conroy’s relationship with nature is also ultimately a relationship with his deeply felt spiritual and humanistic faith. Haupt will also discuss on the nonprofit Pat Conroy Literary Center honors and continues Conroy’s legacy as both writer and educator\, with examples of exhibits and educational programs also reflective of the author’s nature writings. \nJonathan Haupt is the Executive Director of the nonprofit Pat Conroy Literary Center\, the past director of the University of South Carolina Press\, and co-editor of the anthology Our Prince of Scribes: Writers Remember Pat Conroy\, winner of 17 book awards. He is a frequent guest book reviewer for the Pulitzer Prize-winning Charleston Post and Courier. In 2020\, he was honored with the Doug Marlette Literacy Leadership Award\, a lifetime achievement recognition presented by the Pulpwood Queens\, the largest read-and-meet book club in the U.S. Under Jonathan’s leadership\, the Conroy Center has been recognized as an American Library Association Literary Landmark\, an affiliate of the American Writers Museum\, and winner of the Civitas Award for Tourism Leadership. With Claire Bennett\, Jonathan also serves as co-mentor to the student leaders of DAYLO: Diversity Awareness Youth Literacy Organization\, who in turn have been recognized with a national commendation from the American Association of School Librarians\, the South Carolina Education Association’s Richard W. Riley Award for Human and Civil Rights\, and an honorable mention for the South Carolina Library Association’s Intellectual Freedom Award.
URL:https://explorebeaufortsc.com/event/jonathan-haupt-tim-conroy-pat-conroy-as-nature-writer/
LOCATION:Port Royal Sound Foundation
ORGANIZER;CN="Port Royal Sound Foundation":MAILTO:noreply@facebookmail.com
END:VEVENT
BEGIN:VEVENT
DTSTART;TZID=America/New_York:20250422T173000
DTEND;TZID=America/New_York:20250422T183000
DTSTAMP:20260425T180652
CREATED:20250304T032932Z
LAST-MODIFIED:20250421T180107Z
UID:22205-1745343000-1745346600@explorebeaufortsc.com
SUMMARY:Tuesday Talk: Pat Conroy as Nature Writer (An Earth Day Special Event)
DESCRIPTION:“My soul grazes like a lamb on the beauty of an indrawn tide.”—Pat Conroy\, The Prince of Tides \nHonoring Earth Day\, Pat Conroy Literary Center executive director Jonathan Haupt and poet Tim Conroy will discuss the nature writing of Pat Conroy\, the bestselling author of The Water Is Wide\, The Great Santini\, The Prince of Tides\, and more. From his obscure boyhood poetry to his beloved lyrical adult prose\, Conroy wrote about the beauty of our natural world as both wondrous and perilous\, using the lowcountry not only as a setting but as the central character of his many books. This presentation will highlight representative examples of Conroy’s nature writing from across the span of his writing life\, drawing attention to how Conroy’s relationship with nature is also ultimately a relationship with his deeply felt spiritual and humanistic faith.  \nThis event will be held at the Port Royal Sound Foundation Maritime Center (310 Okatie Hwy) on Tuesday\, April 22\, at 5:30 p.m. $10/person. To register\, visit portroyalsoundfoundation.org and click the orange “Book A Program” button.  \nAbout Our PresentersJonathan Haupt is the executive director of the nonprofit Pat Conroy Literary Center\, the past director of the University of South Carolina Press\, and co-editor of the anthology Our Prince of Scribes: Writers Remember Pat Conroy\, winner of 17 book awards. He is a frequent guest book reviewer for the Pulitzer Prize-winning Charleston Post and Courier. Under Jonathan’s leadership\, the Conroy Center has been recognized as an American Library Association Literary Landmark\, an affiliate of the American Writers Museum\, and winner of the Civitas Award for Tourism Leadership.  \nTim Conroy\, the author of the collections Theologies of Terrain and No True Route\, is a poet and retired educator. His work has appeared in Fall Lines\, Blue Mountain Review\, Jasper Magazine\, Marked by the Water\, Sheltered\, Twelve Mile Review\, Poetry on the Comet\, The Post and Courier\, Ukweli: Searching for Healing Truth\, DWG Anthology\, and Our Prince of Scribes: Writers Remember Pat Conroy. In 2022\, he received the Broad River Prize for prose from Fall Lines\, Volume IX. A founding board member of the Pat Conroy Literary Center established in his brother’s honor\, “My soul grazes like a lamb on the beauty of an indrawn tide.”—Pat Conroy\, The Prince of Tides
URL:https://explorebeaufortsc.com/event/tuesday-talk-pat-conroy-as-nature-writer-an-earth-day-special-event/
LOCATION:Port Royal Sound Maritime Center\, Port Royal Sound Maritime Center
ORGANIZER;CN="Pat Conroy Literary Center":MAILTO:noreply@facebookmail.com
END:VEVENT
BEGIN:VEVENT
DTSTART;TZID=America/New_York:20250422T173000
DTEND;TZID=America/New_York:20250422T203000
DTSTAMP:20260425T180652
CREATED:20250325T134047Z
LAST-MODIFIED:20250421T180107Z
UID:22414-1745343000-1745353800@explorebeaufortsc.com
SUMMARY:Earth Day Clean-up
DESCRIPTION:Join Beaufort Litter Patrol and Grounded Running for an Earth Day clean-up along our adopted section of the Spanish Moss Trail!  \nWe will be meeting at the trail at 5:30pm before venturing out to pick up some litter. At the end of our time\, you can drop off your collected litter for us to weigh in and stay to enjoy some good food and good company in celebration of Earth Day!  \nFollow the link to RSVP and to see more details. This clean-up is registered with Beaufort County Earth Day week. If you plan to come volunteer and would like a free t-shirt\, please RSVP by **March 19th**.Any RSVP after March 19 will not be included in the head count for a t-shirt.  \nWe will provide gloves\, bags\, grabbers\, and hand sanitizer.Please bring water and wear appropriate clothing/shoes for picking up litter.
URL:https://explorebeaufortsc.com/event/earth-day-clean-up/
LOCATION:Roseida Road Parking for Spanish Moss Trail\, Roseida Road Parking for Spanish Moss Trail
ORGANIZER;CN="Beaufort Litter Patrol":MAILTO:noreply@facebookmail.com
END:VEVENT
END:VCALENDAR