BEGIN:VCALENDAR
VERSION:2.0
PRODID:-//Explore Beaufort SC - ECPv6.15.20//NONSGML v1.0//EN
CALSCALE:GREGORIAN
METHOD:PUBLISH
X-ORIGINAL-URL:https://explorebeaufortsc.com
X-WR-CALDESC:Events for Explore Beaufort SC
REFRESH-INTERVAL;VALUE=DURATION:PT1H
X-Robots-Tag:noindex
X-PUBLISHED-TTL:PT1H
BEGIN:VTIMEZONE
TZID:America/New_York
BEGIN:DAYLIGHT
TZOFFSETFROM:-0500
TZOFFSETTO:-0400
TZNAME:EDT
DTSTART:20240310T070000
END:DAYLIGHT
BEGIN:STANDARD
TZOFFSETFROM:-0400
TZOFFSETTO:-0500
TZNAME:EST
DTSTART:20241103T060000
END:STANDARD
BEGIN:DAYLIGHT
TZOFFSETFROM:-0500
TZOFFSETTO:-0400
TZNAME:EDT
DTSTART:20250309T070000
END:DAYLIGHT
BEGIN:STANDARD
TZOFFSETFROM:-0400
TZOFFSETTO:-0500
TZNAME:EST
DTSTART:20251102T060000
END:STANDARD
BEGIN:DAYLIGHT
TZOFFSETFROM:-0500
TZOFFSETTO:-0400
TZNAME:EDT
DTSTART:20260308T070000
END:DAYLIGHT
BEGIN:STANDARD
TZOFFSETFROM:-0400
TZOFFSETTO:-0500
TZNAME:EST
DTSTART:20261101T060000
END:STANDARD
END:VTIMEZONE
BEGIN:VEVENT
DTSTART;TZID=America/New_York:20250427T140000
DTEND;TZID=America/New_York:20250427T160000
DTSTAMP:20260425T181349
CREATED:20250415T175935Z
LAST-MODIFIED:20250415T175935Z
UID:22782-1745762400-1745769600@explorebeaufortsc.com
SUMMARY:Annual Birthday Party for Birds at Cypress Wetlands
DESCRIPTION:Join us for Birthday for the Birds on Sunday\, April 27th\, 2025\, from 2 PM to 4 PM at the Port Royal Cypress Wetlands and Rookery\, 1700 Paris Ave\, Port Royal\, SC.\n\nCelebrate the wildlife of the Lowcountry with live animal exhibits from the Port Royal Sound Foundation\, including alligators\, turtles\, and snakes.\nEnjoy a scavenger hunt\, prizes\, cupcakes\, activity books\, souvenir photos\, and more.\n\nThis free\, family-friendly event is open to the public. For more details\, visit: https://flow.page/birthdayofthebirds
URL:https://explorebeaufortsc.com/event/annual-birthday-party-for-birds-at-cypress-wetlands/
LOCATION:Port Royal Cypress Wetlands\, Paris Avenue\, Port Royal\, SC\, 29935\, United States
ATTACH;FMTTYPE=image/jpeg:https://explorebeaufortsc.com/wp-content/uploads/2025/04/birthdaybirds2025.jpg
END:VEVENT
END:VCALENDAR