BEGIN:VCALENDAR
VERSION:2.0
PRODID:-//Explore Beaufort SC - ECPv6.15.20//NONSGML v1.0//EN
CALSCALE:GREGORIAN
METHOD:PUBLISH
X-WR-CALNAME:Explore Beaufort SC
X-ORIGINAL-URL:https://explorebeaufortsc.com
X-WR-CALDESC:Events for Explore Beaufort SC
REFRESH-INTERVAL;VALUE=DURATION:PT1H
X-Robots-Tag:noindex
X-PUBLISHED-TTL:PT1H
BEGIN:VTIMEZONE
TZID:America/New_York
BEGIN:DAYLIGHT
TZOFFSETFROM:-0500
TZOFFSETTO:-0400
TZNAME:EDT
DTSTART:20240310T070000
END:DAYLIGHT
BEGIN:STANDARD
TZOFFSETFROM:-0400
TZOFFSETTO:-0500
TZNAME:EST
DTSTART:20241103T060000
END:STANDARD
BEGIN:DAYLIGHT
TZOFFSETFROM:-0500
TZOFFSETTO:-0400
TZNAME:EDT
DTSTART:20250309T070000
END:DAYLIGHT
BEGIN:STANDARD
TZOFFSETFROM:-0400
TZOFFSETTO:-0500
TZNAME:EST
DTSTART:20251102T060000
END:STANDARD
BEGIN:DAYLIGHT
TZOFFSETFROM:-0500
TZOFFSETTO:-0400
TZNAME:EDT
DTSTART:20260308T070000
END:DAYLIGHT
BEGIN:STANDARD
TZOFFSETFROM:-0400
TZOFFSETTO:-0500
TZNAME:EST
DTSTART:20261101T060000
END:STANDARD
END:VTIMEZONE
BEGIN:VEVENT
DTSTART;TZID=America/New_York:20250501T160000
DTEND;TZID=America/New_York:20250501T190000
DTSTAMP:20260425T112559
CREATED:20250421T180112Z
LAST-MODIFIED:20250421T180112Z
UID:22814-1746115200-1746126000@explorebeaufortsc.com
SUMMARY:Millett Park Rededication
DESCRIPTION:Members and Friends:  \nThanks for supporting us at the Port Royal Soft-Shell Crab Festival.  \nHPRF will Rededicate Millett Park on Thursday May 1st @ 4 PM. \nMillett Park (The Magnolia Tree on Paris Ave near Town Hall)– This park was established in 1932 and dedicated on May 22\, 1976.– We’ll unveil a new sign for the park. – The Mayor and Town Council will participate.– Refreshments will follow the ceremony.– We will conduct the raffle drawing at this event.
URL:https://explorebeaufortsc.com/event/millett-park-rededication/
LOCATION:Paris Ave\, Port Royal\, SC\, United States\, South Carolina 29935\, Paris Ave\, Port Royal\, SC\, United States\, South Carolina 29935
END:VEVENT
BEGIN:VEVENT
DTSTART;TZID=America/New_York:20250501T170000
DTEND;TZID=America/New_York:20250501T183000
DTSTAMP:20260425T112559
CREATED:20250410T025535Z
LAST-MODIFIED:20250421T180113Z
UID:22630-1746118800-1746124200@explorebeaufortsc.com
SUMMARY:An Evening with Eat It & Like It Host Jesse Blanco\, Author of Charleston Food Crawls
DESCRIPTION:The nonprofit Pat Conroy Literary Center will host an evening of with Eat It and Like It co-founder and host Jesse Blanco\, author of Charleston Food Crawls on Thursday\, May 1\, at 5:00 p.m.\, at the Conroy Center (601 Bladen St.\, Beaufort). Free and open to the public. Books will be available for sale and signing. Seating is limited: please call to reserve in advance: 843-379-7025. \nAbout Jesse Blanco and Charleston Food CrawlsCharleston Food Crawls is an exciting culinary tour through the largest city in South Carolina. Taste the city’s culinary history through its top-notch neighborhood restaurants and bars. Hit the Upper Peninsula for a day of breweries and barbeque galore. Just in town for the weekend? Take a stroll through King Street for quick bites and crafty sips. Experience where southern comfort food and zesty libations collide and dig into Charleston one dish at a time. \nJesse Blanco is\, without question\, one of Savannah’s most recognizable personalities. His laid-back style and ability to connect with viewers and readers remain his calling card following a 24-year career in television news. During his 5 years as primary news anchor at the local FOX affiliate\, Jesse always found creative ways to connect with his audience. That talent extended to his weekly column in the Savannah Morning News\, which very quickly became one of the paper’s most popular features from 2012 to 2018. \nIn 2010\, Jesse and his business partner created a blog and later a television show dedicated to the underappreciated side of Savannah’s food scene. Four years later\, Savannah’s food scene exploded and Eat It and Like It found itself sitting in the front row to witness it all. Since 2014 he’s been the Savannah area’s only full-time food writer. Jesse is now the author of author of Savannah Food Crawls and Charleston Food Crawls.  \nJesse was born in California but calls Miami his hometown. Having been raised in a very large Cuban-American family where the genetic makeup consists of food\, music\, dancing\, laughing\, and friendship. Throw in an insatiable desire to travel and explore and you get someone who is only happy learning or trying new things. Jesse is married with one child.
URL:https://explorebeaufortsc.com/event/an-evening-with-eat-it-like-it-host-jesse-blanco-author-of-charleston-food-crawls/
LOCATION:601 Bladen Street\, Beaufort\, SC\, United States\, South Carolina 29902\, 601 Bladen Street\, Beaufort\, SC\, United States\, South Carolina 29902
ORGANIZER;CN="Pat Conroy Literary Center":MAILTO:noreply@facebookmail.com
END:VEVENT
BEGIN:VEVENT
DTSTART;TZID=America/New_York:20250501T173000
DTEND;TZID=America/New_York:20250501T203000
DTSTAMP:20260425T112559
CREATED:20250421T180113Z
LAST-MODIFIED:20250421T180113Z
UID:22818-1746120600-1746131400@explorebeaufortsc.com
SUMMARY:Lowcountry Young Professionals May Social Event
DESCRIPTION:Join Lowcountry Young Professionals for an evening of networking\, great conversations\, and new connections at Marker 244 in Port Royal on May 1st from 5:30 PM – 7:30 PM.  \nSponsored by Harrison Courtney and supported by Coastal Dock & Resurfacing\, this event promises to be an excellent opportunity to grow your circle and have a blast doing it! 🥂🌅
URL:https://explorebeaufortsc.com/event/lowcountry-young-professionals-may-social-event/
LOCATION:Port Royal SC
ORGANIZER;CN="Beaufort Regional Chamber":MAILTO:noreply@facebookmail.com
END:VEVENT
END:VCALENDAR