BEGIN:VCALENDAR
VERSION:2.0
PRODID:-//Explore Beaufort SC - ECPv6.15.20//NONSGML v1.0//EN
CALSCALE:GREGORIAN
METHOD:PUBLISH
X-ORIGINAL-URL:https://explorebeaufortsc.com
X-WR-CALDESC:Events for Explore Beaufort SC
REFRESH-INTERVAL;VALUE=DURATION:PT1H
X-Robots-Tag:noindex
X-PUBLISHED-TTL:PT1H
BEGIN:VTIMEZONE
TZID:America/New_York
BEGIN:DAYLIGHT
TZOFFSETFROM:-0500
TZOFFSETTO:-0400
TZNAME:EDT
DTSTART:20240310T070000
END:DAYLIGHT
BEGIN:STANDARD
TZOFFSETFROM:-0400
TZOFFSETTO:-0500
TZNAME:EST
DTSTART:20241103T060000
END:STANDARD
BEGIN:DAYLIGHT
TZOFFSETFROM:-0500
TZOFFSETTO:-0400
TZNAME:EDT
DTSTART:20250309T070000
END:DAYLIGHT
BEGIN:STANDARD
TZOFFSETFROM:-0400
TZOFFSETTO:-0500
TZNAME:EST
DTSTART:20251102T060000
END:STANDARD
BEGIN:DAYLIGHT
TZOFFSETFROM:-0500
TZOFFSETTO:-0400
TZNAME:EDT
DTSTART:20260308T070000
END:DAYLIGHT
BEGIN:STANDARD
TZOFFSETFROM:-0400
TZOFFSETTO:-0500
TZNAME:EST
DTSTART:20261101T060000
END:STANDARD
END:VTIMEZONE
BEGIN:VEVENT
DTSTART;TZID=America/New_York:20250502T170000
DTEND;TZID=America/New_York:20250503T160000
DTSTAMP:20260425T112750
CREATED:20250325T134049Z
LAST-MODIFIED:20250421T180114Z
UID:22419-1746205200-1746288000@explorebeaufortsc.com
SUMMARY:Taste of Beaufort 2025
DESCRIPTION:FREE ENTRY: Food Tickets $1 \nExperience the Culture\, Music & Food of the Lowcountry!FRIDAY & SATURDAY | MAY 2 & 3\, 2025 \nBringing the best culinary dishes from the Lowcountry. This festival is a foodie’s dream. \nMark your calendars for the annual A Taste of Beaufort Festival at the Henry C. Chambers Waterfront Park. \nLearn More: www.atasteofbeaufort.com
URL:https://explorebeaufortsc.com/event/taste-of-beaufort-2025/
LOCATION:Henry C. Chambers Waterfront Park
ORGANIZER;CN="Taste of Beaufort":MAILTO:noreply@facebookmail.com
END:VEVENT
BEGIN:VEVENT
DTSTART;TZID=America/New_York:20250503T061500
DTEND;TZID=America/New_York:20250503T091500
DTSTAMP:20260425T112750
CREATED:20250421T180114Z
LAST-MODIFIED:20250421T180114Z
UID:22822-1746252900-1746263700@explorebeaufortsc.com
SUMMARY:Spring Red Drum Tournament
DESCRIPTION:Join us for a Spring Red Drum Tournament. Weigh your heaviest 2 REDS per Team. Live Weigh in at the Sands Boat Landing.  \nMore Details to follow.
URL:https://explorebeaufortsc.com/event/spring-red-drum-tournament/
LOCATION:901 8th Street\, Port Royal\, SC\, United States\, South Carolina 29935\, 901 8th Street\, Port Royal\, SC\, United States\, South Carolina 29935
END:VEVENT
BEGIN:VEVENT
DTSTART;TZID=America/New_York:20250503T080000
DTEND;TZID=America/New_York:20250503T110000
DTSTAMP:20260425T112750
CREATED:20250410T025536Z
LAST-MODIFIED:20250421T180114Z
UID:22633-1746259200-1746270000@explorebeaufortsc.com
SUMMARY:69th Beaufort Water Festival 5k/10k Run
DESCRIPTION:The 69th Annual Beaufort Water Festival welcomes you to the festival’s third event of the year\, the 5k/10k on Saturday\, May 3rd\, 2025. The 5K/10K race will start at 8:00 AM in beautiful Port Royal at Live Oak Park. This wonderful flat course takes you along the moss-draped giant live oaks with beautiful views of the Intracoastal waterway.The course is USATF Certified #SC18011DW
URL:https://explorebeaufortsc.com/event/69th-beaufort-water-festival-5k-10k-run/
LOCATION:901 14th St\, Port Royal\, SC 29935-2135\, United States\, 901 14th St\, Port Royal\, SC 29935-2135\, United States
ORGANIZER;CN="Annual Beaufort Water Festival":MAILTO:noreply@facebookmail.com
END:VEVENT
BEGIN:VEVENT
DTSTART;TZID=America/New_York:20250503T080000
DTEND;TZID=America/New_York:20250503T120000
DTSTAMP:20260425T112750
CREATED:20250421T180114Z
LAST-MODIFIED:20250421T180114Z
UID:22824-1746259200-1746273600@explorebeaufortsc.com
SUMMARY:Church Rummage Sale
DESCRIPTION:Come out to see us at Tidal Creek Fellowship on Saturday\, May 3 from 8AM-12PM for a Church Rummage & Bake Sale.  \nAll proceeds will go to helping our students in grades 2-12 attend camp this summer.  \nVisit www.tidalcreek.net/events to learn more!
URL:https://explorebeaufortsc.com/event/church-rummage-sale-2/
LOCATION:Tidal Creek Fellowship\, Tidal Creek Fellowship
ORGANIZER;CN="Tidal Creek Fellowship":MAILTO:noreply@facebookmail.com
END:VEVENT
BEGIN:VEVENT
DTSTART;TZID=America/New_York:20250503T084500
DTEND;TZID=America/New_York:20250503T190000
DTSTAMP:20260425T112750
CREATED:20250410T025537Z
LAST-MODIFIED:20250421T180115Z
UID:22635-1746261900-1746298800@explorebeaufortsc.com
SUMMARY:47th Annual Savannah Scottish Games
DESCRIPTION:6 Reasons to Join Us at the Savannah Scottish Games and Celtic Festival! 1️⃣ Thrilling athletic competitions2️⃣ Live music & cultural performances3️⃣ Delicious Scottish food & drinks4️⃣ Unique shopping experiences5️⃣ 30 Celtic Clan Camaraderie6️⃣ Fun for the whole family! \nDon’t miss out! Come with us to Scotland for the day! Click the link 🔗 www.savannahscottishgames.com 🏴󠁧󠁢󠁳󠁣󠁴󠁿Tickets on sale soon!🏴󠁧󠁢󠁳󠁣󠁴󠁿
URL:https://explorebeaufortsc.com/event/47th-annual-savannah-scottish-games/
LOCATION:Bethesda Academy\, Bethesda Academy
END:VEVENT
BEGIN:VEVENT
DTSTART;TZID=America/New_York:20250503T090000
DTEND;TZID=America/New_York:20250503T113000
DTSTAMP:20260425T112750
CREATED:20250325T134049Z
LAST-MODIFIED:20250421T180115Z
UID:22420-1746262800-1746271800@explorebeaufortsc.com
SUMMARY:23rd Annual May River Cleanup
DESCRIPTION:Town of Bluffton leaders and staff are asking residents to help clean up the May River\, its shores\, nearby streets\, and the parks of the Bluffton Historic District on Saturday\, May 3\, from 9:00 to 11:30 a.m. (Please arrive at 8:30 a.m. to allow time for setup.) \nEvent partners and the Town of Bluffton will provide all supplies and lunch. \nFor more information\, please contact Nicole Wright\, Stormwater Technician\, at 843-540-6958 or nwright@townofbluffton.com.
URL:https://explorebeaufortsc.com/event/23rd-annual-may-river-cleanup/
LOCATION:Oyster Factory Park
ORGANIZER;CN="Town of Bluffton Government":MAILTO:noreply@facebookmail.com
END:VEVENT
BEGIN:VEVENT
DTSTART;TZID=America/New_York:20250503T090000
DTEND;TZID=America/New_York:20250503T120000
DTSTAMP:20260425T112750
CREATED:20250224T004900Z
LAST-MODIFIED:20250421T180115Z
UID:22109-1746262800-1746273600@explorebeaufortsc.com
SUMMARY:Royal Pines Community Yard Sale
DESCRIPTION:Community yard sale. Some people will be setup along the Royal Pines Boulevard while others will participate from their homes. We will provide the list of home participants based on who has registered.
URL:https://explorebeaufortsc.com/event/royal-pines-community-yard-sale/
LOCATION:Royal Pines\, Lady’s Island\, Royal Pines\, Lady’s Island
ORGANIZER;CN="Royal Pines HOA":MAILTO:noreply@facebookmail.com
END:VEVENT
BEGIN:VEVENT
DTSTART;TZID=America/New_York:20250503T090000
DTEND;TZID=America/New_York:20250503T140000
DTSTAMP:20260425T112750
CREATED:20250325T134053Z
LAST-MODIFIED:20250421T180115Z
UID:22423-1746262800-1746280800@explorebeaufortsc.com
SUMMARY:Colonial Faire & Muster
DESCRIPTION:Cannon demonstration and firing\, musket demonstrations and firing\, 19th century children’s activities\, Revolutionary War living historians.
URL:https://explorebeaufortsc.com/event/colonial-faire-muster/
LOCATION:Old House Plantation\, Old House Plantation
ORGANIZER;CN="Jasper County 250":MAILTO:noreply@facebookmail.com
END:VEVENT
BEGIN:VEVENT
DTSTART;TZID=America/New_York:20250503T093000
DTEND;TZID=America/New_York:20250503T120000
DTSTAMP:20260425T112750
CREATED:20250224T004900Z
LAST-MODIFIED:20250421T180115Z
UID:22110-1746264600-1746273600@explorebeaufortsc.com
SUMMARY:Monthly Teddy Bear Picnic Read-Aloud with DAYLO
DESCRIPTION:On the first Saturday of every month\, you can join the student volunteers of DAYLO: Diversity Awareness Youth Literacy Organization for a Teddy Bear Picnic read-aloud at the Port Royal Farmers Market (1615 Ribaut Rd.). In collaboration with the nonprofit Pat Conroy Literary Center\, high school and college student volunteers from the Beaufort-based chapters of DAYLO gather at the gazebo in Naval Heritage Park from 9:30 a.m. to noon to read diverse\, inclusive picture books to children and their families\, inspiring a love of stories\, books\, reading\, and peer-to-peer mentoring.  \nCozy blankets\, a plethora of stuffed animals\, and some snacks help the students make a welcoming environment in this free community literacy program. Several times a year\, National Park Service Ranger Katherine Freeman also joins in for Read with a Ranger\, a literacy and art project thematically connected to the missions of DAYLO\, the Conroy Center\, and the Reconstruction Era National Historic Park.  \nDAYLO is a student-led diversity themed book club and community service group founded at Beaufort High School and now with chapters across South Carolina. Learn more at: https://linktr.ee/DAYLOBFT. \nThe Pat Conroy Literary Center is a nonprofit interpretive and learning center advancing the legacy of beloved\, bestselling writer\, educator\, and mentor Pat Conroy (1945-2016)\, author of The Water Is Wide\, The Great Santini\, The Prince of Tides\, and more. Learn more at: www.patconroyliterarycenter.org.
URL:https://explorebeaufortsc.com/event/monthly-teddy-bear-picnic-read-aloud-with-daylo-7/
LOCATION:Port Royal Farmers Market\, Port Royal Farmers Market
ORGANIZER;CN="Pat Conroy Literary Center":MAILTO:noreply@facebookmail.com
END:VEVENT
BEGIN:VEVENT
DTSTART;TZID=America/New_York:20250503T100000
DTEND;TZID=America/New_York:20250503T130000
DTSTAMP:20260425T112750
CREATED:20250404T181357Z
LAST-MODIFIED:20250421T180115Z
UID:22568-1746266400-1746277200@explorebeaufortsc.com
SUMMARY:LMS Spring Fling
DESCRIPTION:GAMES! PRIZES! VENDORS! BOUNCE HOUSES!ARTS & CRAFTS! FOOD TRUCKS!STUDENT PERFORMANCES & ART SHOW!LOTS OF FAMILY FUN!!
URL:https://explorebeaufortsc.com/event/lms-spring-fling/
LOCATION:749 Broad River Drive\, Beaufort\, SC\, United States\, South Carolina 29906\, 749 Broad River Drive\, Beaufort\, SC\, United States\, South Carolina 29906
ORGANIZER;CN="Lowcountry Montessori School":MAILTO:noreply@facebookmail.com
END:VEVENT
BEGIN:VEVENT
DTSTART;TZID=America/New_York:20250503T100000
DTEND;TZID=America/New_York:20250503T130000
DTSTAMP:20260425T112750
CREATED:20250410T025539Z
LAST-MODIFIED:20250421T180115Z
UID:22639-1746266400-1746277200@explorebeaufortsc.com
SUMMARY:Dollar General Low Cost Rabies Vaccine Clinic 180 Sea Island PKWY Lady's Island
DESCRIPTION:One year Rabies $12. Three year Rabies $22. DHPP/FVRCP $13. FeLV/Bordetella $22. Heartworm test $25. Microchips $24.Come see us for your dog and/or cat’s vaccinations\, heartworm test and microchip\, services provided by a local veterinarian. We would love to see you! For more info check out our website. www.lowcountrypetvaccineclinic.com.
URL:https://explorebeaufortsc.com/event/dollar-general-low-cost-rabies-vaccine-clinic-180-sea-island-pkwy-ladys-island-12/
LOCATION:180 Sea Island Pkwy Ladys Island SC 29907
ORGANIZER;CN="Lowcountry Pet Vaccine Clinic":MAILTO:noreply@facebookmail.com
END:VEVENT
BEGIN:VEVENT
DTSTART;TZID=America/New_York:20250503T130000
DTEND;TZID=America/New_York:20250503T160000
DTSTAMP:20260425T112750
CREATED:20250421T180116Z
LAST-MODIFIED:20250421T180116Z
UID:22827-1746277200-1746288000@explorebeaufortsc.com
SUMMARY:Build a Bird Feeder Workshop!
DESCRIPTION:🪶Build Something Beautiful—For Yourself or Someone You Love! �Join our Bird Feeder Workshop and create a handcrafted piece that your birds are going to enjoy! \n🌻Choose from 3 delightful designs: Cardinal\, Blue Jay\, or a whimsical Acorn. Whether you’re treating yourself or crafting a meaningful gift\, this is the perfect way to celebrate spring with creativity and purpose. \nAll materials are provided\, including chain & suet. No experience is necessary. Children age 12 and older are welcome with a parent that will also participate in the project.  \nSpots are limited to 8—sign up today. \nP.S. With a certain special day around the corner\, this also makes a thoughtful gift… just saying. \nWHEN: Saturday\, May 3\, 1p-4pWHERE: 2631 Boundary StreetCOST: $40✅ Register here: https://marshviewmercantile.commentsold.com/products/birdfeeder-workshop \n#birdfeeder #funclasses #birdlovers #backyardbirding #gardenlovers #handcrafted #diybirdfeeder #beaufortsc
URL:https://explorebeaufortsc.com/event/build-a-bird-feeder-workshop/
LOCATION:2631 Boundary St\, Beaufort\, SC\, 2631 Boundary St\, Beaufort\, SC
ORGANIZER;CN="Marshview Mercantile":MAILTO:noreply@facebookmail.com
END:VEVENT
BEGIN:VEVENT
DTSTART;TZID=America/New_York:20250503T170000
DTEND;TZID=America/New_York:20250503T190000
DTSTAMP:20260425T112750
CREATED:20250404T181358Z
LAST-MODIFIED:20250421T180116Z
UID:22570-1746291600-1746298800@explorebeaufortsc.com
SUMMARY:RLB Seaglass Wind Chimes Workshop 5/3
DESCRIPTION:Join us for a relaxing and creative Saturday workshop and craft your very own beautiful Seaglass Wind Chime! Whether you’re a beginner or have some crafting experience\, Camilla will guide you through the process\, helping you select colors\, arrange the seaglass\, and assemble your chime with care. \nYou’ll leave the workshop with a beautiful\, one-of-a-kind wind chime that brings a touch of coastal charm to your patio or porch. All materials are provided—just bring your creativity and a sense of fun! This is a perfect way to unwind\, connect with others\, and make something special to treasure for years to come. \nThe Seaglass Wind Chime Workshop with Camilla starts at 5 pm\, but come early (from 4 pm) so you have ample time to enjoy a Cocktail Flight Tasting (additional charge option). \nBook your ticket today – limited to 16 people! \nThis event is open for anyone age 21 and over.
URL:https://explorebeaufortsc.com/event/rlb-seaglass-wind-chimes-workshop-5-3/
LOCATION:Rotten Little Bastard Distillery
ORGANIZER;CN="Create with Camilla":MAILTO:noreply@facebookmail.com
END:VEVENT
END:VCALENDAR