BEGIN:VCALENDAR
VERSION:2.0
PRODID:-//Explore Beaufort SC - ECPv6.15.20//NONSGML v1.0//EN
CALSCALE:GREGORIAN
METHOD:PUBLISH
X-ORIGINAL-URL:https://explorebeaufortsc.com
X-WR-CALDESC:Events for Explore Beaufort SC
REFRESH-INTERVAL;VALUE=DURATION:PT1H
X-Robots-Tag:noindex
X-PUBLISHED-TTL:PT1H
BEGIN:VTIMEZONE
TZID:America/New_York
BEGIN:DAYLIGHT
TZOFFSETFROM:-0500
TZOFFSETTO:-0400
TZNAME:EDT
DTSTART:20240310T070000
END:DAYLIGHT
BEGIN:STANDARD
TZOFFSETFROM:-0400
TZOFFSETTO:-0500
TZNAME:EST
DTSTART:20241103T060000
END:STANDARD
BEGIN:DAYLIGHT
TZOFFSETFROM:-0500
TZOFFSETTO:-0400
TZNAME:EDT
DTSTART:20250309T070000
END:DAYLIGHT
BEGIN:STANDARD
TZOFFSETFROM:-0400
TZOFFSETTO:-0500
TZNAME:EST
DTSTART:20251102T060000
END:STANDARD
BEGIN:DAYLIGHT
TZOFFSETFROM:-0500
TZOFFSETTO:-0400
TZNAME:EDT
DTSTART:20260308T070000
END:DAYLIGHT
BEGIN:STANDARD
TZOFFSETFROM:-0400
TZOFFSETTO:-0500
TZNAME:EST
DTSTART:20261101T060000
END:STANDARD
END:VTIMEZONE
BEGIN:VEVENT
DTSTART;TZID=America/New_York:20250513T073000
DTEND;TZID=America/New_York:20250513T173000
DTSTAMP:20260425T112855
CREATED:20250415T175253Z
LAST-MODIFIED:20250415T175253Z
UID:22777-1747121400-1747157400@explorebeaufortsc.com
SUMMARY:South Coast Cyber Center 4th Annual Cyber Summit
DESCRIPTION:The South Coast Cyber Center will host its 4th Annual Cyber Summit on May 13-14\, 2025 at Tabby Place in downtown Beaufort. This year’s Summit will focus on the dynamic intersection of cybersecurity\, artificial intelligence (AI)\, and emerging technologies. \nThe Summit will begin on Tuesday\, May 13\, with an opening address by State Representative Jeff Bradley\, Chairman of the House Regulations\, Administrative Procedures\, Artificial Intelligence\, and Cybersecurity Committee. Representative Bradley has emerged as a key statewide leader for AI and cybersecurity. \nThe Honorable Pamela S. Evette\, Lieutenant Governor of South Carolina will keynote the Summit at lunch on Day One. Cybersecurity experts from the State Law Enforcement Division (SLED) and the Federal Bureau of Investigation’s (FBI) Cyber Crimes Unit will discuss pressing issues such as hacking\, ransomware\, and the global rise of cybercrime. \n“This will be our best Summit yet”\, said South Coast Cyber Center Chairman Warren Parker. “Attendees will have the opportunity to hear from state and national leaders on critical cybersecurity and AI developments\, as well as engage in discussions with industry pioneers such as Dr Laura Boccanfuso\, CEO and Founder of Van Robotics a South Carolina-based AI company and Dr Jeremy Daly\, Colorado State University expert in cybersecurity for the automobile\, trucking\, and boating industry.” \nThe Honorable Katie Arrington\, former member of the South Carolina legislature currently serving as Chief Information Officer for the Department of Defense will keynote Day Two and close the Summit. \nThe Summit will welcome students from the University of South Carolina Beaufort’s four-year cybersecurity concentration and the Technical College of the Lowcountry’s Associate Degree program\, offering these students valuable networking and learning opportunities. \nThe event is open to concerned citizens; government and business leaders; and educators and students\, providing a platform to engage with experts in cybersecurity and AI in a collaborative environment. \n\nFor registration details and a full list of speakers\, visit https://www.southcoastcybersummit.com/\n\nThe South Coast Cyber Center is a nonprofit collaboration between the University of South Carolina Beaufort\, the Technical College of the Lowcountry\, the Beaufort Digital Corridor\, and the Beaufort County Economic Development Corporation\, with strong support from local government and business leaders. The Center is dedicated to fostering cybersecurity education\, workforce development\, and economic growth in the Lowcountry.
URL:https://explorebeaufortsc.com/event/south-coast-cyber-center-4th-annual-cyber-summit/
LOCATION:Tabby Place at the Beaufort Inn\, 913 Port Republic Street\, Beaufort\, SC\, 29902\, United States
ATTACH;FMTTYPE=image/jpeg:https://explorebeaufortsc.com/wp-content/uploads/2025/04/southcoastcybercenter.jpg
END:VEVENT
END:VCALENDAR