BEGIN:VCALENDAR
VERSION:2.0
PRODID:-//Explore Beaufort SC - ECPv6.15.20//NONSGML v1.0//EN
CALSCALE:GREGORIAN
METHOD:PUBLISH
X-ORIGINAL-URL:https://explorebeaufortsc.com
X-WR-CALDESC:Events for Explore Beaufort SC
REFRESH-INTERVAL;VALUE=DURATION:PT1H
X-Robots-Tag:noindex
X-PUBLISHED-TTL:PT1H
BEGIN:VTIMEZONE
TZID:America/New_York
BEGIN:DAYLIGHT
TZOFFSETFROM:-0500
TZOFFSETTO:-0400
TZNAME:EDT
DTSTART:20240310T070000
END:DAYLIGHT
BEGIN:STANDARD
TZOFFSETFROM:-0400
TZOFFSETTO:-0500
TZNAME:EST
DTSTART:20241103T060000
END:STANDARD
BEGIN:DAYLIGHT
TZOFFSETFROM:-0500
TZOFFSETTO:-0400
TZNAME:EDT
DTSTART:20250309T070000
END:DAYLIGHT
BEGIN:STANDARD
TZOFFSETFROM:-0400
TZOFFSETTO:-0500
TZNAME:EST
DTSTART:20251102T060000
END:STANDARD
BEGIN:DAYLIGHT
TZOFFSETFROM:-0500
TZOFFSETTO:-0400
TZNAME:EDT
DTSTART:20260308T070000
END:DAYLIGHT
BEGIN:STANDARD
TZOFFSETFROM:-0400
TZOFFSETTO:-0500
TZNAME:EST
DTSTART:20261101T060000
END:STANDARD
END:VTIMEZONE
BEGIN:VEVENT
DTSTART;TZID=America/New_York:20250515T150000
DTEND;TZID=America/New_York:20250515T170000
DTSTAMP:20260425T112749
CREATED:20250512T162130Z
LAST-MODIFIED:20250512T162130Z
UID:22920-1747321200-1747328400@explorebeaufortsc.com
SUMMARY:🍽️ Community Food Bank — Serving with Love Every 1st & 3rd Thursday! 🙌
DESCRIPTION:We’re here to serve — body and soul! ❤️ If you or someone you know is in need\, our Community Food Bank is open to everyone. No questions asked — just open hearts and helping hands. \n✨ Why We Serve:Jesus said\, “For I was hungry and you gave me something to eat…” (Matthew 25:35). Our mission is simple — to share the love of Christ by meeting practical needs and offering hope. When you come through our doors\, you won’t just leave with groceries — you’ll leave with encouragement\, prayer\, and a reminder that God sees you and loves you deeply. \n🥖 What We Offer: \nFresh fruits and vegetables 🥦Pantry essentials 🍞Prayer and encouragement 🙏🌱 Everyone is welcome! Whether you need a helping hand or want to volunteer and share God’s love\, we’d love to see you there. \n🕊️ “And my God will supply every need of yours according to his riches in glory in Christ Jesus.” (Philippians 4:19) \nhttps://www.facebook.com/events/1144126843690355/?event_time_id=1144129383690101
URL:https://explorebeaufortsc.com/event/%f0%9f%8d%bd%ef%b8%8f-community-food-bank-serving-with-love-every-1st-3rd-thursday-%f0%9f%99%8c/
LOCATION:31 Donaldson Dr\, Beaufort\, SC\, United States\, South Carolina 29906\, 31 Donaldson Dr\, Beaufort\, SC\, United States\, South Carolina 29906
END:VEVENT
BEGIN:VEVENT
DTSTART;TZID=America/New_York:20250515T170000
DTEND;TZID=America/New_York:20250515T190000
DTSTAMP:20260425T112749
CREATED:20250512T162133Z
LAST-MODIFIED:20250512T162133Z
UID:22923-1747328400-1747335600@explorebeaufortsc.com
SUMMARY:Cigar Night @ Shellring Ale Works
DESCRIPTION:JUST LIKE EVERY 3RD WEEK OF THE MONTH JOIN US FOR A WONDERFUL NIGHT FILLED WITH CIGARS\, BEERS\, FELLOWSHIP\, MUSIC\, & VIEWS.NEED SPECIALTY CIGARS? ASK THE CIGAR CONCIERGE. NEED ENGRAVING OR PRINT TALK TO VIVID LASERWORK & DESIGN.
URL:https://explorebeaufortsc.com/event/cigar-night-shellring-ale-works-4/
LOCATION:Shellring Ale Works\, 1111 11th street\, Port Royal\, SC\, 29935\, US
ORGANIZER;CN="Lowcountry Cigar Club":MAILTO:noreply@facebookmail.com
END:VEVENT
BEGIN:VEVENT
DTSTART;TZID=America/New_York:20250515T173000
DTEND;TZID=America/New_York:20250515T203000
DTSTAMP:20260425T112749
CREATED:20250512T162136Z
LAST-MODIFIED:20250512T162136Z
UID:22924-1747330200-1747341000@explorebeaufortsc.com
SUMMARY:10th Annual Historic Preservation Symposium
DESCRIPTION:The Town of Bluffton will host its 10th Annual Historic Preservation Symposium on Thursday\, May 15\, at 5:30 p.m. in the Henry “Emmett” McCracken Jr. Council Chambers at Town Hall\, located at 20 Bridge St. \nThis year’s theme is “Protecting Bluffton Through Historic Preservation Grants.” \nGlen Umberger\, the town’s historic preservationist\, will present an illustrated talk on the Historic Preservation Grant Program\, which began Jan. 1\, 2022. The program has awarded more than $250\,000 in grants to help preserve\, protect\, and rehabilitate Bluffton’s historic resources. \nThe event begins with a Meet-and-Greet reception at 5:30 p.m. with representatives from the Heyward House Museum and Campbell Chapel A.M.E. Church\, two past grant recipients. The featured presentation will take place from 6 to 7 p.m. \nA reception will follow at The Heyward House\, 70 Boundary St. \nAll portions of the event are free and open to the public. \nView full news release here: https://bit.ly/3GWbORT
URL:https://explorebeaufortsc.com/event/10th-annual-historic-preservation-symposium/
LOCATION:Town of Bluffton Government\, Town of Bluffton Government
ORGANIZER;CN="Town of Bluffton Government":MAILTO:noreply@facebookmail.com
END:VEVENT
BEGIN:VEVENT
DTSTART;TZID=America/New_York:20250515T173000
DTEND;TZID=America/New_York:20250515T183000
DTSTAMP:20260425T112749
CREATED:20250512T155916Z
LAST-MODIFIED:20250512T155916Z
UID:22915-1747330200-1747333800@explorebeaufortsc.com
SUMMARY:Patriotic Bow Making Class at Marshview Mercantile
DESCRIPTION:Join us for a lesson and leave with a beautifully tied bow ready to accent your wreath from Memorial Day to July 4th!\n\nYou will receive hands-on instruction using two different methods to tie your bow.\nWhile the theme for the class is an Americana bow\, these photos are examples.\n\nThere will be several selections of Americana ribbons available\, and you will choose your combination of three ribbons.\n\nEveryone will leave with a multi-ribbon bow that is approximately 10” in diameter\, and ready to decorate your wreath or vase.\nMay 15 from 530 to 630pm\n2631 Boundary Street\, Beaufort\, SCCOST: $22
URL:https://explorebeaufortsc.com/event/patriotic-bow-making-class-at-marshview-mercantile/
LOCATION:Marshview Mercantile\, 2631 Boundary St\, Beaufort\, SC\, 29906\, US
ATTACH;FMTTYPE=image/webp:https://explorebeaufortsc.com/wp-content/uploads/2025/05/marshviewbowmakingclass.webp
END:VEVENT
END:VCALENDAR