BEGIN:VCALENDAR
VERSION:2.0
PRODID:-//Explore Beaufort SC - ECPv6.15.20//NONSGML v1.0//EN
CALSCALE:GREGORIAN
METHOD:PUBLISH
X-WR-CALNAME:Explore Beaufort SC
X-ORIGINAL-URL:https://explorebeaufortsc.com
X-WR-CALDESC:Events for Explore Beaufort SC
REFRESH-INTERVAL;VALUE=DURATION:PT1H
X-Robots-Tag:noindex
X-PUBLISHED-TTL:PT1H
BEGIN:VTIMEZONE
TZID:America/New_York
BEGIN:DAYLIGHT
TZOFFSETFROM:-0500
TZOFFSETTO:-0400
TZNAME:EDT
DTSTART:20240310T070000
END:DAYLIGHT
BEGIN:STANDARD
TZOFFSETFROM:-0400
TZOFFSETTO:-0500
TZNAME:EST
DTSTART:20241103T060000
END:STANDARD
BEGIN:DAYLIGHT
TZOFFSETFROM:-0500
TZOFFSETTO:-0400
TZNAME:EDT
DTSTART:20250309T070000
END:DAYLIGHT
BEGIN:STANDARD
TZOFFSETFROM:-0400
TZOFFSETTO:-0500
TZNAME:EST
DTSTART:20251102T060000
END:STANDARD
BEGIN:DAYLIGHT
TZOFFSETFROM:-0500
TZOFFSETTO:-0400
TZNAME:EDT
DTSTART:20260308T070000
END:DAYLIGHT
BEGIN:STANDARD
TZOFFSETFROM:-0400
TZOFFSETTO:-0500
TZNAME:EST
DTSTART:20261101T060000
END:STANDARD
END:VTIMEZONE
BEGIN:VEVENT
DTSTART;TZID=America/New_York:20250516T160000
DTEND;TZID=America/New_York:20250516T163000
DTSTAMP:20260425T112559
CREATED:20250512T162140Z
LAST-MODIFIED:20250512T162140Z
UID:22926-1747411200-1747413000@explorebeaufortsc.com
SUMMARY:Ribbon Cutting Celebration for Station 300 Bluffton
DESCRIPTION:Join us for the Ribbon Cutting Celebration for Station 300 Bluffton on Friday\, May 16\, 2025\, at 4:00 PM. \nCelebrating the new employee-built outdoor patio and another decade on the block!On Saturday\, May 17th\, they will be holding a block party with ACE Hardware and Southern Barrel to celebrate another decade on the block with live music\, face painting\, bounce houses\, food\, and drinks.Special appearances by Bluffton Police Department\, Bluffton Township Fire District\, the Ghost Pirate’s mascot\, Davy\, and much more! \nThis is a great opportunity for you to build relationships with fellow business leaders in the community! \n 2025 Ribbon Cutting Sponsor: Pro Shine Professional Cleaning
URL:https://explorebeaufortsc.com/event/ribbon-cutting-celebration-for-station-300-bluffton/
LOCATION:Station 300 Bluffton\, Station 300 Bluffton
ORGANIZER;CN="Greater Bluffton Chamber of Commerce":MAILTO:noreply@facebookmail.com
END:VEVENT
BEGIN:VEVENT
DTSTART;TZID=America/New_York:20250516T160000
DTEND;TZID=America/New_York:20250516T190000
DTSTAMP:20260425T112559
CREATED:20250512T162144Z
LAST-MODIFIED:20250512T162144Z
UID:22928-1747411200-1747422000@explorebeaufortsc.com
SUMMARY:Habersham 3rd Friday Blow out Market!!
DESCRIPTION:it’s almost 3rd Friday Ya’ll!! our big market features 20÷ food and craft vendors\, food truck and live music! this month features Folly Beats from Charlston. Get ready to party with this reggae\, funk jazz band from 5-8pm! The market portion runs from 4pm-7pm.
URL:https://explorebeaufortsc.com/event/habersham-3rd-friday-blow-out-market/
LOCATION:Habersham Marketplace\, Habersham Marketplace
ORGANIZER;CN="Habersham Farmers Market":MAILTO:noreply@facebookmail.com
END:VEVENT
BEGIN:VEVENT
DTSTART;TZID=America/New_York:20250516T160000
DTEND;TZID=America/New_York:20250516T190000
DTSTAMP:20260425T112559
CREATED:20250315T022630Z
LAST-MODIFIED:20250512T162142Z
UID:22323-1747411200-1747422000@explorebeaufortsc.com
SUMMARY:Habersham Farmers Market
DESCRIPTION:Join us for fresh produce and handcrafted items from our amazing vendors \nhttps://www.facebook.com/events/610706071953415/?event_time_id=610706131953409
URL:https://explorebeaufortsc.com/event/habersham-farmers-market-32/
LOCATION:Habersham South Carolina\, Habersham South Carolina
ORGANIZER;CN="Habersham Farmers Market":MAILTO:noreply@facebookmail.com
END:VEVENT
BEGIN:VEVENT
DTSTART;TZID=America/New_York:20250516T170000
DTEND;TZID=America/New_York:20250516T200000
DTSTAMP:20260425T112559
CREATED:20250512T162148Z
LAST-MODIFIED:20250512T162148Z
UID:22929-1747414800-1747425600@explorebeaufortsc.com
SUMMARY:Folly Beats @ Habersham’s Third Friday on Market
DESCRIPTION:Folly Beats returns to Beaufort\, SC on May 16\, 2025 for Habersham’s Third Friday on Market!
URL:https://explorebeaufortsc.com/event/folly-beats-habershams-third-friday-on-market/
LOCATION:Habersham Marketplace\, Habersham Marketplace
END:VEVENT
BEGIN:VEVENT
DTSTART;TZID=America/New_York:20250516T173000
DTEND;TZID=America/New_York:20250516T213000
DTSTAMP:20260425T112559
CREATED:20250512T162151Z
LAST-MODIFIED:20250512T162151Z
UID:22931-1747416600-1747431000@explorebeaufortsc.com
SUMMARY:Sunset Palooza - Bluffton Sunset Party
DESCRIPTION:Enjoy local food trucks\, vendors\, craft beers\, boutique wines and fantastic live music featuring Voodoo Soup\, with special guest Andy Johnson’s Roofdog.
URL:https://explorebeaufortsc.com/event/sunset-palooza-bluffton-sunset-party-2/
LOCATION:Bluffton Oyster Factory Park
ORGANIZER;CN="Bluffton Sunset Parties":MAILTO:noreply@facebookmail.com
END:VEVENT
BEGIN:VEVENT
DTSTART;TZID=America/New_York:20250516T180000
DTEND;TZID=America/New_York:20250516T210000
DTSTAMP:20260425T112559
CREATED:20250410T025540Z
LAST-MODIFIED:20250512T162156Z
UID:22641-1747418400-1747429200@explorebeaufortsc.com
SUMMARY:BWF Fishing Tournament Captain's Meeting
DESCRIPTION:All boats should send a representative to the meeting at Beaufort Boat & Dock Supply in Port Royal on May 10 at 6:00pm. The meeting will be the dead-line for all entries\, plus a chance to get bait and last minute tackle!
URL:https://explorebeaufortsc.com/event/bwf-fishing-tournament-captains-meeting/
LOCATION:Beaufort Boat & Dock Supply\, Beaufort Boat & Dock Supply
ORGANIZER;CN="Annual Beaufort Water Festival":MAILTO:noreply@facebookmail.com
END:VEVENT
BEGIN:VEVENT
DTSTART;TZID=America/New_York:20250516T180000
DTEND;TZID=America/New_York:20250516T210000
DTSTAMP:20260425T112559
CREATED:20250224T004902Z
LAST-MODIFIED:20250512T162154Z
UID:22116-1747418400-1747429200@explorebeaufortsc.com
SUMMARY:Sankofa Nights
DESCRIPTION:https://www.eventbrite.com/e/sankofa-nights-tickets-1142994771129
URL:https://explorebeaufortsc.com/event/sankofa-nights-2/
LOCATION:USCB Hilton Head Campus\, USCB Hilton Head Campus
ORGANIZER;CN="Lowcountry Gullah":MAILTO:noreply@facebookmail.com
END:VEVENT
BEGIN:VEVENT
DTSTART;TZID=America/New_York:20250516T190000
DTEND;TZID=America/New_York:20250516T210000
DTSTAMP:20260425T112559
CREATED:20240815T154701Z
LAST-MODIFIED:20250512T162159Z
UID:19925-1747422000-1747429200@explorebeaufortsc.com
SUMMARY:Beaufort Children’s Theatre presents Alice in Wonderland Jr.
DESCRIPTION:When young Alice finds herself in a strange world where everything seems upside down\, she must find her way home…and find herself along the way. As she travels through Wonderland\, she encounters all of the iconic characters that audiences have come to love: including the ever-tardy White Rabbit\, the grinning Cheshire Cat\, a cool Caterpillar\, the wacky Mad Hatter\, and the hot-tempered Queen of Hearts. \nUpcoming Dates: May 16\, 17 at 7:00 PM and May 18 at 3:00 PMTicket Price: $24 for adults\, $20 for seniors/military\, $16 for studentsVenue: USCB Center for the Arts (801 Carteret St. Beaufort\, SC 29902) \nhttps://www.facebook.com/events/854122156129303/?event_time_id=854122159462636
URL:https://explorebeaufortsc.com/event/beaufort-childrens-theatre-presents-alice-in-wonderland-jr/
LOCATION:801 Carteret St\, Beaufort\, SC\, United States\, South Carolina 29902\, 801 Carteret St\, Beaufort\, SC\, United States\, South Carolina 29902
ORGANIZER;CN="USCB Center for the Arts":MAILTO:noreply@facebookmail.com
END:VEVENT
END:VCALENDAR