BEGIN:VCALENDAR
VERSION:2.0
PRODID:-//Explore Beaufort SC - ECPv6.15.20//NONSGML v1.0//EN
CALSCALE:GREGORIAN
METHOD:PUBLISH
X-ORIGINAL-URL:https://explorebeaufortsc.com
X-WR-CALDESC:Events for Explore Beaufort SC
REFRESH-INTERVAL;VALUE=DURATION:PT1H
X-Robots-Tag:noindex
X-PUBLISHED-TTL:PT1H
BEGIN:VTIMEZONE
TZID:America/New_York
BEGIN:DAYLIGHT
TZOFFSETFROM:-0500
TZOFFSETTO:-0400
TZNAME:EDT
DTSTART:20240310T070000
END:DAYLIGHT
BEGIN:STANDARD
TZOFFSETFROM:-0400
TZOFFSETTO:-0500
TZNAME:EST
DTSTART:20241103T060000
END:STANDARD
BEGIN:DAYLIGHT
TZOFFSETFROM:-0500
TZOFFSETTO:-0400
TZNAME:EDT
DTSTART:20250309T070000
END:DAYLIGHT
BEGIN:STANDARD
TZOFFSETFROM:-0400
TZOFFSETTO:-0500
TZNAME:EST
DTSTART:20251102T060000
END:STANDARD
BEGIN:DAYLIGHT
TZOFFSETFROM:-0500
TZOFFSETTO:-0400
TZNAME:EDT
DTSTART:20260308T070000
END:DAYLIGHT
BEGIN:STANDARD
TZOFFSETFROM:-0400
TZOFFSETTO:-0500
TZNAME:EST
DTSTART:20261101T060000
END:STANDARD
END:VTIMEZONE
BEGIN:VEVENT
DTSTART;TZID=America/New_York:20250518T140000
DTEND;TZID=America/New_York:20250518T160000
DTSTAMP:20260425T112859
CREATED:20250512T162253Z
LAST-MODIFIED:20250512T162253Z
UID:22955-1747576800-1747584000@explorebeaufortsc.com
SUMMARY:Scenes of Swan Lake\, Showcase 2025
DESCRIPTION:Come experience the magic as our talented DBC dancers take the stage in Scenes from Swan Lake\, Showcase 2025 at our Spring Performance  \nLet’s celebrate the beauty\, hard work\, and dedication of all our dancers!!
URL:https://explorebeaufortsc.com/event/scenes-of-swan-lake-showcase-2025-2/
LOCATION:Beaufort High School\, Beaufort\, SC\, 29907\, US
END:VEVENT
BEGIN:VEVENT
DTSTART;TZID=America/New_York:20250518T150000
DTEND;TZID=America/New_York:20250518T170000
DTSTAMP:20260425T112859
CREATED:20240815T154702Z
LAST-MODIFIED:20250512T162256Z
UID:19927-1747580400-1747587600@explorebeaufortsc.com
SUMMARY:Beaufort Children’s Theatre presents Alice in Wonderland Jr.
DESCRIPTION:When young Alice finds herself in a strange world where everything seems upside down\, she must find her way home…and find herself along the way. As she travels through Wonderland\, she encounters all of the iconic characters that audiences have come to love: including the ever-tardy White Rabbit\, the grinning Cheshire Cat\, a cool Caterpillar\, the wacky Mad Hatter\, and the hot-tempered Queen of Hearts. \nUpcoming Dates: May 16\, 17 at 7:00 PM and May 18 at 3:00 PMTicket Price: $24 for adults\, $20 for seniors/military\, $16 for studentsVenue: USCB Center for the Arts (801 Carteret St. Beaufort\, SC 29902) \nhttps://www.facebook.com/events/854122156129303/?event_time_id=854122169462635
URL:https://explorebeaufortsc.com/event/beaufort-childrens-theatre-presents-alice-in-wonderland-jr-3/
LOCATION:801 Carteret St\, Beaufort\, SC\, United States\, South Carolina 29902\, 801 Carteret St\, Beaufort\, SC\, United States\, South Carolina 29902
ORGANIZER;CN="USCB Center for the Arts":MAILTO:noreply@facebookmail.com
END:VEVENT
END:VCALENDAR