BEGIN:VCALENDAR
VERSION:2.0
PRODID:-//Explore Beaufort SC - ECPv6.15.20//NONSGML v1.0//EN
CALSCALE:GREGORIAN
METHOD:PUBLISH
X-WR-CALNAME:Explore Beaufort SC
X-ORIGINAL-URL:https://explorebeaufortsc.com
X-WR-CALDESC:Events for Explore Beaufort SC
REFRESH-INTERVAL;VALUE=DURATION:PT1H
X-Robots-Tag:noindex
X-PUBLISHED-TTL:PT1H
BEGIN:VTIMEZONE
TZID:America/New_York
BEGIN:DAYLIGHT
TZOFFSETFROM:-0500
TZOFFSETTO:-0400
TZNAME:EDT
DTSTART:20240310T070000
END:DAYLIGHT
BEGIN:STANDARD
TZOFFSETFROM:-0400
TZOFFSETTO:-0500
TZNAME:EST
DTSTART:20241103T060000
END:STANDARD
BEGIN:DAYLIGHT
TZOFFSETFROM:-0500
TZOFFSETTO:-0400
TZNAME:EDT
DTSTART:20250309T070000
END:DAYLIGHT
BEGIN:STANDARD
TZOFFSETFROM:-0400
TZOFFSETTO:-0500
TZNAME:EST
DTSTART:20251102T060000
END:STANDARD
BEGIN:DAYLIGHT
TZOFFSETFROM:-0500
TZOFFSETTO:-0400
TZNAME:EDT
DTSTART:20260308T070000
END:DAYLIGHT
BEGIN:STANDARD
TZOFFSETFROM:-0400
TZOFFSETTO:-0500
TZNAME:EST
DTSTART:20261101T060000
END:STANDARD
END:VTIMEZONE
BEGIN:VEVENT
DTSTART;TZID=America/New_York:20250522T190000
DTEND;TZID=America/New_York:20250522T220000
DTSTAMP:20260425T112600
CREATED:20250415T172356Z
LAST-MODIFIED:20250415T172356Z
UID:22771-1747940400-1747951200@explorebeaufortsc.com
SUMMARY:Decoration Day Musical at USCB Center for the Arts
DESCRIPTION:Decoration Day is an award-winning theatrical production by the Gullah Kinfolk Traveling Theater that brings to life the rich history and cultural traditions of the Gullah people. \nSet during the post-Civil War era\, this powerful play honors the origins of Memorial Day\, highlighting the role that formerly enslaved Gullah people played in decorating the graves of fallen Union soldiers. \nThrough moving performances\, soulful music\, and vivid storytelling\, Decoration Day delves into themes of freedom\, resilience\, and community\, showcasing the Gullah contributions to America’s history. \nDon’t miss this captivating show that both educates and inspires\, as it beautifully commemorates an important chapter in the Gullah heritage and American history. \nJoin Aunt Pearlie Sue and the Gullah Kinfolk at the USCB Center for the Arts for an inspiring tale that left an indelible mark on American history. \nThursday\, May 22nd from 7 to 10pm\nSaturday\, May 24th from 3 to 6pm \nPurchase your tickets here.
URL:https://explorebeaufortsc.com/event/decoration-day-musical-at-uscb-center-for-the-arts/
LOCATION:USCB Center for the Arts\, 805 Carteret Street\, Beaufort\, SC\, United States
ATTACH;FMTTYPE=image/jpeg:https://explorebeaufortsc.com/wp-content/uploads/2025/04/decorationday2.jpg
END:VEVENT
END:VCALENDAR