BEGIN:VCALENDAR
VERSION:2.0
PRODID:-//Explore Beaufort SC - ECPv6.15.20//NONSGML v1.0//EN
CALSCALE:GREGORIAN
METHOD:PUBLISH
X-ORIGINAL-URL:https://explorebeaufortsc.com
X-WR-CALDESC:Events for Explore Beaufort SC
REFRESH-INTERVAL;VALUE=DURATION:PT1H
X-Robots-Tag:noindex
X-PUBLISHED-TTL:PT1H
BEGIN:VTIMEZONE
TZID:America/New_York
BEGIN:DAYLIGHT
TZOFFSETFROM:-0500
TZOFFSETTO:-0400
TZNAME:EDT
DTSTART:20240310T070000
END:DAYLIGHT
BEGIN:STANDARD
TZOFFSETFROM:-0400
TZOFFSETTO:-0500
TZNAME:EST
DTSTART:20241103T060000
END:STANDARD
BEGIN:DAYLIGHT
TZOFFSETFROM:-0500
TZOFFSETTO:-0400
TZNAME:EDT
DTSTART:20250309T070000
END:DAYLIGHT
BEGIN:STANDARD
TZOFFSETFROM:-0400
TZOFFSETTO:-0500
TZNAME:EST
DTSTART:20251102T060000
END:STANDARD
BEGIN:DAYLIGHT
TZOFFSETFROM:-0500
TZOFFSETTO:-0400
TZNAME:EDT
DTSTART:20260308T070000
END:DAYLIGHT
BEGIN:STANDARD
TZOFFSETFROM:-0400
TZOFFSETTO:-0500
TZNAME:EST
DTSTART:20261101T060000
END:STANDARD
END:VTIMEZONE
BEGIN:VEVENT
DTSTART;TZID=America/New_York:20250523T100000
DTEND;TZID=America/New_York:20250523T130000
DTSTAMP:20260425T112855
CREATED:20250421T180118Z
LAST-MODIFIED:20250512T162304Z
UID:22832-1747994400-1748005200@explorebeaufortsc.com
SUMMARY:The Original Gullah Festival of SC\, Inc.
DESCRIPTION:The Henry C. Chambers Waterfront Park is the place to be Memorial Day Weekend! Please join us as we celebrate the rich Gullah culture! It’s an event for the whole family! We are celebrating 40 Years of sharing Gullah with the world!!!
URL:https://explorebeaufortsc.com/event/the-original-gullah-festival-of-sc-inc/
LOCATION:1010 Bay St\, Beaufort\, SC 29902-5570\, United States
END:VEVENT
BEGIN:VEVENT
DTSTART;TZID=America/New_York:20250523T160000
DTEND;TZID=America/New_York:20250523T190000
DTSTAMP:20260425T112855
CREATED:20250315T022632Z
LAST-MODIFIED:20250512T162306Z
UID:22324-1748016000-1748026800@explorebeaufortsc.com
SUMMARY:Habersham Farmers Market
DESCRIPTION:Join us for fresh produce and handcrafted items from our amazing vendors \nhttps://www.facebook.com/events/610706071953415/?event_time_id=610706178620071
URL:https://explorebeaufortsc.com/event/habersham-farmers-market-33/
LOCATION:Habersham South Carolina\, Habersham South Carolina
ORGANIZER;CN="Habersham Farmers Market":MAILTO:noreply@facebookmail.com
END:VEVENT
BEGIN:VEVENT
DTSTART;TZID=America/New_York:20250523T180000
DTEND;TZID=America/New_York:20250523T210000
DTSTAMP:20260425T112855
CREATED:20250512T162308Z
LAST-MODIFIED:20250512T162308Z
UID:22958-1748023200-1748034000@explorebeaufortsc.com
SUMMARY:Flags In
DESCRIPTION:This year’s Flags In event (placing gravesite flags on gravesites) for the public will be held on Friday\, May 23rd starting at 6pm at the main flagpole. After a short welcome\, gravesite flags will be distributed to be placed on all 24\,000 gravesites. If weather is bad\, the event will be postponed until Saturday\, May 24th at 8am. \nGroups wishing to schedule an individual Flags In event between Wednesday May 21st and Friday\, May 23rd should contact the cemetery at 843-524-3925 or Beaufort.NationalCemetery@va.gov no later than Friday\, May 17th.
URL:https://explorebeaufortsc.com/event/flags-in/
LOCATION:Beaufort National Cemetery\, 1601 Boundary St\, Beaufort\, SC\, 29902-3947\, US
ORGANIZER;CN="Beaufort National Cemetery":MAILTO:noreply@facebookmail.com
END:VEVENT
BEGIN:VEVENT
DTSTART;TZID=America/New_York:20250523T190000
DTEND;TZID=America/New_York:20250523T210000
DTSTAMP:20260425T112855
CREATED:20250512T162312Z
LAST-MODIFIED:20250512T162312Z
UID:22959-1748026800-1748034000@explorebeaufortsc.com
SUMMARY:Summer Movie Night Meet Up | LILO & STITCH
DESCRIPTION:Meet us at the movies! 🍿🎥🎬 \nOhana means family and this family loves Lilo & Stitch! Come out to Hwy 21 with us and enjoy the movie showtime with friends! We’ll be meeting up all summer long for movies galore. We hope you can make it!
URL:https://explorebeaufortsc.com/event/summer-movie-night-meet-up-lilo-stitch/
LOCATION:Hwy 21 Drive-In Theater\, Hwy 21 Drive-In Theater
END:VEVENT
END:VCALENDAR