BEGIN:VCALENDAR
VERSION:2.0
PRODID:-//Explore Beaufort SC - ECPv6.15.20//NONSGML v1.0//EN
CALSCALE:GREGORIAN
METHOD:PUBLISH
X-ORIGINAL-URL:https://explorebeaufortsc.com
X-WR-CALDESC:Events for Explore Beaufort SC
REFRESH-INTERVAL;VALUE=DURATION:PT1H
X-Robots-Tag:noindex
X-PUBLISHED-TTL:PT1H
BEGIN:VTIMEZONE
TZID:America/New_York
BEGIN:DAYLIGHT
TZOFFSETFROM:-0500
TZOFFSETTO:-0400
TZNAME:EDT
DTSTART:20240310T070000
END:DAYLIGHT
BEGIN:STANDARD
TZOFFSETFROM:-0400
TZOFFSETTO:-0500
TZNAME:EST
DTSTART:20241103T060000
END:STANDARD
BEGIN:DAYLIGHT
TZOFFSETFROM:-0500
TZOFFSETTO:-0400
TZNAME:EDT
DTSTART:20250309T070000
END:DAYLIGHT
BEGIN:STANDARD
TZOFFSETFROM:-0400
TZOFFSETTO:-0500
TZNAME:EST
DTSTART:20251102T060000
END:STANDARD
BEGIN:DAYLIGHT
TZOFFSETFROM:-0500
TZOFFSETTO:-0400
TZNAME:EDT
DTSTART:20260308T070000
END:DAYLIGHT
BEGIN:STANDARD
TZOFFSETFROM:-0400
TZOFFSETTO:-0500
TZNAME:EST
DTSTART:20261101T060000
END:STANDARD
END:VTIMEZONE
BEGIN:VEVENT
DTSTART;TZID=America/New_York:20250529T110000
DTEND;TZID=America/New_York:20250529T140000
DTSTAMP:20260425T094228
CREATED:20250526T185316Z
LAST-MODIFIED:20250526T185316Z
UID:23075-1748516400-1748527200@explorebeaufortsc.com
SUMMARY:Beaufort Memorial Well at Work Expo
DESCRIPTION:Beaufort Memorial’s mobile wellness unit is coming to BDC! Stop by for free and low-cost health screenings – right in your neighborhood. Mobile services include blood pressure and blood sugar checks\, as well as cancer screenings. \nA BMH representative will also be on site to share more about the Well at Work program – a valuable resource for small business owners and entrepreneurs looking to support employee wellness and reduce healthcare costs. Learn how you can bring preventive care directly to your team: bmhsc.org/services/occupational-health \nPlus\, enjoy healthy\, energizing beverages from Evolve into Fitness & Nutrition while you’re here. Mark your calendar and come take a step toward better health!
URL:https://explorebeaufortsc.com/event/beaufort-memorial-well-at-work-expo/
LOCATION:500 Carteret Street\, Beaufort\, SC\, United States\, South Carolina 29902\, 500 Carteret Street\, Beaufort\, SC\, United States\, South Carolina 29902
ORGANIZER;CN="Beaufort Digital Corridor":MAILTO:noreply@facebookmail.com
END:VEVENT
BEGIN:VEVENT
DTSTART;TZID=America/New_York:20250529T140000
DTEND;TZID=America/New_York:20250529T170000
DTSTAMP:20260425T094228
CREATED:20250512T162341Z
LAST-MODIFIED:20250526T185317Z
UID:22968-1748527200-1748538000@explorebeaufortsc.com
SUMMARY:End of Year Ice Cream Paint Party
DESCRIPTION:This is a ice cream painting social to celebrate the end of our school year!Everyone will receive ice cream in a Happy Art Studio mug (keepsake) and paint either a mermaid or dinosaur.You may come anytime between 2:00 pm and 5:00 pm.This is not a “drop off” event.
URL:https://explorebeaufortsc.com/event/end-of-year-ice-cream-paint-party/
LOCATION:10 Sam’s Point Way\, 29907\, 10 Sam's Point Way\, 29907
ORGANIZER;CN="Happy Art Studio":MAILTO:noreply@facebookmail.com
END:VEVENT
END:VCALENDAR