BEGIN:VCALENDAR
VERSION:2.0
PRODID:-//Explore Beaufort SC - ECPv6.15.20//NONSGML v1.0//EN
CALSCALE:GREGORIAN
METHOD:PUBLISH
X-ORIGINAL-URL:https://explorebeaufortsc.com
X-WR-CALDESC:Events for Explore Beaufort SC
REFRESH-INTERVAL;VALUE=DURATION:PT1H
X-Robots-Tag:noindex
X-PUBLISHED-TTL:PT1H
BEGIN:VTIMEZONE
TZID:America/New_York
BEGIN:DAYLIGHT
TZOFFSETFROM:-0500
TZOFFSETTO:-0400
TZNAME:EDT
DTSTART:20240310T070000
END:DAYLIGHT
BEGIN:STANDARD
TZOFFSETFROM:-0400
TZOFFSETTO:-0500
TZNAME:EST
DTSTART:20241103T060000
END:STANDARD
BEGIN:DAYLIGHT
TZOFFSETFROM:-0500
TZOFFSETTO:-0400
TZNAME:EDT
DTSTART:20250309T070000
END:DAYLIGHT
BEGIN:STANDARD
TZOFFSETFROM:-0400
TZOFFSETTO:-0500
TZNAME:EST
DTSTART:20251102T060000
END:STANDARD
BEGIN:DAYLIGHT
TZOFFSETFROM:-0500
TZOFFSETTO:-0400
TZNAME:EDT
DTSTART:20260308T070000
END:DAYLIGHT
BEGIN:STANDARD
TZOFFSETFROM:-0400
TZOFFSETTO:-0500
TZNAME:EST
DTSTART:20261101T060000
END:STANDARD
END:VTIMEZONE
BEGIN:VEVENT
DTSTART;TZID=America/New_York:20250531T073000
DTEND;TZID=America/New_York:20250531T103000
DTSTAMP:20260425T094226
CREATED:20250512T162354Z
LAST-MODIFIED:20250526T185317Z
UID:22971-1748676600-1748687400@explorebeaufortsc.com
SUMMARY:Beaufort River Swim + Run
DESCRIPTION:Our 19th Annual Beaufort River Swim + Run offers several event options\, including: 3.2 Mile Swim\, 1 Mile Swim\, 3.2 Mile Swim + 5k Run or 1 Mile Swim + 5k Run. \nNew this year: Relay option for swim and run combo events! \nAll proceeds will benefit the Wardle Family YMCA’s Learn to Swim program. This program provides scholarships for swim lessons so that everyone in our community feels safe in the water!
URL:https://explorebeaufortsc.com/event/beaufort-river-swim-run/
LOCATION:Beaufort Waterfront Park
ORGANIZER;CN="Beaufort-Jasper YMCA of the Lowcountry":MAILTO:noreply@facebookmail.com
END:VEVENT
BEGIN:VEVENT
DTSTART;TZID=America/New_York:20250531T103000
DTEND;TZID=America/New_York:20250531T120000
DTSTAMP:20260425T094226
CREATED:20250512T162357Z
LAST-MODIFIED:20250526T185317Z
UID:22972-1748687400-1748692800@explorebeaufortsc.com
SUMMARY:Nature Hike - RSVP Required
DESCRIPTION:Click the orange “Book A Program” button on our website to RSVPportroyalsoundfoundation.org \n$10 per participant (plus fees) \nMeet at the Maritime Center and enjoy a nice morning hike! This Naturalist-led hike is roughly 1.5 miles through maritime forest and salt marsh. \nLong sleeves\, pants\, sunscreen\, water\, and bug spray are highly recommended. Closed toed shoes are required and they will get muddy! Absolutely NO flip flops or sandals. We will not be providing binoculars so please plan to bring your own. \nAll ages welcome\, children must be accompanied by an adult.
URL:https://explorebeaufortsc.com/event/nature-hike-rsvp-required-10/
LOCATION:310 Okatie Hwy\, Okatie\, SC\, United States\, South Carolina 29909\, 310 Okatie Hwy\, Okatie\, SC\, United States\, South Carolina 29909
ORGANIZER;CN="Port Royal Sound Foundation":MAILTO:noreply@facebookmail.com
END:VEVENT
BEGIN:VEVENT
DTSTART;TZID=America/New_York:20250531T140000
DTEND;TZID=America/New_York:20250531T153000
DTSTAMP:20260425T094226
CREATED:20250207T010939Z
LAST-MODIFIED:20250526T185318Z
UID:21970-1748700000-1748705400@explorebeaufortsc.com
SUMMARY:An Evening with Annelore Harrell\, Author of Et Cetera Y'All\, Volume 1
DESCRIPTION:The nonprofit Pat Conroy Literary Center will host an afternoon with Annelore Harrell\, author of Et Cetera Y’all\, Volume 1\, on Saturday\, May 31\, 2025\, at 2:00 p.m.\, at the Conroy Center (601 Bladen St.\, Beaufort). Free and open to the public. Books will be available for sale and signing. Seating is limited; please call in advance to reserve: 843-379-7025. \nAbout the Book And Author \n“Step into the enchanting world of Annelore Harrell and the coastal Lowcountry I love so dearly. With twenty-four years of remarkable newspaper columns\, this collection is a treasure chest of insight\, immersive experiences\, and wisdom. From past to present\, Annelore Harrell brings us on a journey to meet the forgotten heroes\, see the locales of her experience\, and encounter the allure of southern hospitality. A captivating storyteller with a keen and wise eye\, Annelore Harrell’s prose transports us to the soul of the south.”–Patti Callahan Henry\, bestselling author \nGet inspired by the extraordinary Annelore Harrell\, who brings her unique voice and vibrant storytelling to life in Et Cetera Y’all\, Volume 1. This delightful collection\, released in October 2024\, showcases her charming and insightful newspaper columns from her inaugural year. \nAnnelore Harrell’s journey is a tapestry woven with fascinating experiences and extraordinary accomplishments. Born in 1932 in Savannah\, Georgia\, Annelore began visiting Myrtle Island in Bluffton with her family in 1942\, joining the ranks of the “summer people” who traveled from Savannah. Despite bullying at school in 1937\, which led her to stop speaking her first language\, German\, Annelore’s resilience shone through. \nBy age 12\, Annelore was confidently driving a car\, a skill she still retains with a careful eye on the rearview mirror. Her remarkable journey continued with her presidency of the world’s largest Officer’s Wives Club at Ft. Bragg\, NC\, in 1970. In 1974\, she captivated audiences with her portrayal of Eleanor of Aquitaine in “Lion in Winter” in Stuttgart. \nTransitioning into real estate in the mid-to-late ’70s\, Annelore founded Annelore Harrell Realty\, further cementing her legacy. In 1981\, she moved to her retirement home on Myrtle Island\, but retirement was merely a new chapter for her.  \nIn the early ’80s\, she taught her daughter\, Tamela Pinckney\, and other young mothers the art of bridge. From 1995 to 1998\, Annelore hosted a weekly\, live\, one-hour show on the Bluffton Broadcasting Channel\, “BBC.” Her voice resonated with the community for nearly 25 years as a weekly columnist for the Bluffton newspaper\, Carolina Morning News\, later known as The Bluffton Today. Her outstanding work earned 1st Place in her category for Best Column from the SC Press Association. \nIn 2017\, Mayor Lisa Sulka celebrated Annelore’s contributions by recognizing her 1\,000th newspaper column and declaring June 23rd as “Lala Day\,” a nickname her grandchildren gave her. She was further honored in 2021 when she served as the Grand Marshal of the Bluffton Christmas Parade. \nAnnelore’s eclectic tastes in reading and music reflect her adventurous spirit. She enjoys various genres\, from rock and classical to blues\, bluegrass\, indie\, alternative\, R&B\, and Gregorian chants. Known for her unforgettable parties and fashion-forward style\, she was rocking men’s ties long before it became a trend. \nEven at 92 in 2025\, Annelore’s energy and zest for life continue to inspire. Kathy L. Murphy of Big Book Love (formerly Pulpwood Queens Book Club) honored her work by naming Et Cetera Y’all\, Volume 1\, the Bonus Book of the Month for December 2025. Annelore Harrell’s story is a testament to living with passion\, resilience\, and an unquenchable thirst for adventure.
URL:https://explorebeaufortsc.com/event/an-evening-with-annelore-harrell-author-of-et-cetera-yall-volume-1/
LOCATION:601 Bladen Street\, Beaufort\, SC\, United States\, South Carolina 29902\, 601 Bladen Street\, Beaufort\, SC\, United States\, South Carolina 29902
ORGANIZER;CN="Pat Conroy Literary Center":MAILTO:noreply@facebookmail.com
END:VEVENT
END:VCALENDAR