BEGIN:VCALENDAR
VERSION:2.0
PRODID:-//Explore Beaufort SC - ECPv6.15.20//NONSGML v1.0//EN
CALSCALE:GREGORIAN
METHOD:PUBLISH
X-WR-CALNAME:Explore Beaufort SC
X-ORIGINAL-URL:https://explorebeaufortsc.com
X-WR-CALDESC:Events for Explore Beaufort SC
REFRESH-INTERVAL;VALUE=DURATION:PT1H
X-Robots-Tag:noindex
X-PUBLISHED-TTL:PT1H
BEGIN:VTIMEZONE
TZID:America/New_York
BEGIN:DAYLIGHT
TZOFFSETFROM:-0500
TZOFFSETTO:-0400
TZNAME:EDT
DTSTART:20240310T070000
END:DAYLIGHT
BEGIN:STANDARD
TZOFFSETFROM:-0400
TZOFFSETTO:-0500
TZNAME:EST
DTSTART:20241103T060000
END:STANDARD
BEGIN:DAYLIGHT
TZOFFSETFROM:-0500
TZOFFSETTO:-0400
TZNAME:EDT
DTSTART:20250309T070000
END:DAYLIGHT
BEGIN:STANDARD
TZOFFSETFROM:-0400
TZOFFSETTO:-0500
TZNAME:EST
DTSTART:20251102T060000
END:STANDARD
BEGIN:DAYLIGHT
TZOFFSETFROM:-0500
TZOFFSETTO:-0400
TZNAME:EDT
DTSTART:20260308T070000
END:DAYLIGHT
BEGIN:STANDARD
TZOFFSETFROM:-0400
TZOFFSETTO:-0500
TZNAME:EST
DTSTART:20261101T060000
END:STANDARD
END:VTIMEZONE
BEGIN:VEVENT
DTSTART;TZID=America/New_York:20250602T090000
DTEND;TZID=America/New_York:20250602T120000
DTSTAMP:20260425T094037
CREATED:20250512T162403Z
LAST-MODIFIED:20250526T185318Z
UID:22973-1748854800-1748865600@explorebeaufortsc.com
SUMMARY:Art Camp - All Things Summer - Age 5-7
DESCRIPTION:Students will make a variety of summer themed arts and crafts in all different mediums such as suncatchers\, flower pots\, paintings\, and mixed media.Summer Fun!!!
URL:https://explorebeaufortsc.com/event/art-camp-all-things-summer-age-5-7/
LOCATION:10 Sam’s Point Way\, 29907\, 10 Sam's Point Way\, 29907
ORGANIZER;CN="Happy Art Studio":MAILTO:noreply@facebookmail.com
END:VEVENT
BEGIN:VEVENT
DTSTART;TZID=America/New_York:20250602T090000
DTEND;TZID=America/New_York:20250602T120000
DTSTAMP:20260425T094037
CREATED:20250512T162405Z
LAST-MODIFIED:20250526T185318Z
UID:22974-1748854800-1748865600@explorebeaufortsc.com
SUMMARY:Art Camp - Paint the Masters - Age 8-12
DESCRIPTION:Students will learn about the art techniques of Monet\, Hokusai\, Nolde\, Seurat and VanGogh and create their own masterpiece inspired by these famous painters.We will also work with mixed media and create other forms of the daily subject.
URL:https://explorebeaufortsc.com/event/art-camp-paint-the-masters-age-8-12/
LOCATION:10 Sam’s Point Way\, 29907\, 10 Sam's Point Way\, 29907
ORGANIZER;CN="Happy Art Studio":MAILTO:noreply@facebookmail.com
END:VEVENT
END:VCALENDAR