BEGIN:VCALENDAR
VERSION:2.0
PRODID:-//Explore Beaufort SC - ECPv6.15.20//NONSGML v1.0//EN
CALSCALE:GREGORIAN
METHOD:PUBLISH
X-WR-CALNAME:Explore Beaufort SC
X-ORIGINAL-URL:https://explorebeaufortsc.com
X-WR-CALDESC:Events for Explore Beaufort SC
REFRESH-INTERVAL;VALUE=DURATION:PT1H
X-Robots-Tag:noindex
X-PUBLISHED-TTL:PT1H
BEGIN:VTIMEZONE
TZID:America/New_York
BEGIN:DAYLIGHT
TZOFFSETFROM:-0500
TZOFFSETTO:-0400
TZNAME:EDT
DTSTART:20240310T070000
END:DAYLIGHT
BEGIN:STANDARD
TZOFFSETFROM:-0400
TZOFFSETTO:-0500
TZNAME:EST
DTSTART:20241103T060000
END:STANDARD
BEGIN:DAYLIGHT
TZOFFSETFROM:-0500
TZOFFSETTO:-0400
TZNAME:EDT
DTSTART:20250309T070000
END:DAYLIGHT
BEGIN:STANDARD
TZOFFSETFROM:-0400
TZOFFSETTO:-0500
TZNAME:EST
DTSTART:20251102T060000
END:STANDARD
BEGIN:DAYLIGHT
TZOFFSETFROM:-0500
TZOFFSETTO:-0400
TZNAME:EDT
DTSTART:20260308T070000
END:DAYLIGHT
BEGIN:STANDARD
TZOFFSETFROM:-0400
TZOFFSETTO:-0500
TZNAME:EST
DTSTART:20261101T060000
END:STANDARD
END:VTIMEZONE
BEGIN:VEVENT
DTSTART;TZID=America/New_York:20250603T130000
DTEND;TZID=America/New_York:20250606T150000
DTSTAMP:20260425T112600
CREATED:20250404T181401Z
LAST-MODIFIED:20250526T185318Z
UID:22572-1748955600-1749222000@explorebeaufortsc.com
SUMMARY:Teen Counselor in Training 2025
DESCRIPTION:Teens will spend a week learning how to plan and organize summer camp crafts\, games and activities while experiencing camp activities first hand. From art to swimming to sports and science\, come prepared to have fun both doing and learning! This CIT program will introduce best practices and skills to guide children in a fun and safe environment\, develop leadership and problem-solving skills and prepare each teen for the role of a Junior Camp Counselor. Each participant will have the opportunity to put theory into practice by being invited to one of our following camps as a Junior Counselor\, working alongside our adult counselors.  \nAges 13-15Tuesday 1:00-4:00pmWednesday – Friday 8:30am-3:00pm $225 per Counselor in Training Minimum 4 Maximum 10 Participants \nFor more information and registration please email jessica@celadonclub.com
URL:https://explorebeaufortsc.com/event/teen-counselor-in-training-2025/
LOCATION:61 Celadon Drive\, Beaufort\, SC\, United States\, South Carolina 29907\, 61 Celadon Drive\, Beaufort\, SC\, United States\, South Carolina 29907
ORGANIZER;CN="Celadon Club Wellness Center":MAILTO:noreply@facebookmail.com
END:VEVENT
BEGIN:VEVENT
DTSTART;TZID=America/New_York:20250604T170000
DTEND;TZID=America/New_York:20250607T200000
DTSTAMP:20260425T112600
CREATED:20250512T162412Z
LAST-MODIFIED:20250526T185319Z
UID:22975-1749056400-1749326400@explorebeaufortsc.com
SUMMARY:Sports Camp 2025
DESCRIPTION:🎉 Sports Camp 2025 is Coming! 🏀⚽🎨 \nLooking for a fun\, safe\, and meaningful summer activity for your kids? Join us for Tidal Creek Fellowship’s Sports Camp\, open to children ages 4–12! \nLocation: Beaufort AcademyDates: June 4–7 (Wed–Sat)Time: 5–8 PM \nAges 4–5 get a fun introduction to sports\, and ages 6–12 choose from: \n – Basketball – Cheerleading – Soccer – Ultimate Frisbee – Creative Arts \nIt’s a week full of teamwork\, encouragement\, fun\, and learning about the Bible! \n💲 Only $30 per camper🎟️ Register now at www.tidalcreek.net/sportscamp \nOn Sunday\, June 8\, bring the whole family!– Worship at 11 AM– Sports Camp Finale at 12:30 PM (at Tidal Creek Fellowship) \nWe can’t wait to see your family this summer! ☀️
URL:https://explorebeaufortsc.com/event/sports-camp-2025/
LOCATION:Beaufort Academy\, Beaufort Academy
ORGANIZER;CN="Tidal Creek Fellowship":MAILTO:noreply@facebookmail.com
END:VEVENT
BEGIN:VEVENT
DTSTART;TZID=America/New_York:20250605T170000
DTEND;TZID=America/New_York:20250605T183000
DTSTAMP:20260425T112600
CREATED:20250512T162415Z
LAST-MODIFIED:20250526T185319Z
UID:22976-1749142800-1749148200@explorebeaufortsc.com
SUMMARY:An Evening with Julia Elliott\, Author of Hellions
DESCRIPTION:The nonprofit Pat Conroy Literary Center\, in partnership with NeverMore Books\, will host an evening with acclaimed fiction writer Julia Elliott\, author of the newly published story collection Hellions—named a TIME Best Book of the Month and a Lit Hub Most Anticipated Book of the Year—on Thursday\, June 5\, at 5:00 p.m.\, at the Conroy Center (601 Bladen St.\, Beaufort). Elliott will be in conversation with Conroy Center executive director Jonathan Haupt and DAYLO student leader E Achurch. Free and open to the public. Books will be available for sale and signing through NeverMore Books. Seating is limited; please call in advance to reserve: 843-379-7025. \nABOUT THE BOOKFrom the acclaimed author of The Wilds comes an electric story collection that blends folklore\, fairy tales\, Southern Gothic\, and horror\, reveling in the collision of the familiar with the wildly surreal. \nIn a plague-stricken medieval convent\, a nun works on a forbidden mystic manuscript\, pining for Christ’s love. During a long\, muggy July in rural South Carolina\, an adolescent girl finds unexpected power as her family obsesses over the horror film The Exorcist. On the outskirts of a Southern college town\, a young woman resists the tyranny of a shape-shifting older professor as she develops her own sorceress skills. And at a feminist art colony in the North Carolina mountains\, a group of mothers contends with the supernatural talents their children have picked up from a pair of mysterious orphans who live in the woods. \nWith exuberance\, ferocity\, and astounding imagination\, Julia Elliott’s Hellions jumps from the occult to the comic\, from the horrific to the wondrous\, presenting earthbound characters who long for the otherworldly. \n“Intoxicating\, fantasy-tinged. . . . Elliott’s rich and magical landscape will pull readers in.”―Publishers Weekly \n“Bewitching. . . . Gothic\, atmospheric\, and filled with the lavish symbolism contained in the natural world.”―Booklist \n“A genius at the short-story form\, Julia Elliott achieves new highs with the astonishing Hellions. Beautiful\, visceral\, surprising stories\, both wild and dangerous\, with a Southern twang but universal appeal…. One of my favorite collections of the past few years.”―Jeff VanderMeer\, author of Absolution \n“Julia Elliott’s fiction is its own country. Every sentence drips and unsettles\, every character lusts and schemes\, every landscape is alien and forbidding. But there is something eerily familiar pulsing underneath the wildness―the way your waking life snakes through the logic of your dreams. I am obsessed with these lush\, feral stories.”―Carmen Maria Machado\, author of Her Body and Other Parties \nABOUT THE AUTHORJulia Elliott is the author of the story collection The Wilds\, a New York Times Book Review Editors’ Choice\, and the novel The New and Improved Romie Futch (both from Tin House). Her work has appeared in The Georgia Review\, Tin House\, Conjunctions\, and the New York Times. She has won a Rona Jaffe Writers’ Award\, and her stories have been anthologized in Best American Short Stories and Pushcart Prize: Best of the Small Presses. She teaches English and Women’s and Gender Studies at the University of South Carolina and lives in Columbia with her husband\, daughter\, and five hens. \nABOUT THE INTERVIEWERSJonathan Haupt is the executive director of the nonprofit Pat Conroy Literary Center\, the past director of the University of South Carolina Press\, and co-editor of the anthology Our Prince of Scribes: Writers Remember Pat Conroy\, winner of 17 book awards. He is a frequent guest book reviewer for the Charleston Post and Courier and a mentor to the student leaders of DAYLO: Diversity Awareness Youth Literacy Organization. \nE Achurch is sophomore at the Complete Student\, where she is founding president of her school’s chapter of DAYLO: The Diversity Awareness Youth Literacy Organization. She is a counselor for the Conroy Center’s Camp Conroy summer writing and art program and a past participant in the South Carolina Governor’s School for the Arts and Humanities summer creative writing program.
URL:https://explorebeaufortsc.com/event/an-evening-with-julia-elliott-author-of-hellions/
LOCATION:Pat Conroy Literary Center
ORGANIZER;CN="Pat Conroy Literary Center":MAILTO:noreply@facebookmail.com
END:VEVENT
BEGIN:VEVENT
DTSTART;TZID=America/New_York:20250605T173000
DTEND;TZID=America/New_York:20250605T203000
DTSTAMP:20260425T112600
CREATED:20250526T185319Z
LAST-MODIFIED:20250526T185319Z
UID:23087-1749144600-1749155400@explorebeaufortsc.com
SUMMARY:LYP Monthly Social
DESCRIPTION:Join us for the June social event for LYP\, hosted by Beaufort Water Festival
URL:https://explorebeaufortsc.com/event/lyp-monthly-social/
LOCATION:930 Bay St\, Beaufort\, SC 29902-5568\, United States\, 930 Bay St\, Beaufort\, SC 29902-5568\, United States
ORGANIZER;CN="Beaufort Regional Chamber":MAILTO:noreply@facebookmail.com
END:VEVENT
END:VCALENDAR