BEGIN:VCALENDAR
VERSION:2.0
PRODID:-//Explore Beaufort SC - ECPv6.15.20//NONSGML v1.0//EN
CALSCALE:GREGORIAN
METHOD:PUBLISH
X-WR-CALNAME:Explore Beaufort SC
X-ORIGINAL-URL:https://explorebeaufortsc.com
X-WR-CALDESC:Events for Explore Beaufort SC
REFRESH-INTERVAL;VALUE=DURATION:PT1H
X-Robots-Tag:noindex
X-PUBLISHED-TTL:PT1H
BEGIN:VTIMEZONE
TZID:America/New_York
BEGIN:DAYLIGHT
TZOFFSETFROM:-0500
TZOFFSETTO:-0400
TZNAME:EDT
DTSTART:20240310T070000
END:DAYLIGHT
BEGIN:STANDARD
TZOFFSETFROM:-0400
TZOFFSETTO:-0500
TZNAME:EST
DTSTART:20241103T060000
END:STANDARD
BEGIN:DAYLIGHT
TZOFFSETFROM:-0500
TZOFFSETTO:-0400
TZNAME:EDT
DTSTART:20250309T070000
END:DAYLIGHT
BEGIN:STANDARD
TZOFFSETFROM:-0400
TZOFFSETTO:-0500
TZNAME:EST
DTSTART:20251102T060000
END:STANDARD
BEGIN:DAYLIGHT
TZOFFSETFROM:-0500
TZOFFSETTO:-0400
TZNAME:EDT
DTSTART:20260308T070000
END:DAYLIGHT
BEGIN:STANDARD
TZOFFSETFROM:-0400
TZOFFSETTO:-0500
TZNAME:EST
DTSTART:20261101T060000
END:STANDARD
END:VTIMEZONE
BEGIN:VEVENT
DTSTART;TZID=America/New_York:20250604T170000
DTEND;TZID=America/New_York:20250607T200000
DTSTAMP:20260425T094032
CREATED:20250512T162412Z
LAST-MODIFIED:20250526T185319Z
UID:22975-1749056400-1749326400@explorebeaufortsc.com
SUMMARY:Sports Camp 2025
DESCRIPTION:🎉 Sports Camp 2025 is Coming! 🏀⚽🎨 \nLooking for a fun\, safe\, and meaningful summer activity for your kids? Join us for Tidal Creek Fellowship’s Sports Camp\, open to children ages 4–12! \nLocation: Beaufort AcademyDates: June 4–7 (Wed–Sat)Time: 5–8 PM \nAges 4–5 get a fun introduction to sports\, and ages 6–12 choose from: \n – Basketball – Cheerleading – Soccer – Ultimate Frisbee – Creative Arts \nIt’s a week full of teamwork\, encouragement\, fun\, and learning about the Bible! \n💲 Only $30 per camper🎟️ Register now at www.tidalcreek.net/sportscamp \nOn Sunday\, June 8\, bring the whole family!– Worship at 11 AM– Sports Camp Finale at 12:30 PM (at Tidal Creek Fellowship) \nWe can’t wait to see your family this summer! ☀️
URL:https://explorebeaufortsc.com/event/sports-camp-2025/
LOCATION:Beaufort Academy\, Beaufort Academy
ORGANIZER;CN="Tidal Creek Fellowship":MAILTO:noreply@facebookmail.com
END:VEVENT
BEGIN:VEVENT
DTSTART;TZID=America/New_York:20250607T093000
DTEND;TZID=America/New_York:20250607T123000
DTSTAMP:20260425T094032
CREATED:20250512T162437Z
LAST-MODIFIED:20250526T185320Z
UID:22979-1749288600-1749299400@explorebeaufortsc.com
SUMMARY:69th Annual Beaufort Water Festival Paddle Battle
DESCRIPTION:Registration will begin at 8:00 amSafety meeting at 9:00 am Race starts at promptly 9:30 pm
URL:https://explorebeaufortsc.com/event/69th-annual-beaufort-water-festival-paddle-battle/
LOCATION:White Hall Boat Landing-Factory Creek\, Sea Island Pkwy 7 Meridan Rd\, Beaufort \, SC 29907\, USA\, White Hall Boat Landing-Factory Creek\, Sea Island Pkwy 7 Meridan Rd\, Beaufort \, SC 29907\, USA
ORGANIZER;CN="Annual Beaufort Water Festival":MAILTO:noreply@facebookmail.com
END:VEVENT
BEGIN:VEVENT
DTSTART;TZID=America/New_York:20250607T130000
DTEND;TZID=America/New_York:20250607T220000
DTSTAMP:20260425T094032
CREATED:20250512T162440Z
LAST-MODIFIED:20250526T185320Z
UID:22981-1749301200-1749333600@explorebeaufortsc.com
SUMMARY:2025 Music Festival of the Lowcountry
DESCRIPTION:Welcome to the Music Festival of the Lowcountry! Join us for a day of live music\, delicious food\, and great vibes at Henry C. Chambers Waterfront Park in Beaufort\, SC. Get ready to dance the day away with some of the best local and regional bands. Whether you’re a fan of rock\, pop\, country\, or blues\, there’s something for everyone at this festival. This year\, we are excited to welcome headliners Tony Jackson – Country Music’s Favorite and Who’s Bad – The Ultimate Michael Jackson Experience. Don’t miss out on this unforgettable event – mark your calendars now!
URL:https://explorebeaufortsc.com/event/2025-music-festival-of-the-lowcountry-2/
LOCATION:Henry C. Chambers Waterfront Park \, Beaufort\, SC\, United States\, South Carolina 29902\, Henry C. Chambers Waterfront Park \, Beaufort\, SC\, United States\, South Carolina 29902
ORGANIZER;CN="Music Festival of the Lowcountry":MAILTO:noreply@facebookmail.com
END:VEVENT
BEGIN:VEVENT
DTSTART;TZID=America/New_York:20250607T130000
DTEND;TZID=America/New_York:20250607T220000
DTSTAMP:20260425T094032
CREATED:20250430T035550Z
LAST-MODIFIED:20250429T231645Z
UID:22860-1749301200-1749333600@explorebeaufortsc.com
SUMMARY:2025 Music Festival Of The Lowcountry
DESCRIPTION:J.P. Signature Group Events proudly presents the second annual Music Festival of the Lowcountry\, a memorable day filled with exceptional live music from talented local and regional artists across various genres.\nJ.P. Signature Group Events will present the Music Festival of the Lowcountry at Henry C. Chambers Waterfront Park on Saturday\, June 7th from 1:00PM – 10:00PM featuring headliners including Tony Jackson\, America’s Favorite Country Music and Who’s Bad – The Ultimate Michael Jackson Experience. \nTony Jackson\, is known as Traditional Country Music’s favorite artist. “He’s served our\ncountry as a Marine and enjoyed a successful career in the banking industry\, but with\none listen to Tony Jackson’s new album\, I’ve Got Songs to Sing\, it is obvious country\nmusic is his true calling. \nWith a distinctive voice that embodies country’s best traditions yet teems with an infectious energy that propels the genre into the future\, Jackson is an old country soul in the body of a rising superstar.” See Tony here. \nThen\, there’s an exciting Michael Jackson tribute group\, Who’s Bad. \nFounded in 2003\, Who’s Bad’s live performance is an unrivaled celebration of pop\nmusic’s one true King. Their power-packed performance of Michael Jackson’s\nexpansive catalog has united and ignited crowds on almost every continent\, and can\nonly be described as a jaw-dropping\, musical must-see. \nAs the longest-running Michael Jackson tribute\, and the only one to predate his untimely passing\, Who’s Bad is the World’s #1 Michael Jackson Tribute. \n2024 marked the inaugural year for Music Festival of the Lowcountry. The event brought\nnearly 6\,000 visitors to downtown Beaufort\, increasing its typical attendance in the\narea in June by 102%. \nLocal businesses and local talent were well represented\, and the event organizers plan to continue the trend in this year’s event. \nMusic Festival of the Lowcountry ignited in the brilliant mind of local real estate expert\,\nJamie Peart of J.P. Signature Group – Keller Williams. She and her team have provided\nthe Beaufort\, SC community with multiple free events over the last four years including\nfree pictures in the park and free movie nights during the fall and winter. \nPeart possesses a passion for music and is immersed in a milieu of musical talent in her\ndaily life\, notably through her husband&#39;s involvement with local bands. This environment inspired the conception of a music festival. Her primary objective has been to provide a platform for local and regional bands to showcase their artistic prowess. \nInclusivity across various music genres was a key consideration\, as our picturesque historic town had not previously hosted an event of this nature. \nAttendees can anticipate a diverse musical lineup encompassing country\, jazz\, pop\, classic rock\, steel drums\, and more. \n“I want to create a space where local musicians of all genres can play and be heard.\nWhere our local community can enjoy music and life in our historic town\,” Jamie said. \nJamie joined forces with the talented Brittany Underwood\, a marketing specialist\nand graphic designer\, to make this event sparkle. Besides the toe-tapping tunes\, The\nMusic Festival of the Lowcountry serves up a feast of tasty food from top food vendors\nand a bustling market filled with crafts and goodies\, all thanks to the awesome\nteamwork of the J.P. Signature Group crew and beyond. \nBe sure to get to Henry C. Chambers Waterfront Park on June 7th for the music event of the year\, delicious food\, libations\, and browse the amazing craft and vendor market. \nAlso\, in you’re not in Beaufort but want to attend the event\, you can enter to win a free weekend in Beaufort for the music festival\, including a free two-night stay in a premium Mermaid Cottage vacation rental\, a VIP Meet & Greet with Tony Jackson\, free dinners\, tours and more. Visit this link to enter. \nVisit www.musicfestivalofthelowcountry.com for more information.
URL:https://explorebeaufortsc.com/event/2025-music-festival-of-the-lowcountry/
LOCATION:Henry C. Chambers Waterfront Park
ATTACH;FMTTYPE=image/png:https://explorebeaufortsc.com/wp-content/uploads/2025/04/musicfestoflowcountry2025.png
END:VEVENT
BEGIN:VEVENT
DTSTART;TZID=America/New_York:20250607T160000
DTEND;TZID=America/New_York:20250607T190000
DTSTAMP:20260425T094032
CREATED:20250512T162443Z
LAST-MODIFIED:20250526T185320Z
UID:22982-1749312000-1749322800@explorebeaufortsc.com
SUMMARY:Coastal Resin Art Frame Create & Sip @RLB Distillery 6/7/25
DESCRIPTION:Coastal Resin Art Frame Create & Sip!Cocktail Hour starts at 4 pm\, and Workshop starts at 5 pm.  \nCreate your own unique coastal-themed resin frame using a stunning mix of seashells and crushed glass! Whether you’re drawn to soft beachy hues or bold ocean blues\, you’ll learn how to arrange natural elements and pour resin to capture the essence of the sea. \nAdult price includes Workshop and a Cocktail Tasting Flight. Please come prior to the Workshop for the Cocktail Tasting.Designated Driver and Under 21 pricing are Workshop only.Under 21 must be with a parent/guardian. \nPerfect for beginners and seasoned crafters alike\, this workshop includes:Step-by-step guidance by Camilla PagliaroliAll craft materialsTips on working safely and effectively with resinYour own finished 8×10 resin frame to take home on the same day! \nAdvance booking only. Refunds for cancellation not allowed within 48 hours of the event\, and service fee is non-refundable.
URL:https://explorebeaufortsc.com/event/coastal-resin-art-frame-create-sip-rlb-distillery-6-7-25/
LOCATION:Rotten Little Bastard Distillery
ORGANIZER;CN="Create with Camilla":MAILTO:noreply@facebookmail.com
END:VEVENT
BEGIN:VEVENT
DTSTART;TZID=America/New_York:20250607T170000
DTEND;TZID=America/New_York:20250607T200000
DTSTAMP:20260425T094032
CREATED:20250526T185320Z
LAST-MODIFIED:20250526T185320Z
UID:23095-1749315600-1749326400@explorebeaufortsc.com
SUMMARY:Lowcountry Pride Celebration
DESCRIPTION:We’re bringing the heart of the Lowcountry together to honor love in all its forms — and you’re invited! Celebrate love\, unity\, and community at the 3rd annual Lowcountry Pride Celebration\, in support of Lowcountry Pride\, a local LGBTQIA+ non-profit championing advocacy and inclusion in our community. \nWhat to expect: \n*Local artists and vendors showcasing unique creations \n*High-energy DJ entertainment to keep you dancing \n*Delicious food & tap trucks for every craving \n*Chat with Lowcountry Pride\, who’ll be onsite to share their mission\, offer resources\, and engage with our community \nBring your friends\, your family and your fabulous self — everyone is welcome as we celebrate diversity\, raise awareness\, and support a great cause. Let’s make this Pride event one to remember\, see you there! 🏳️‍🌈
URL:https://explorebeaufortsc.com/event/lowcountry-pride-celebration-2/
LOCATION:1256 Fording Island Rd\, Bluffton\, SC 29910-8661\, United States\, 1256 Fording Island Rd\, Bluffton\, SC 29910-8661\, United States
ORGANIZER;CN="Tanger Outlets%2C Hilton Head":MAILTO:noreply@facebookmail.com
END:VEVENT
END:VCALENDAR