BEGIN:VCALENDAR
VERSION:2.0
PRODID:-//Explore Beaufort SC - ECPv6.15.20//NONSGML v1.0//EN
CALSCALE:GREGORIAN
METHOD:PUBLISH
X-ORIGINAL-URL:https://explorebeaufortsc.com
X-WR-CALDESC:Events for Explore Beaufort SC
REFRESH-INTERVAL;VALUE=DURATION:PT1H
X-Robots-Tag:noindex
X-PUBLISHED-TTL:PT1H
BEGIN:VTIMEZONE
TZID:America/New_York
BEGIN:DAYLIGHT
TZOFFSETFROM:-0500
TZOFFSETTO:-0400
TZNAME:EDT
DTSTART:20240310T070000
END:DAYLIGHT
BEGIN:STANDARD
TZOFFSETFROM:-0400
TZOFFSETTO:-0500
TZNAME:EST
DTSTART:20241103T060000
END:STANDARD
BEGIN:DAYLIGHT
TZOFFSETFROM:-0500
TZOFFSETTO:-0400
TZNAME:EDT
DTSTART:20250309T070000
END:DAYLIGHT
BEGIN:STANDARD
TZOFFSETFROM:-0400
TZOFFSETTO:-0500
TZNAME:EST
DTSTART:20251102T060000
END:STANDARD
BEGIN:DAYLIGHT
TZOFFSETFROM:-0500
TZOFFSETTO:-0400
TZNAME:EDT
DTSTART:20260308T070000
END:DAYLIGHT
BEGIN:STANDARD
TZOFFSETFROM:-0400
TZOFFSETTO:-0500
TZNAME:EST
DTSTART:20261101T060000
END:STANDARD
END:VTIMEZONE
BEGIN:VEVENT
DTSTART;TZID=America/New_York:20250609T083000
DTEND;TZID=America/New_York:20250613T150000
DTSTAMP:20260425T094227
CREATED:20250512T162450Z
LAST-MODIFIED:20250611T142913Z
UID:22986-1749457800-1749826800@explorebeaufortsc.com
SUMMARY:Camp Create
DESCRIPTION:Camp Create | June 9-13 | Age 8-12Let’s travel around the world in five days with Camp Create! Guided by local artist Camilla Pagliaroli\, our world travelers will explore and create art projects inspired by art from different parts of the globe daily and create a themed collaborative project\, all showcased at the end of the week in our Camp Art Exhibit! Join us on our worldly expedition and watch your sprouting artist flourish!*Maximum of 14 Campers \nMonday – Friday 8:30am-3:00pm$300 per camper \nFor more information or to register email jessica@celadonclub.com
URL:https://explorebeaufortsc.com/event/camp-create/
LOCATION:61 Celadon Drive\, Beaufort\, SC\, United States\, South Carolina 29907\, 61 Celadon Drive\, Beaufort\, SC\, United States\, South Carolina 29907
ORGANIZER;CN="Celadon Club Wellness Center":MAILTO:noreply@facebookmail.com
END:VEVENT
BEGIN:VEVENT
DTSTART;TZID=America/New_York:20250609T203000
DTEND;TZID=America/New_York:20250613T153000
DTSTAMP:20260425T094227
CREATED:20250512T162510Z
LAST-MODIFIED:20250611T142913Z
UID:22991-1749501000-1749828600@explorebeaufortsc.com
SUMMARY:Camp Conroy 2025 (Camp #1)
DESCRIPTION:Camp Conroy is now TWO one-week day camps for young writers and artists. Camp#1 for campers ages 9 to 12 will be held on June 9 to 13 (Monday to Friday\, 8:30 a.m. to 3:30 p.m.). Camp#2 for campers ages 13 to 16 will be held on June 23 to 27 (Monday to Friday\, 8:30 a.m. to 3:30 p.m.) Hosted by the nonprofit Pat Conroy Literary Center\, both camps will be held at Robert Smalls Leadership Academy in Beaufort\, SC. \nRegistration: https://campconroy2025.eventbrite.com \nThis year’s camp theme\, Mirrors\, Windows\, and Sliding Glass Doors\, honors the work of Dr. Rudine Sims Bishop\, who developed her metaphor as a way of describing how books can help readers to see themselves\, see others\, and enter into new experiences and understanding. \nDuring each of the two camps\, we will be building a book together by creating–individually and collaboratively–the writing and art that we will publish together in our anthology\, then critiquing\, editing\, and designing our work in preparation for publication. Although our two age groups are divided into separate weeks\, they will be contributing to a special collaborative project together as well. \nCampers can explore a range of writing genres\, from poetry to short stories to micro-memoirs; as well as multiple forms of self-expression in the visual arts\, including drawing\, painting\, and photography. They will be guided through their creative endeavors by Camp Conroy’s talented counselors\, full-time adult instructors\, and special guest presenters and instructors. A final reading and presentation of camper creations will conclude the experience\, and campers will each receive a copy of the camp anthology on publication later this summer. \nCamp Conroy invites diversity and inclusivity among our campers with respect to race\, religion\, ability\, and all other aspects of identity. Scholarships are available to assist campers who might not otherwise be able to take part in this experience. \nThe $250 registration fee for Camp Conroy includes one week of instruction\, camp activities\, and healthy daily snacks. Students must bring their own lunches and drinks each day. (This is a day camp; overnight lodging and meals are not included.) After the camp\, participants will each receive a copy of their published anthology. Registration closes on May 20. \nIn the 2004 Pat Conroy Cookbook\, Pat describes his “Bill Dufford Summer” spent between his junior and senior years on the campus of Beaufort High School (what is now Beaufort Middle School\, the site of last year’s Camp Conroy). It was a transformative summer for Pat and for his principal\, mentor\, and surrogate father figure\, Bill Dufford. As Pat writes at the end of his recollection\, “I had everything—the best summer of my life.” That has been and remains the goal of our Camp Conroy\, to give our campers the best summers of their lives. We hope you will join us this year. \nScholarships: A limited number of full and partial scholarships are available. To apply\, interested students should submit a sample of their work (story\, essay\, poem\, artwork\, or photography) with a brief letter about their interest in the Camp Conroy experience by May 22\, to the Pat Conroy Literary Center\, Attention: Camp Conroy\, 601 Bladen Street\, Beaufort\, SC 29902. Please specify the age of the camper so we know which of the two weeks you are applying for. Scholarship recipients will be contacted in early June. \nSponsorships: We welcome your tax-deductible donations to the nonprofit Pat Conroy Literary Center to sponsor a Camper\, a Camp Counselor\, a Camp Instructor\, or a Guest Presenter. Scholarships for Campers make it possible for young writers and artists to participate in this experience who might not otherwise have the opportunity. Sponsorships of Camp Counselors\, Camp Instructors\, and Guest Presenters benefit all of our Campers. For details: https://campconroy2025.eventbrite.com
URL:https://explorebeaufortsc.com/event/camp-conroy-2025-camp-1/
LOCATION:Robert Smalls Leadership Academy\, Robert Smalls Leadership Academy
ORGANIZER;CN="Pat Conroy Literary Center":MAILTO:noreply@facebookmail.com
END:VEVENT
BEGIN:VEVENT
DTSTART;TZID=America/New_York:20250612T080000
DTEND;TZID=America/New_York:20250619T170000
DTSTAMP:20260425T094227
CREATED:20250523T152146Z
LAST-MODIFIED:20250523T152146Z
UID:23058-1749715200-1750352400@explorebeaufortsc.com
SUMMARY:Historic Mitchelville Freedom Park 11th Annual Juneteenth Celebration
DESCRIPTION:  \nHistoric Mitchelville Freedom Park invites the public to join in a powerful\, family-friendly Juneteenth Celebration from June 12–19\, 2025\,  featuring the headlining performance by R&B sensation Leela James on Saturday\, June 14\, 2025. \nThis week-long series of events blends history\, culture\, music\, and community in a joyful celebration of our shared history\, hosted on the very grounds of the first self-governed town established by formerly enslaved people in the United States. \nProgramming includes a full slate of events\, such as interactive children’s activities\, African drumming\, nature exhibits\, a cultural sleepover experience\, and an all day celebration on Saturday. \n“Events like this bring our community—both near and far—together in powerful ways\,” said Ahmad Ward\, Executive Director of Historic Mitchelville Freedom Park. “They offer an opportunity to reflect on our shared history and celebrate the progress we’ve made. I look forward to joining everyone for the old-school dance contest—it’s a highlight of the weekend!” \nThe Saturday\, June 14 festival in the park (10:00 AM – 4:00 PM | $10 admission) will feature: \n\nGospel music and choirs hosted by Marti Baker\nA special appearance by Marlena Smalls at the historic Praise House\nFamily activities\, including a Kids’ Corner\, karaoke\, and an old-school dance contest\nFood trucks\, vendors\, community exhibitors\, and staged photo opportunities\nLeela James live in concert to close the festival\n\nHeadlining Artist\, Leela James is known for her powerhouse vocals and chart-topping hits like “Fall For You” and “Complicated”\, will bring her undeniable presence under the oaks in Mitchelville. \n“We are thrilled to welcome the incredible Leela James to our stage\,” says Joyce Wright\, Program Director. “Her soulful voice and dynamic performance will be the pinnacle of our weeklong Juneteenth celebration.” \n  \nFULL EVENT LINE UP: \nThursday\, June 12 \nNaych and B’uhds: A Celebration of Nature and Birds\n11:00 AM – 2:00 PM | Free with Registration \nHosted by Hilton Head Audubon\, this event connects the beauty of nature with the rich history of Mitchelville. Wander under the oaks and alongside the marsh while local conservation groups share their work. \nSleep Under the Stars: The Juneteenth Sleepover Experience\n6:00 PM – 9:00 PM (Optional overnight stay until 6:00 AM)\n$20 per person | $10 tent rental available \nA soul-stirring overnight experience\, this event invites you to connect deeply with the land and legacy of Mitchelville. \n\nFriday\, June 13 \nChildren’s Day: Dig Into History\n11:00 AM – 1:00 PM |  Free with RSVP \nOn Friday morning\, children are invited to step into the shoes of junior archaeologists during Children’s Day at Mitchelville. \nFeel the Beat: The 2025 Juneteenth Drum Circle\n5:30 PM – 7:30 PM |  Free with RSVP \nLet the rhythm guide your spirit at this energetic\, hands-on community celebration. Master drummers lead an unforgettable evening filled with movement\, music\, and meaning. \nSaturday\, June 14 \nThe Main Event: 11th Annual Juneteenth Celebration\n10:00 AM – 4:00 PM |  $10 Admission \nWednesday\, June 19 \nJuneteenth 5k with Palmetto Running Company\n8:00  – 10:00 AM | Register Online \n  \nHistoric Mitchelville Freedom Park| 40 Harriet Tubman Way\, Hilton Head Island\, SC 29926 \nTICKETS & INFO: \nexploremitchelville.org
URL:https://explorebeaufortsc.com/event/historic-mitchelville-freedom-park-11th-annual-juneteenth-celebration/
ATTACH;FMTTYPE=image/png:https://explorebeaufortsc.com/wp-content/uploads/2025/05/juneteenth2025.png
END:VEVENT
BEGIN:VEVENT
DTSTART;TZID=America/New_York:20250612T120000
DTEND;TZID=America/New_York:20250612T150000
DTSTAMP:20260425T094227
CREATED:20250611T142914Z
LAST-MODIFIED:20250611T142914Z
UID:23384-1749729600-1749740400@explorebeaufortsc.com
SUMMARY:Cemetery Walking Tour
DESCRIPTION:Beaufort National Cemetery is the 13th oldest national cemetery in the United States and is the final resting place for over 28\,000 veterans and eligible family members. Would you like to learn about some of the heroes buried here and their stories? Come join our cemetery walking tour. Volunteer docents will take you on a tour through the 162-year old cemetery and learn about our nation’s history through the stories of those who served and defended it. Tours start at the main flagpole. For more information\, contact the cemetery at 843-524-3925.
URL:https://explorebeaufortsc.com/event/cemetery-walking-tour-16/
LOCATION:1601 Boundary Street\, Beaufort\, SC\, United States\, South Carolina 29902\, 1601 Boundary Street\, Beaufort\, SC\, United States\, South Carolina 29902
ORGANIZER;CN="Beaufort National Cemetery":MAILTO:noreply@facebookmail.com
END:VEVENT
BEGIN:VEVENT
DTSTART;TZID=America/New_York:20250612T180000
DTEND;TZID=America/New_York:20250612T193000
DTSTAMP:20260425T094227
CREATED:20250512T162514Z
LAST-MODIFIED:20250611T142914Z
UID:22993-1749751200-1749756600@explorebeaufortsc.com
SUMMARY:Open Mic Night--Featuring Doris E. Wright\, Author of Cabbagehead
DESCRIPTION:The Pat Conroy Literary Center’s monthly Open Mic Night will be held at the Conroy Center (601 Bladen St.) on Thursday\, June 12\, from 6:00 to 7:30 p.m. Open Mic Night will feature local novelist Doris E. Wright\, author of Cabbagehead. Open Mic will also include short readings of 3 to 5 minutes each by other writers in many genres. \nInterested in reading as part of Open Mic? Let us know at contact@patconroyliterarycenter.org. \nAbout Our Featured AuthorDoris E. Wright is an award-winning author whose fiction and nonfiction stories have been published in several anthologies. She is a mother\, grandmother\, wife\, artist and writer. Always curious about what’s beyond the next bend\, she has ridden camels in Timbuktu\, done tai chi in Xi’an\, and walked the veld in Kwazulu-Natal. To facilitate her and her husband’s love of travel\, especially on the cheap\, they have pet sat dogs\, cats\, tarantulas\, rats\, a tortoise\, and both normal and unusual plants in the U.S.\, France\, Ireland\, and the U.K. \n“Cabbagehead by Doris E. Wright will have you wondering if plants have a life\, and if they can intervene in our lives in ways we’ve not yet fathomed. Readers will love Wright’s deft skill with words\, her ability to move the story along\, and her ability to keep us in suspense. Dry wit\, the suspense over the next revelation in the vegetable dilemma\, and Wright’s other writerly gifts will keep you reading. It’s a story for anyone who’s experienced family estrangement or lost themselves in nature anywhere.”–Estelle Ford-Williamson\, author of Rising Fawn
URL:https://explorebeaufortsc.com/event/open-mic-night-featuring-doris-e-wright-author-of-cabbagehead/
LOCATION:601 Bladen Street\, Beaufort\, SC\, United States\, South Carolina 29902\, 601 Bladen Street\, Beaufort\, SC\, United States\, South Carolina 29902
ORGANIZER;CN="Pat Conroy Literary Center":MAILTO:noreply@facebookmail.com
END:VEVENT
BEGIN:VEVENT
DTSTART;TZID=America/New_York:20250612T180000
DTEND;TZID=America/New_York:20250612T190000
DTSTAMP:20260425T094227
CREATED:20250531T160728Z
LAST-MODIFIED:20250531T160728Z
UID:23338-1749751200-1749754800@explorebeaufortsc.com
SUMMARY:Free Birding Seminar at Marshview Mercantile
DESCRIPTION:Ever wonder who’s really visiting your backyard?\n\n\nJoin us for a fascinating FREE seminar with Beaufort County’s #1 ranked birder\, Jenn Clementoni\, as she shares her expert tips on spotting the Lowcountry’s most stunning — and often overlooked — native and marsh birds.  Whether you’re a casual nature lover or a budding birdwatcher\, you’ll leave with new eyes for the skies-and your backyard. \nShe’ll share insights into the feeding habits\, seasonal behaviors\, and things you can do to make your space attractive for our feathered friends. \nEnjoy complimentary drinks and lite hors d’oeuvres while you learn!\nWHEN: June 12\, 6-7p\nWHERE: 2631 Boundary Street\, Beaufort\nSpace is FREE but limited- RSVP today to reserve your seat and help us plan for food and seating! https://marshviewmercantile.commentsold.com/products/birding-seminar?variant=7899
URL:https://explorebeaufortsc.com/event/free-birding-seminar-at-marshview-mercantile/
LOCATION:Marshview Mercantile\, 2631 Boundary St\, Beaufort\, SC\, 29906\, US
ATTACH;FMTTYPE=image/png:https://explorebeaufortsc.com/wp-content/uploads/2025/05/marshviewseminar.png
END:VEVENT
BEGIN:VEVENT
DTSTART;TZID=America/New_York:20250612T183000
DTEND;TZID=America/New_York:20250612T220000
DTSTAMP:20260425T094227
CREATED:20250611T142914Z
LAST-MODIFIED:20250611T142914Z
UID:23386-1749753000-1749765600@explorebeaufortsc.com
SUMMARY:Beaufort Boardgame Night
DESCRIPTION:Come to our regularly scheduled board game night at the Clemson Extension office 18 John Galt Rd\, Beaufort\, SC 29906 \nhttps://www.facebook.com/events/632922479218212/?event_time_id=632922499218210
URL:https://explorebeaufortsc.com/event/beaufort-boardgame-night/
LOCATION:18 John Galt Rd\, Beaufort\, SC 29906-4290\, United States\, 18 John Galt Rd\, Beaufort\, SC 29906-4290\, United States
END:VEVENT
BEGIN:VEVENT
DTSTART;TZID=America/New_York:20250612T193000
DTEND;TZID=America/New_York:20250612T213000
DTSTAMP:20260425T094227
CREATED:20250512T162517Z
LAST-MODIFIED:20250526T185322Z
UID:22994-1749756600-1749763800@explorebeaufortsc.com
SUMMARY:Beaufort Theatre Company presents Ain't Misbehavin'
DESCRIPTION:Ain’t Misbehavin’ pays tribute to the incomparable Thomas “Fats” Waller who rose to international fame during the Harlem Renaissance\, the Golden Age of the Cotton Club\, and that jumpin’ new beat\, swing music.  \nUpcoming Dates: June 12\, 13\, 14 at 7:30 PM and June 15 at 3:00 PMTicket Price: $35 for adults\, $30 for seniors/military\, $20 for studentsVenue: USCB Center for the Arts (801 Carteret St. Beaufort\, SC 29902) \nhttps://www.facebook.com/events/1478185599758869/?event_time_id=1478185609758868
URL:https://explorebeaufortsc.com/event/beaufort-theatre-company-presents-aint-misbehavin/
LOCATION:801 Carteret St\, Beaufort\, SC\, United States\, South Carolina 29902\, 801 Carteret St\, Beaufort\, SC\, United States\, South Carolina 29902
ORGANIZER;CN="USCB Center for the Arts":MAILTO:noreply@facebookmail.com
END:VEVENT
END:VCALENDAR