BEGIN:VCALENDAR
VERSION:2.0
PRODID:-//Explore Beaufort SC - ECPv6.15.20//NONSGML v1.0//EN
CALSCALE:GREGORIAN
METHOD:PUBLISH
X-ORIGINAL-URL:https://explorebeaufortsc.com
X-WR-CALDESC:Events for Explore Beaufort SC
REFRESH-INTERVAL;VALUE=DURATION:PT1H
X-Robots-Tag:noindex
X-PUBLISHED-TTL:PT1H
BEGIN:VTIMEZONE
TZID:America/New_York
BEGIN:DAYLIGHT
TZOFFSETFROM:-0500
TZOFFSETTO:-0400
TZNAME:EDT
DTSTART:20240310T070000
END:DAYLIGHT
BEGIN:STANDARD
TZOFFSETFROM:-0400
TZOFFSETTO:-0500
TZNAME:EST
DTSTART:20241103T060000
END:STANDARD
BEGIN:DAYLIGHT
TZOFFSETFROM:-0500
TZOFFSETTO:-0400
TZNAME:EDT
DTSTART:20250309T070000
END:DAYLIGHT
BEGIN:STANDARD
TZOFFSETFROM:-0400
TZOFFSETTO:-0500
TZNAME:EST
DTSTART:20251102T060000
END:STANDARD
BEGIN:DAYLIGHT
TZOFFSETFROM:-0500
TZOFFSETTO:-0400
TZNAME:EDT
DTSTART:20260308T070000
END:DAYLIGHT
BEGIN:STANDARD
TZOFFSETFROM:-0400
TZOFFSETTO:-0500
TZNAME:EST
DTSTART:20261101T060000
END:STANDARD
END:VTIMEZONE
BEGIN:VEVENT
DTSTART;TZID=America/New_York:20250620T160000
DTEND;TZID=America/New_York:20250620T190000
DTSTAMP:20260425T094207
CREATED:20250611T142916Z
LAST-MODIFIED:20250611T142916Z
UID:23398-1750435200-1750446000@explorebeaufortsc.com
SUMMARY:June's 3rd Friday Blowout Market!!
DESCRIPTION:join the Habersham Farmers Market for our big 3rd friday event. 20+ food and craft vendors\, food trucks and live music by The Usual Suspects Band!!
URL:https://explorebeaufortsc.com/event/junes-3rd-friday-blowout-market/
LOCATION:Habersham Marketplace\, Habersham Marketplace
ORGANIZER;CN="Habersham Farmers Market":MAILTO:noreply@facebookmail.com
END:VEVENT
BEGIN:VEVENT
DTSTART;TZID=America/New_York:20250620T160000
DTEND;TZID=America/New_York:20250620T190000
DTSTAMP:20260425T094207
CREATED:20250315T022640Z
LAST-MODIFIED:20250611T142916Z
UID:22328-1750435200-1750446000@explorebeaufortsc.com
SUMMARY:Habersham Farmers Market
DESCRIPTION:Join us for fresh produce and handcrafted items from our amazing vendors \nhttps://www.facebook.com/events/610706071953415/?event_time_id=610706121953410
URL:https://explorebeaufortsc.com/event/habersham-farmers-market-37/
LOCATION:Habersham South Carolina\, Habersham South Carolina
ORGANIZER;CN="Habersham Farmers Market":MAILTO:noreply@facebookmail.com
END:VEVENT
BEGIN:VEVENT
DTSTART;TZID=America/New_York:20250620T170000
DTEND;TZID=America/New_York:20250620T200000
DTSTAMP:20260425T094207
CREATED:20250130T144443Z
LAST-MODIFIED:20250611T142916Z
UID:21859-1750438800-1750449600@explorebeaufortsc.com
SUMMARY:Battle Of the Beards 2025
DESCRIPTION:Hearken\, ye brave souls and fearless warriors! Gather thy kin and join us on the mighty day of Friday\, June 20th\, 2025\, from the hour of 5 to 8 in the eve\, at Brody’s Hall.For on this day\, we shall witness the second annual Battle of the Beards! Behold as this year’s valiant warriors clash in epic combat to see who can wield the mightiest beard of them all. All proceeds shall honor the noble cause of Clan Esther’s House.Sharpen thy blades and brace thy spirits\, for a night of legendary triumph awaits! Skål! Location: Brody’s Hall\, Battle Arena Date: Friday\, June 20th\, 2025 Time: 5:00 PM – 8:00 PMCome forth and witness the glory!
URL:https://explorebeaufortsc.com/event/battle-of-the-beards-2025/
LOCATION:Brody’s Bar & Grill\, 47 Ferry Dr\, Beaufort\, SC\, 29907\, US
ORGANIZER;CN="The Helianthus Project":MAILTO:noreply@facebookmail.com
END:VEVENT
BEGIN:VEVENT
DTSTART;TZID=America/New_York:20250620T180000
DTEND;TZID=America/New_York:20250620T200000
DTSTAMP:20260425T094207
CREATED:20250611T142916Z
LAST-MODIFIED:20250611T142916Z
UID:23399-1750442400-1750449600@explorebeaufortsc.com
SUMMARY:Kids Night Out - Squishmallows!
DESCRIPTION:Our most popular event – Squishmallows and Kids Night Out!All kids will get a new Squishmallow\, dinner\, and paint a canvas while you enjoy a couple hours on your own.
URL:https://explorebeaufortsc.com/event/kids-night-out-squishmallows/
LOCATION:10 Sam’s Point Way\, 29907\, 10 Sam's Point Way\, 29907
ORGANIZER;CN="Happy Art Studio":MAILTO:noreply@facebookmail.com
END:VEVENT
END:VCALENDAR