BEGIN:VCALENDAR
VERSION:2.0
PRODID:-//Explore Beaufort SC - ECPv6.15.20//NONSGML v1.0//EN
CALSCALE:GREGORIAN
METHOD:PUBLISH
X-WR-CALNAME:Explore Beaufort SC
X-ORIGINAL-URL:https://explorebeaufortsc.com
X-WR-CALDESC:Events for Explore Beaufort SC
REFRESH-INTERVAL;VALUE=DURATION:PT1H
X-Robots-Tag:noindex
X-PUBLISHED-TTL:PT1H
BEGIN:VTIMEZONE
TZID:America/New_York
BEGIN:DAYLIGHT
TZOFFSETFROM:-0500
TZOFFSETTO:-0400
TZNAME:EDT
DTSTART:20240310T070000
END:DAYLIGHT
BEGIN:STANDARD
TZOFFSETFROM:-0400
TZOFFSETTO:-0500
TZNAME:EST
DTSTART:20241103T060000
END:STANDARD
BEGIN:DAYLIGHT
TZOFFSETFROM:-0500
TZOFFSETTO:-0400
TZNAME:EDT
DTSTART:20250309T070000
END:DAYLIGHT
BEGIN:STANDARD
TZOFFSETFROM:-0400
TZOFFSETTO:-0500
TZNAME:EST
DTSTART:20251102T060000
END:STANDARD
BEGIN:DAYLIGHT
TZOFFSETFROM:-0500
TZOFFSETTO:-0400
TZNAME:EDT
DTSTART:20260308T070000
END:DAYLIGHT
BEGIN:STANDARD
TZOFFSETFROM:-0400
TZOFFSETTO:-0500
TZNAME:EST
DTSTART:20261101T060000
END:STANDARD
END:VTIMEZONE
BEGIN:VEVENT
DTSTART;TZID=America/New_York:20250622T130000
DTEND;TZID=America/New_York:20250622T160000
DTSTAMP:20260425T094032
CREATED:20250523T151406Z
LAST-MODIFIED:20250523T151406Z
UID:23054-1750597200-1750608000@explorebeaufortsc.com
SUMMARY:Sourdough Bread Workshop at Marshview Mercantile
DESCRIPTION:Ready to bake your own incredible sourdough bread from scratch? Join our hands on workshop and learn to create and care for your own sourdough starter- the heart of every great loaf! \nNo experience needed- just bring your curiosity (and maybe an apron). \nIn addition to the loaf of bread you make during class\, you will take home everything you need for a successful start on your sourdough journey:\n*starter – fed\n*32 ounce mason jar\,\n*two bowls\, one mixing bowl\, one banneton bowl\n*tea towel\n*bench scraper \nSpots are limited to 8\, so don’t wait- sign up today and let’s get fermenting! \nWHEN: Sunday\, June 22\, 1-4p\nWHERE: 2631 Boundary Street\, Beaufort\, SC\nCOST: $85 \nREGISTER: \nhttps://marshviewmercantile.commentsold.com/products/sourdough-starter-workshop
URL:https://explorebeaufortsc.com/event/sourdough-bread-workshop-at-marshview-mercantile/
LOCATION:Marshview Mercantile\, 2631 Boundary St\, Beaufort\, SC\, 29906\, US
ATTACH;FMTTYPE=image/jpeg:https://explorebeaufortsc.com/wp-content/uploads/2025/05/marshviewsoutdough.jpg
END:VEVENT
BEGIN:VEVENT
DTSTART;TZID=America/New_York:20250622T180000
DTEND;TZID=America/New_York:20250622T193000
DTSTAMP:20260425T094032
CREATED:20250621T013233Z
LAST-MODIFIED:20250621T013233Z
UID:23475-1750615200-1750620600@explorebeaufortsc.com
SUMMARY:Listen On The Lawn: Free Outdoor Concert at USCB
DESCRIPTION:Listen on the Lawn is BACK!\nJoin us this Sunday\, June 22nd from 6:00–7:30 PM for an evening under the oaks with live music by The Southern Heat Band. Enjoy the fresh air and good summer vibes on the lawn\, at USCB Center for the Arts in downtown.\n\nBring your lawn chairs\, blankets\, and your favorite people—it’s the perfect way to wind down your weekend.\nListen on the Lawn is a free event and open to all.\nDon’t miss it!
URL:https://explorebeaufortsc.com/event/listen-on-the-lawn-free-outdoor-concert-at-uscb/
LOCATION:USCB Center for the Arts\, 805 Carteret Street\, Beaufort\, SC\, United States
ATTACH;FMTTYPE=image/jpeg:https://explorebeaufortsc.com/wp-content/uploads/2025/06/listenlawn.jpg
ORGANIZER;CN="USCB Center for the Arts":MAILTO:noreply@facebookmail.com
END:VEVENT
END:VCALENDAR