BEGIN:VCALENDAR
VERSION:2.0
PRODID:-//Explore Beaufort SC - ECPv6.15.20//NONSGML v1.0//EN
CALSCALE:GREGORIAN
METHOD:PUBLISH
X-ORIGINAL-URL:https://explorebeaufortsc.com
X-WR-CALDESC:Events for Explore Beaufort SC
REFRESH-INTERVAL;VALUE=DURATION:PT1H
X-Robots-Tag:noindex
X-PUBLISHED-TTL:PT1H
BEGIN:VTIMEZONE
TZID:America/New_York
BEGIN:DAYLIGHT
TZOFFSETFROM:-0500
TZOFFSETTO:-0400
TZNAME:EDT
DTSTART:20240310T070000
END:DAYLIGHT
BEGIN:STANDARD
TZOFFSETFROM:-0400
TZOFFSETTO:-0500
TZNAME:EST
DTSTART:20241103T060000
END:STANDARD
BEGIN:DAYLIGHT
TZOFFSETFROM:-0500
TZOFFSETTO:-0400
TZNAME:EDT
DTSTART:20250309T070000
END:DAYLIGHT
BEGIN:STANDARD
TZOFFSETFROM:-0400
TZOFFSETTO:-0500
TZNAME:EST
DTSTART:20251102T060000
END:STANDARD
BEGIN:DAYLIGHT
TZOFFSETFROM:-0500
TZOFFSETTO:-0400
TZNAME:EDT
DTSTART:20260308T070000
END:DAYLIGHT
BEGIN:STANDARD
TZOFFSETFROM:-0400
TZOFFSETTO:-0500
TZNAME:EST
DTSTART:20261101T060000
END:STANDARD
END:VTIMEZONE
BEGIN:VEVENT
DTSTART;TZID=America/New_York:20250628T090000
DTEND;TZID=America/New_York:20250628T120000
DTSTAMP:20260425T094214
CREATED:20250526T185326Z
LAST-MODIFIED:20250611T142919Z
UID:23121-1751101200-1751112000@explorebeaufortsc.com
SUMMARY:Town of Bluffton Brunch & Ballet
DESCRIPTION:Join the Town of Bluffton for Brunch and Ballet on Saturday\, June 28\, 2025\, featuring “Swan Lake” performed by Okatie Youth Ballet. \nThis event will be held from 9:00 AM to 12:00 PM at Buckwalter Place Park—Amphitheater (20 Carecore Dr.\, Bluffton\, SC\, 29910). \nThis event is FREE and all are welcome. \nBreakfast foods\, coffee drinks\, beer\, and wine will be available for purchase. \nThis event is part of the Celebrating Bluffton 2025 Event Series!🎉
URL:https://explorebeaufortsc.com/event/town-of-bluffton-brunch-ballet-2/
LOCATION:Buckwalter Place Park
ORGANIZER;CN="Town of Bluffton Government":MAILTO:noreply@facebookmail.com
END:VEVENT
BEGIN:VEVENT
DTSTART;TZID=America/New_York:20250628T090000
DTEND;TZID=America/New_York:20250628T140000
DTSTAMP:20260425T094214
CREATED:20250526T185326Z
LAST-MODIFIED:20250611T142920Z
UID:23122-1751101200-1751119200@explorebeaufortsc.com
SUMMARY:DragonBoat Beaufort Race Day 2025
DESCRIPTION:This event is a series of dragon boat races all in support of local cancer patients in need in Beaufort County. Stop by the Bazaar Tent where you can not only shop for race day themed items but handcrafted items by Cancer Chic Boutique. All proceeds benefit local cancer patients in need. 🐉🛶
URL:https://explorebeaufortsc.com/event/dragonboat-beaufort-race-day-2025/
LOCATION:Waterfront Park\, Beaufort\, SC\, 29902\, US
END:VEVENT
BEGIN:VEVENT
DTSTART;TZID=America/New_York:20250628T170000
DTEND;TZID=America/New_York:20250628T200000
DTSTAMP:20260425T094214
CREATED:20250526T185326Z
LAST-MODIFIED:20250611T142920Z
UID:23124-1751130000-1751140800@explorebeaufortsc.com
SUMMARY:Barrel-Aged Spirits Event
DESCRIPTION:Prepare to have your taste buds captivated as one of our Stave & Thief certified Bourbon Steward’s guides you through a tasting experience featuring RLB spirits. See first hand the change that occurs in the aging process. We will explore the intricacies of American Whiskey\, sampling the raw distillate and aged spirit. We’ll also navigate the progression of Bourbon\, sampling White Dog (raw distillate)\, Bourbon straight from the barrel\, and the smooth 93 proof Coosa Cut. Additionally\, we will delve into the world of Rum\, starting from its raw distillate stage\, progressing to an 80 proof\, and culminating in a refined barrel-aged masterpiece. \nYour ticket includes all tastings\, expert guidance\, a Glencairn glass\, a Tasting Notes sheet\, and a $10 coupon for purchasing a bottle of RLB Spirits for your next tasting event!
URL:https://explorebeaufortsc.com/event/barrel-aged-spirits-event/
LOCATION:2139 Boundary Street Unit 102\, Beaufort\, SC\, United States\, South Carolina 29902\, 2139 Boundary Street Unit 102\, Beaufort\, SC\, United States\, South Carolina 29902
ORGANIZER;CN="Rotten Little Bastard Distillery":MAILTO:noreply@facebookmail.com
END:VEVENT
END:VCALENDAR