BEGIN:VCALENDAR
VERSION:2.0
PRODID:-//Explore Beaufort SC - ECPv6.15.20//NONSGML v1.0//EN
CALSCALE:GREGORIAN
METHOD:PUBLISH
X-WR-CALNAME:Explore Beaufort SC
X-ORIGINAL-URL:https://explorebeaufortsc.com
X-WR-CALDESC:Events for Explore Beaufort SC
REFRESH-INTERVAL;VALUE=DURATION:PT1H
X-Robots-Tag:noindex
X-PUBLISHED-TTL:PT1H
BEGIN:VTIMEZONE
TZID:America/New_York
BEGIN:DAYLIGHT
TZOFFSETFROM:-0500
TZOFFSETTO:-0400
TZNAME:EDT
DTSTART:20240310T070000
END:DAYLIGHT
BEGIN:STANDARD
TZOFFSETFROM:-0400
TZOFFSETTO:-0500
TZNAME:EST
DTSTART:20241103T060000
END:STANDARD
BEGIN:DAYLIGHT
TZOFFSETFROM:-0500
TZOFFSETTO:-0400
TZNAME:EDT
DTSTART:20250309T070000
END:DAYLIGHT
BEGIN:STANDARD
TZOFFSETFROM:-0400
TZOFFSETTO:-0500
TZNAME:EST
DTSTART:20251102T060000
END:STANDARD
BEGIN:DAYLIGHT
TZOFFSETFROM:-0500
TZOFFSETTO:-0400
TZNAME:EDT
DTSTART:20260308T070000
END:DAYLIGHT
BEGIN:STANDARD
TZOFFSETFROM:-0400
TZOFFSETTO:-0500
TZNAME:EST
DTSTART:20261101T060000
END:STANDARD
END:VTIMEZONE
BEGIN:VEVENT
DTSTART;TZID=America/New_York:20250706T080000
DTEND;TZID=America/New_York:20250712T170000
DTSTAMP:20260425T075542
CREATED:20250526T185332Z
LAST-MODIFIED:20250712T034906Z
UID:23127-1751788800-1752339600@explorebeaufortsc.com
SUMMARY:Young Life Summer Camp 2025
DESCRIPTION:Join us for the best week of your life this Summer!Here the link:https://beaufort.younglife.events/2025-sharptop-cove-wk-7-sc74
URL:https://explorebeaufortsc.com/event/young-life-summer-camp-2025/
LOCATION:1084 Ribaut Road\, Beaufort\, SC\, United States\, South Carolina 29902\, 1084 Ribaut Road\, Beaufort\, SC\, United States\, South Carolina 29902
ORGANIZER;CN="Young LIFE Beaufort":MAILTO:noreply@facebookmail.com
END:VEVENT
END:VCALENDAR