BEGIN:VCALENDAR
VERSION:2.0
PRODID:-//Explore Beaufort SC - ECPv6.15.20//NONSGML v1.0//EN
CALSCALE:GREGORIAN
METHOD:PUBLISH
X-WR-CALNAME:Explore Beaufort SC
X-ORIGINAL-URL:https://explorebeaufortsc.com
X-WR-CALDESC:Events for Explore Beaufort SC
REFRESH-INTERVAL;VALUE=DURATION:PT1H
X-Robots-Tag:noindex
X-PUBLISHED-TTL:PT1H
BEGIN:VTIMEZONE
TZID:America/New_York
BEGIN:DAYLIGHT
TZOFFSETFROM:-0500
TZOFFSETTO:-0400
TZNAME:EDT
DTSTART:20240310T070000
END:DAYLIGHT
BEGIN:STANDARD
TZOFFSETFROM:-0400
TZOFFSETTO:-0500
TZNAME:EST
DTSTART:20241103T060000
END:STANDARD
BEGIN:DAYLIGHT
TZOFFSETFROM:-0500
TZOFFSETTO:-0400
TZNAME:EDT
DTSTART:20250309T070000
END:DAYLIGHT
BEGIN:STANDARD
TZOFFSETFROM:-0400
TZOFFSETTO:-0500
TZNAME:EST
DTSTART:20251102T060000
END:STANDARD
BEGIN:DAYLIGHT
TZOFFSETFROM:-0500
TZOFFSETTO:-0400
TZNAME:EDT
DTSTART:20260308T070000
END:DAYLIGHT
BEGIN:STANDARD
TZOFFSETFROM:-0400
TZOFFSETTO:-0500
TZNAME:EST
DTSTART:20261101T060000
END:STANDARD
END:VTIMEZONE
BEGIN:VEVENT
DTSTART;TZID=America/New_York:20250710T080000
DTEND;TZID=America/New_York:20250714T170000
DTSTAMP:20260425T075547
CREATED:20250526T185333Z
LAST-MODIFIED:20250712T034906Z
UID:23131-1752134400-1752512400@explorebeaufortsc.com
SUMMARY:WyldLife Summer Camp 2025
DESCRIPTION:Join us for the best week of your life this Summer! Deadline to sign up is April 1st! *$100 UNTIL DECEMBER 31Here the link:https://beaufort.younglife.events/wylsummer2025
URL:https://explorebeaufortsc.com/event/wyldlife-summer-camp-2025/
LOCATION:1084 Ribaut Road\, Beaufort\, SC\, United States\, South Carolina 29902\, 1084 Ribaut Road\, Beaufort\, SC\, United States\, South Carolina 29902
ORGANIZER;CN="Young LIFE Beaufort":MAILTO:noreply@facebookmail.com
END:VEVENT
BEGIN:VEVENT
DTSTART;TZID=America/New_York:20250714T083000
DTEND;TZID=America/New_York:20250718T150000
DTSTAMP:20260425T075547
CREATED:20250526T185334Z
LAST-MODIFIED:20250712T034908Z
UID:23133-1752481800-1752850800@explorebeaufortsc.com
SUMMARY:Camp STEAM
DESCRIPTION:Camp STEAM| July 14-18 | Age 8-12 \nImmerse your camper into a week of Science\, Technology\, Engineering\, Art and Math at Celadon Club’s Camp STEAM. Campers will have a daily focus\, deep diving into educational activities\, inspirational experiences and project based learning.We are thrilled to launch Camp STEAM this summer.Full STEAM & fun ahead! \n$300 per Camper \nFor more information or to register please email jessica@celadonclub.com
URL:https://explorebeaufortsc.com/event/camp-steam/
LOCATION:61 Celadon Drive\, Beaufort\, SC\, United States\, South Carolina 29907\, 61 Celadon Drive\, Beaufort\, SC\, United States\, South Carolina 29907
ORGANIZER;CN="Celadon Club Wellness Center":MAILTO:noreply@facebookmail.com
END:VEVENT
BEGIN:VEVENT
DTSTART;TZID=America/New_York:20250714T133000
DTEND;TZID=America/New_York:20250718T163000
DTSTAMP:20260425T075547
CREATED:20250526T185334Z
LAST-MODIFIED:20250712T034908Z
UID:23134-1752499800-1752856200@explorebeaufortsc.com
SUMMARY:Art Camp - Dragons\, Unicorns and Mythoical Creatures
DESCRIPTION:Dragons and unicorns is for all kids who love fantasy!We will read a book each day about a mythical fantasy creature and create fantasy inspired art.
URL:https://explorebeaufortsc.com/event/art-camp-dragons-unicorns-and-mythoical-creatures/
LOCATION:10 Sam’s Point Way\, 29907\, 10 Sam's Point Way\, 29907
ORGANIZER;CN="Happy Art Studio":MAILTO:noreply@facebookmail.com
END:VEVENT
BEGIN:VEVENT
DTSTART;TZID=America/New_York:20250714T140000
DTEND;TZID=America/New_York:20250714T220000
DTSTAMP:20260425T075547
CREATED:20250630T195506Z
LAST-MODIFIED:20250630T195506Z
UID:23589-1752501600-1752530400@explorebeaufortsc.com
SUMMARY:69th Annual Beaufort Water Festival: Day Four
DESCRIPTION:Monday\, July 14\nFestival Arts & Crafts Market\nPromenade at Henry C. Chambers Waterfront Park\n12pm – 7pm \nMotown Monday\nEntertainment by Deas-Guyz\nHenry C. Chambers Waterfront Park\nTickets $15 Get yours!\nGates open at 7pm\, Show starts at 8 pm\nNo pets\, outside food\, beverages or coolers\nFREE Shuttle Service from the Beaufort County Government Center\nChildren age 5 and under are free\nSponsored by South State Bank
URL:https://explorebeaufortsc.com/event/69th-annual-beaufort-water-festival-day-four/
LOCATION:Henry C Chambers Waterfront Park\, Beaufort\, SC\, US
ATTACH;FMTTYPE=image/jpeg:https://explorebeaufortsc.com/wp-content/uploads/2025/06/beaufortwaterfestivalPhilHeim-1.jpg
END:VEVENT
END:VCALENDAR