BEGIN:VCALENDAR
VERSION:2.0
PRODID:-//Explore Beaufort SC - ECPv6.15.20//NONSGML v1.0//EN
CALSCALE:GREGORIAN
METHOD:PUBLISH
X-WR-CALNAME:Explore Beaufort SC
X-ORIGINAL-URL:https://explorebeaufortsc.com
X-WR-CALDESC:Events for Explore Beaufort SC
REFRESH-INTERVAL;VALUE=DURATION:PT1H
X-Robots-Tag:noindex
X-PUBLISHED-TTL:PT1H
BEGIN:VTIMEZONE
TZID:America/New_York
BEGIN:DAYLIGHT
TZOFFSETFROM:-0500
TZOFFSETTO:-0400
TZNAME:EDT
DTSTART:20240310T070000
END:DAYLIGHT
BEGIN:STANDARD
TZOFFSETFROM:-0400
TZOFFSETTO:-0500
TZNAME:EST
DTSTART:20241103T060000
END:STANDARD
BEGIN:DAYLIGHT
TZOFFSETFROM:-0500
TZOFFSETTO:-0400
TZNAME:EDT
DTSTART:20250309T070000
END:DAYLIGHT
BEGIN:STANDARD
TZOFFSETFROM:-0400
TZOFFSETTO:-0500
TZNAME:EST
DTSTART:20251102T060000
END:STANDARD
BEGIN:DAYLIGHT
TZOFFSETFROM:-0500
TZOFFSETTO:-0400
TZNAME:EDT
DTSTART:20260308T070000
END:DAYLIGHT
BEGIN:STANDARD
TZOFFSETFROM:-0400
TZOFFSETTO:-0500
TZNAME:EST
DTSTART:20261101T060000
END:STANDARD
END:VTIMEZONE
BEGIN:VEVENT
DTSTART;TZID=America/New_York:20250714T083000
DTEND;TZID=America/New_York:20250718T150000
DTSTAMP:20260425T075541
CREATED:20250526T185334Z
LAST-MODIFIED:20250712T034908Z
UID:23133-1752481800-1752850800@explorebeaufortsc.com
SUMMARY:Camp STEAM
DESCRIPTION:Camp STEAM| July 14-18 | Age 8-12 \nImmerse your camper into a week of Science\, Technology\, Engineering\, Art and Math at Celadon Club’s Camp STEAM. Campers will have a daily focus\, deep diving into educational activities\, inspirational experiences and project based learning.We are thrilled to launch Camp STEAM this summer.Full STEAM & fun ahead! \n$300 per Camper \nFor more information or to register please email jessica@celadonclub.com
URL:https://explorebeaufortsc.com/event/camp-steam/
LOCATION:61 Celadon Drive\, Beaufort\, SC\, United States\, South Carolina 29907\, 61 Celadon Drive\, Beaufort\, SC\, United States\, South Carolina 29907
ORGANIZER;CN="Celadon Club Wellness Center":MAILTO:noreply@facebookmail.com
END:VEVENT
BEGIN:VEVENT
DTSTART;TZID=America/New_York:20250714T133000
DTEND;TZID=America/New_York:20250718T163000
DTSTAMP:20260425T075541
CREATED:20250526T185334Z
LAST-MODIFIED:20250712T034908Z
UID:23134-1752499800-1752856200@explorebeaufortsc.com
SUMMARY:Art Camp - Dragons\, Unicorns and Mythoical Creatures
DESCRIPTION:Dragons and unicorns is for all kids who love fantasy!We will read a book each day about a mythical fantasy creature and create fantasy inspired art.
URL:https://explorebeaufortsc.com/event/art-camp-dragons-unicorns-and-mythoical-creatures/
LOCATION:10 Sam’s Point Way\, 29907\, 10 Sam's Point Way\, 29907
ORGANIZER;CN="Happy Art Studio":MAILTO:noreply@facebookmail.com
END:VEVENT
BEGIN:VEVENT
DTSTART;TZID=America/New_York:20250718T120000
DTEND;TZID=America/New_York:20250718T220000
DTSTAMP:20260425T075541
CREATED:20250630T200050Z
LAST-MODIFIED:20250630T200050Z
UID:23596-1752840000-1752876000@explorebeaufortsc.com
SUMMARY:69th Annual Beaufort Water Festival: Day Eight
DESCRIPTION:Friday\, July 18\nFestival Arts & Crafts Market\nPromenade at Henry C. Chambers Waterfront Park\n12pm – 7pm \nBed Race\nStarts at corner of Bay & Harrington Streets\, Downtown\nSpectators line the bluff on Bay Street down to Best Western Hotel\n$25 entry per team\n430pm check-in / 5pm start time\nSponsored by City of Beaufort Police & Fire Departments \nRockin’ the River\nEntertainment by CRUEligans-A Tribute to Motley Crue\nOpening Act – Alan Price & The Modern Day\nHenry C. Chambers Waterfront Park\nTickets $20 Get yours!\nGates open at 7 pm\, Show starts at 8 pm\nMust be 18 or Older with valid ID to attend\nNo pets\, outside food\, beverages coolers or strollers\nFree Shuttle service from Beaufort County Government Center\nSponsored by Quality Electrical Systems
URL:https://explorebeaufortsc.com/event/69th-annual-beaufort-water-festival-day-eight/
LOCATION:Henry C Chambers Waterfront Park\, Beaufort\, SC\, US
ATTACH;FMTTYPE=image/jpeg:https://explorebeaufortsc.com/wp-content/uploads/2025/06/beaufortwaterfestivalPhilHeim-1.jpg
END:VEVENT
BEGIN:VEVENT
DTSTART;TZID=America/New_York:20250718T133000
DTEND;TZID=America/New_York:20250718T163000
DTSTAMP:20260425T075541
CREATED:20250712T034909Z
LAST-MODIFIED:20250712T034909Z
UID:23648-1752845400-1752856200@explorebeaufortsc.com
SUMMARY:Meet & Greet
DESCRIPTION:Meet & GreetHosted by: Beaufort Executive AirportLocation: Beaufort Executive AirportEvent Details: Meet the Air Show pilots | 1:30 pm to 3:30 pm | FREE EVENT
URL:https://explorebeaufortsc.com/event/meet-greet/
LOCATION:Beaufort Executive Airport\, 39 Airport Circle\, Beaufort\, SC\, 29907\, US
ORGANIZER;CN="Annual Beaufort Water Festival":MAILTO:noreply@facebookmail.com
END:VEVENT
BEGIN:VEVENT
DTSTART;TZID=America/New_York:20250718T160000
DTEND;TZID=America/New_York:20250718T190000
DTSTAMP:20260425T075541
CREATED:20250712T034910Z
LAST-MODIFIED:20250712T034910Z
UID:23649-1752854400-1752865200@explorebeaufortsc.com
SUMMARY:3rd Friday Party!!
DESCRIPTION:join us for our big 3rd Friday market from 4pm-7pm on Friday July 18th. we will have live music\, food trucks and market vendors!!!
URL:https://explorebeaufortsc.com/event/3rd-friday-party/
LOCATION:Habersham Marketplace\, Habersham Marketplace
ORGANIZER;CN="Habersham Farmers Market":MAILTO:noreply@facebookmail.com
END:VEVENT
BEGIN:VEVENT
DTSTART;TZID=America/New_York:20250718T160000
DTEND;TZID=America/New_York:20250718T190000
DTSTAMP:20260425T075541
CREATED:20250315T022652Z
LAST-MODIFIED:20250611T142922Z
UID:22332-1752854400-1752865200@explorebeaufortsc.com
SUMMARY:Habersham Farmers Market
DESCRIPTION:Join us for fresh produce and handcrafted items from our amazing vendors \nhttps://www.facebook.com/events/610706071953415/?event_time_id=610706171953405
URL:https://explorebeaufortsc.com/event/habersham-farmers-market-41/
LOCATION:Habersham South Carolina\, Habersham South Carolina
ORGANIZER;CN="Habersham Farmers Market":MAILTO:noreply@facebookmail.com
END:VEVENT
END:VCALENDAR