BEGIN:VCALENDAR
VERSION:2.0
PRODID:-//Explore Beaufort SC - ECPv6.15.20//NONSGML v1.0//EN
CALSCALE:GREGORIAN
METHOD:PUBLISH
X-ORIGINAL-URL:https://explorebeaufortsc.com
X-WR-CALDESC:Events for Explore Beaufort SC
REFRESH-INTERVAL;VALUE=DURATION:PT1H
X-Robots-Tag:noindex
X-PUBLISHED-TTL:PT1H
BEGIN:VTIMEZONE
TZID:America/New_York
BEGIN:DAYLIGHT
TZOFFSETFROM:-0500
TZOFFSETTO:-0400
TZNAME:EDT
DTSTART:20240310T070000
END:DAYLIGHT
BEGIN:STANDARD
TZOFFSETFROM:-0400
TZOFFSETTO:-0500
TZNAME:EST
DTSTART:20241103T060000
END:STANDARD
BEGIN:DAYLIGHT
TZOFFSETFROM:-0500
TZOFFSETTO:-0400
TZNAME:EDT
DTSTART:20250309T070000
END:DAYLIGHT
BEGIN:STANDARD
TZOFFSETFROM:-0400
TZOFFSETTO:-0500
TZNAME:EST
DTSTART:20251102T060000
END:STANDARD
BEGIN:DAYLIGHT
TZOFFSETFROM:-0500
TZOFFSETTO:-0400
TZNAME:EDT
DTSTART:20260308T070000
END:DAYLIGHT
BEGIN:STANDARD
TZOFFSETFROM:-0400
TZOFFSETTO:-0500
TZNAME:EST
DTSTART:20261101T060000
END:STANDARD
END:VTIMEZONE
BEGIN:VEVENT
DTSTART;TZID=America/New_York:20250719T090000
DTEND;TZID=America/New_York:20250719T120000
DTSTAMP:20260425T075730
CREATED:20250611T142922Z
LAST-MODIFIED:20250712T034910Z
UID:23433-1752915600-1752926400@explorebeaufortsc.com
SUMMARY:Slide Out of July
DESCRIPTION:Town of Bluffton Hosts its 4th Annual Slide Out of July Event. \nJuly 19\, 2025\, 9:00 AM to 12:00 PM at Buckwalter Place Park – Amphitheater (20 Carecore Drive\, Bluffton\, SC) \nEnjoy water slides\, video games on a Jumbotron\, lawn games\, and great music from Jeff “T-Bone” Taylor from 104.9 The Surf. There will also be concessions (for purchase) and prizes for participants! \nDon’t forget to wear your bathing suit! This is a FREE public event.
URL:https://explorebeaufortsc.com/event/slide-out-of-july-3/
LOCATION:20 Carecore Drive Bluffton\, SC 29910\, 20 Carecore Drive Bluffton\, SC 29910
ORGANIZER;CN="Town of Bluffton Government":MAILTO:noreply@facebookmail.com
END:VEVENT
BEGIN:VEVENT
DTSTART;TZID=America/New_York:20250719T093000
DTEND;TZID=America/New_York:20250719T220000
DTSTAMP:20260425T075730
CREATED:20250630T200237Z
LAST-MODIFIED:20250630T200237Z
UID:23597-1752917400-1752962400@explorebeaufortsc.com
SUMMARY:69th Annual Beaufort Water Festival: Day Nine
DESCRIPTION:Saturday\, July 19\nFestival Arts & Crafts Market\nPromenade at Henry C. Chambers Waterfront Park\n930am – 7pm \nWater Festival Grand Parade\nOrganized by The Beaufort Lions Club\nGrand Marshall Pat Harvey-Palmer\nCity of Beaufort traditional parade route\n10am – Noon\nSponsored by Taylor’s Landscape \nNon-Profit Expo\nHenry C. Chambers Waterfront Park Pavilion\n12pm – 4 pm\, Free Event \n​Air Show\nHenry C. Chambers Waterfront Park\n1pm – 4pm\, Free event\nStunt planes\, Parachutists and more\nSponsored by Executive Flight Training \nCommodore’s Ball\nEntertainment by The Swingin’ Medallions\nHenry C. Chambers Waterfront Park\nTickets $10 Get yours!\nGates open at 7 pm\, show starts at 8 pm\nNo pets\, outside food\, beverages or coolers\, no professional photography\nChildren age 5 and under free\nSponsored by Archer’s Auto Glass
URL:https://explorebeaufortsc.com/event/69th-annual-beaufort-water-festival-day-nine/
LOCATION:Henry C Chambers Waterfront Park\, Beaufort\, SC\, US
ATTACH;FMTTYPE=image/jpeg:https://explorebeaufortsc.com/wp-content/uploads/2025/06/beaufortwaterfestivalPhilHeim-1.jpg
END:VEVENT
BEGIN:VEVENT
DTSTART;TZID=America/New_York:20250719T103000
DTEND;TZID=America/New_York:20250719T123000
DTSTAMP:20260425T075730
CREATED:20250707T155639Z
LAST-MODIFIED:20250707T155639Z
UID:23609-1752921000-1752928200@explorebeaufortsc.com
SUMMARY:Sea Glass Workshop at Marshview Mercantile
DESCRIPTION:It’s Christmas in July at Marshview Mercantile!\nWho says you have to wait until December to be festive? We’re cooling down all month long with fun workshops that get in the Coastal Christmas spirit!\n\n\nCreate your own sea glass Christmas tree or wreath with Camilla. Fun to display year round as well! You may choose a 9” or 12” tree. The wreath is 10” diameter.\n\nWHEN: July 19\, 10:30a-12:30\nWHERE: 2631 Boundary Street\nREGISTER: \nhttps://marshviewmercantile.commentsold.com/products/sea-glass-workshop
URL:https://explorebeaufortsc.com/event/sea-glass-workshop-at-marshview-mercantile/
LOCATION:Marshview Mercantile\, 2631 Boundary St\, Beaufort\, SC\, 29906\, US
ATTACH;FMTTYPE=image/jpeg:https://explorebeaufortsc.com/wp-content/uploads/2025/07/marshviewseaglassworkshop.jpg
END:VEVENT
BEGIN:VEVENT
DTSTART;TZID=America/New_York:20250719T163000
DTEND;TZID=America/New_York:20250719T183000
DTSTAMP:20260425T075730
CREATED:20250712T034910Z
LAST-MODIFIED:20250712T034910Z
UID:23651-1752942600-1752949800@explorebeaufortsc.com
SUMMARY:Silent Book Club Beaufort
DESCRIPTION:Silent Book Club Beaufort\, a unique take on the traditional book club\, will hold its next meetup on Saturday\, July 19\, from 4:30 to 6:30PM at the nonprofit Pat Conroy Literary Center (601 Bladen St.). A relaxed and pressure-free space for readers of all types\, this community gathering invites book lovers to enjoy their current reads in a welcoming and peaceful atmosphere. \nSilent Book Club Beaufort is co-sponsored by the Conroy Center and the student book club DAYLO (Diversity Awareness Youth Literacy Organization). \nUnlike traditional book clubs\, Silent Book Club Beaufort has no assigned reading\, no deadlines\, and no discussions required. Whether you prefer ebooks\, audiobooks\, comic books\, textbooks\, or paperbacks\, readers are invited to bring their book of choice\, settle in\, and savor the joy of uninterrupted reading among like-minded individuals. \nSilent Book Club Beaufort also features a book swap: Leave a book\, take a book.  \nThe casual meetups provide an excellent opportunity to discover new book recommendations\, make friends\, and reconnect with the love of reading. Whether you’re a lifelong bookworm or just getting back into reading\, everyone is welcome.  \nSilent Book Club Beaufort is free to attend and proudly supports local businesses and organizations. Additional dates and locations will be announced via the SBCB Instagram page at www.instagram.com/silentbookclubbeaufort.
URL:https://explorebeaufortsc.com/event/silent-book-club-beaufort-7/
LOCATION:601 Bladen Street\, Beaufort\, SC\, United States\, South Carolina 29902\, 601 Bladen Street\, Beaufort\, SC\, United States\, South Carolina 29902
ORGANIZER;CN="Pat Conroy Literary Center":MAILTO:noreply@facebookmail.com
END:VEVENT
END:VCALENDAR