BEGIN:VCALENDAR
VERSION:2.0
PRODID:-//Explore Beaufort SC - ECPv6.15.20//NONSGML v1.0//EN
CALSCALE:GREGORIAN
METHOD:PUBLISH
X-ORIGINAL-URL:https://explorebeaufortsc.com
X-WR-CALDESC:Events for Explore Beaufort SC
REFRESH-INTERVAL;VALUE=DURATION:PT1H
X-Robots-Tag:noindex
X-PUBLISHED-TTL:PT1H
BEGIN:VTIMEZONE
TZID:America/New_York
BEGIN:DAYLIGHT
TZOFFSETFROM:-0500
TZOFFSETTO:-0400
TZNAME:EDT
DTSTART:20240310T070000
END:DAYLIGHT
BEGIN:STANDARD
TZOFFSETFROM:-0400
TZOFFSETTO:-0500
TZNAME:EST
DTSTART:20241103T060000
END:STANDARD
BEGIN:DAYLIGHT
TZOFFSETFROM:-0500
TZOFFSETTO:-0400
TZNAME:EDT
DTSTART:20250309T070000
END:DAYLIGHT
BEGIN:STANDARD
TZOFFSETFROM:-0400
TZOFFSETTO:-0500
TZNAME:EST
DTSTART:20251102T060000
END:STANDARD
BEGIN:DAYLIGHT
TZOFFSETFROM:-0500
TZOFFSETTO:-0400
TZNAME:EDT
DTSTART:20260308T070000
END:DAYLIGHT
BEGIN:STANDARD
TZOFFSETFROM:-0400
TZOFFSETTO:-0500
TZNAME:EST
DTSTART:20261101T060000
END:STANDARD
END:VTIMEZONE
BEGIN:VEVENT
DTSTART;TZID=America/New_York:20250721T133000
DTEND;TZID=America/New_York:20250725T163000
DTSTAMP:20260425T075658
CREATED:20250611T142923Z
LAST-MODIFIED:20250611T142923Z
UID:23435-1753104600-1753461000@explorebeaufortsc.com
SUMMARY:Art Camp - Paint the Masters - Abstract - Srs
DESCRIPTION:Students will learn about the art techniques of Haring\, Kadinsky\, Lichtenstein\, Finster\, and Kahlo and create their own masterpiece inspired by these famous painters.We will also make mixed media pieces inspired by our daily subject.
URL:https://explorebeaufortsc.com/event/art-camp-paint-the-masters-abstract-srs/
LOCATION:10 Sam’s Point Way\, 29907\, 10 Sam's Point Way\, 29907
ORGANIZER;CN="Happy Art Studio":MAILTO:noreply@facebookmail.com
END:VEVENT
BEGIN:VEVENT
DTSTART;TZID=America/New_York:20250722T130000
DTEND;TZID=America/New_York:20250722T150000
DTSTAMP:20260425T075658
CREATED:20250712T034910Z
LAST-MODIFIED:20250712T034910Z
UID:23652-1753189200-1753196400@explorebeaufortsc.com
SUMMARY:Lilo and Stitch - Family Paint
DESCRIPTION:Let’s get out of the heat and paint!All ages welcome.We will be painting Lilo and Stitch!!
URL:https://explorebeaufortsc.com/event/lilo-and-stitch-family-paint/
LOCATION:10 Sam’s Point Way\, 29907\, 10 Sam's Point Way\, 29907
ORGANIZER;CN="Happy Art Studio":MAILTO:noreply@facebookmail.com
END:VEVENT
BEGIN:VEVENT
DTSTART;TZID=America/New_York:20250722T180000
DTEND;TZID=America/New_York:20250722T200000
DTSTAMP:20260425T075658
CREATED:20250707T160047Z
LAST-MODIFIED:20250707T160047Z
UID:23610-1753207200-1753214400@explorebeaufortsc.com
SUMMARY:Oyster Shell Nativity Workshop at Marshview Mercantile
DESCRIPTION:It’s Christmas in July at Marshview Mercantile!\nWho says you have to wait until December to be festive? We’re cooling down all month long with fun workshops that get you in the Coastal Christmas spirit!\n\n\n\n\nJoin shell artist Carol Sanders as she leads you to create your own beautiful oyster nativity scene on canvas!\n\n\n\nWHEN: July 22\, 6-8p\nWHERE: 2631 Boundary Street\nREGISTER\n\nhttps://marshviewmercantile.commentsold.com/products/oyster-nativity-class
URL:https://explorebeaufortsc.com/event/oyster-shell-nativity-workshop-at-marshview-mercantile/
LOCATION:Marshview Mercantile\, 2631 Boundary St\, Beaufort\, SC\, 29906\, US
ATTACH;FMTTYPE=image/jpeg:https://explorebeaufortsc.com/wp-content/uploads/2025/07/marshviewoysternativity.jpg
END:VEVENT
END:VCALENDAR