BEGIN:VCALENDAR
VERSION:2.0
PRODID:-//Explore Beaufort SC - ECPv6.15.20//NONSGML v1.0//EN
CALSCALE:GREGORIAN
METHOD:PUBLISH
X-ORIGINAL-URL:https://explorebeaufortsc.com
X-WR-CALDESC:Events for Explore Beaufort SC
REFRESH-INTERVAL;VALUE=DURATION:PT1H
X-Robots-Tag:noindex
X-PUBLISHED-TTL:PT1H
BEGIN:VTIMEZONE
TZID:America/New_York
BEGIN:DAYLIGHT
TZOFFSETFROM:-0500
TZOFFSETTO:-0400
TZNAME:EDT
DTSTART:20240310T070000
END:DAYLIGHT
BEGIN:STANDARD
TZOFFSETFROM:-0400
TZOFFSETTO:-0500
TZNAME:EST
DTSTART:20241103T060000
END:STANDARD
BEGIN:DAYLIGHT
TZOFFSETFROM:-0500
TZOFFSETTO:-0400
TZNAME:EDT
DTSTART:20250309T070000
END:DAYLIGHT
BEGIN:STANDARD
TZOFFSETFROM:-0400
TZOFFSETTO:-0500
TZNAME:EST
DTSTART:20251102T060000
END:STANDARD
BEGIN:DAYLIGHT
TZOFFSETFROM:-0500
TZOFFSETTO:-0400
TZNAME:EDT
DTSTART:20260308T070000
END:DAYLIGHT
BEGIN:STANDARD
TZOFFSETFROM:-0400
TZOFFSETTO:-0500
TZNAME:EST
DTSTART:20261101T060000
END:STANDARD
END:VTIMEZONE
BEGIN:VEVENT
DTSTART;TZID=America/New_York:20250721T133000
DTEND;TZID=America/New_York:20250725T163000
DTSTAMP:20260425T075730
CREATED:20250611T142923Z
LAST-MODIFIED:20250611T142923Z
UID:23435-1753104600-1753461000@explorebeaufortsc.com
SUMMARY:Art Camp - Paint the Masters - Abstract - Srs
DESCRIPTION:Students will learn about the art techniques of Haring\, Kadinsky\, Lichtenstein\, Finster\, and Kahlo and create their own masterpiece inspired by these famous painters.We will also make mixed media pieces inspired by our daily subject.
URL:https://explorebeaufortsc.com/event/art-camp-paint-the-masters-abstract-srs/
LOCATION:10 Sam’s Point Way\, 29907\, 10 Sam's Point Way\, 29907
ORGANIZER;CN="Happy Art Studio":MAILTO:noreply@facebookmail.com
END:VEVENT
BEGIN:VEVENT
DTSTART;TZID=America/New_York:20250724T100000
DTEND;TZID=America/New_York:20250724T130000
DTSTAMP:20260425T075730
CREATED:20250712T034911Z
LAST-MODIFIED:20250723T220438Z
UID:23654-1753351200-1753362000@explorebeaufortsc.com
SUMMARY:Cemetery Walking Tour
DESCRIPTION:Beaufort National Cemetery is the 13th oldest national cemetery in the United States and is the final resting place for over 28\,000 veterans and eligible family members. Would you like to learn about some of the heroes buried here and their stories? Come join our cemetery walking tour. Volunteer docents will take you on a tour through the 162-year old cemetery and learn about our nation’s history through the stories of those who served and defended it. Tours start at the main flagpole. For more information\, contact the cemetery at 843-524-3925.
URL:https://explorebeaufortsc.com/event/cemetery-walking-tour-19/
LOCATION:1601 Boundary Street\, Beaufort\, SC\, United States\, South Carolina 29902\, 1601 Boundary Street\, Beaufort\, SC\, United States\, South Carolina 29902
ORGANIZER;CN="Beaufort National Cemetery":MAILTO:noreply@facebookmail.com
END:VEVENT
BEGIN:VEVENT
DTSTART;TZID=America/New_York:20250724T130000
DTEND;TZID=America/New_York:20250724T150000
DTSTAMP:20260425T075730
CREATED:20250712T034911Z
LAST-MODIFIED:20250723T220438Z
UID:23655-1753362000-1753369200@explorebeaufortsc.com
SUMMARY:How to Train a Dragon - Family Paint
DESCRIPTION:Let’s get out of the heat and paint!All ages welcome.We will be painting Lilo and Stitch!!
URL:https://explorebeaufortsc.com/event/how-to-train-a-dragon-family-paint/
LOCATION:10 Sam’s Point Way\, 29907\, 10 Sam's Point Way\, 29907
ORGANIZER;CN="Happy Art Studio":MAILTO:noreply@facebookmail.com
END:VEVENT
BEGIN:VEVENT
DTSTART;TZID=America/New_York:20250724T160000
DTEND;TZID=America/New_York:20250724T180000
DTSTAMP:20260425T075730
CREATED:20250712T034912Z
LAST-MODIFIED:20250723T220439Z
UID:23656-1753372800-1753380000@explorebeaufortsc.com
SUMMARY:Artist Reception - Amiri Farris
DESCRIPTION:Please join us as we welcome local artist Amiri Farris to the Maritime Center!—–On Display at the Maritime Center: Living Waters: Art and Assemblage by Amiri Farris \nEnjoy meeting the artist & light refreshments. \nLiving Waters is a multi-dimensional art experience by acclaimed artist Amiri Farris\, celebrating the vibrant biodiversity\, cultural legacy\, and coastal rhythms of the Sea Islands. Presented at the Port Royal Sound Foundation’s Rotating Exhibit Gallery\, this immersive exhibition features a dynamic collection of assemblage artwork\, sculptural installations\, outdoor murals\, that reflect the Sea Island energy flowing through the Lowcountry. Art will be on display through the month of July.
URL:https://explorebeaufortsc.com/event/artist-reception-amiri-farris/
LOCATION:Port Royal Sound Foundation
ORGANIZER;CN="Port Royal Sound Foundation":MAILTO:noreply@facebookmail.com
END:VEVENT
BEGIN:VEVENT
DTSTART;TZID=America/New_York:20250724T170000
DTEND;TZID=America/New_York:20250724T190000
DTSTAMP:20260425T075730
CREATED:20250712T034912Z
LAST-MODIFIED:20250723T220439Z
UID:23657-1753376400-1753383600@explorebeaufortsc.com
SUMMARY:Community Luau and Concert
DESCRIPTION:🌺🌴 Aloha\, Beaufort! 🌴🌺 \nYou’re invited to our Community Luau & Concert at Sprenger Health Care Port Royal! 🎶🌊🍍 \n📅 Thursday\, July 24\, 2025🕔 5PM – 7PM📍 Sprenger Health Care Port Royal Assisted Living \nGet ready for a Hawaiian Rollercoaster Ride 🌈🌺 – complete with live music\, delicious island-inspired food\, and tons of tropical fun! 🎤🍴🍧 \n🎉 Don’t forget to wear your best luau gear – grass skirts\, leis\, and flip-flops welcome! 🌸🩴🌴 \n📚✏️ We’ll also be collecting back-to-school supplies for local families in need. Help us support our community by bringing items like notebooks\, pencils\, backpacks\, and more! 🎒❤️ \n🌞 Fun. Food. Festivities. Giving Back. You won’t want to miss it! \n#PortRoyalLuau #SummerFun #LiveMusic #AlohaVibes #SprengerHealthCare #BackToSchoolDrive #CommunityStrong 🌺🥁🌊📓
URL:https://explorebeaufortsc.com/event/community-luau-and-concert/
LOCATION:1810 Richmond Ave\, Port Royal\, SC\, 1810 Richmond Ave\, Port Royal\, SC
ORGANIZER;CN="Sprenger Health Care Port Royal":MAILTO:noreply@facebookmail.com
END:VEVENT
BEGIN:VEVENT
DTSTART;TZID=America/New_York:20250724T170000
DTEND;TZID=America/New_York:20250724T200000
DTSTAMP:20260425T075730
CREATED:20250723T220439Z
LAST-MODIFIED:20250723T220439Z
UID:23727-1753376400-1753387200@explorebeaufortsc.com
SUMMARY:National Tequila Day Tasting Featuring Careta De Oro
DESCRIPTION:Join us Thursday\, July 24 at La Nopalera on Lady’s Island for a one-day-only celebration featuring a Carreta de Oro Tequila tasting!📅 Mark your calendar\, bring your friends\, and let’s raise a glass to tequila!🥃 Tasting starts at 5 PM
URL:https://explorebeaufortsc.com/event/national-tequila-day-tasting-featuring-careta-de-oro/
LOCATION:5 Sams Point Rd\, Beaufort\, SC 29907-2024\, United States\, 5 Sams Point Rd\, Beaufort\, SC 29907-2024\, United States
END:VEVENT
BEGIN:VEVENT
DTSTART;TZID=America/New_York:20250724T180000
DTEND;TZID=America/New_York:20250724T193000
DTSTAMP:20260425T075730
CREATED:20250712T034912Z
LAST-MODIFIED:20250723T220439Z
UID:23658-1753380000-1753385400@explorebeaufortsc.com
SUMMARY:POSTPONED - An Evening with Bestselling Author Kiese Laymon - City Summer\, Country Summer
DESCRIPTION:POSTPONED – Due to a travel delay beyond his control\, author Kiese Laymon is unable to join us as planned this Thursday evening at Robert Smalls Leadership Academy. His author visit—hosted by the Storybook Shoppe in collaboration with DAYLO and the Conroy Center—will be rescheduled. \n– – – – – \nMacArthur Genius Grant Honoree and Children’s Book Author Kiese Laymon Visits Beaufort on July 24 \nThe Storybook Shoppe children’s bookstore will host award-winning author Kiese Laymon for an evening of stories on Thursday\, July 24\, from 6:00 to 7:30 p.m.\, at Robert Smalls Leadership Academy (43 W. Alston Dr.\, Beaufort). This free program for families will include a writing opportunity inspired by our lowcountry summers as well as discussion of Laymon’s debut picture book City Summer\, Country Summer in conversation with local students E Achurch and Emily Alaia from DAYLO (Diversity Awareness Youth Literacy Organization). Books will be available for sale and signing.  \nThis special event is a community collaboration between the Storybook Shoppe\, Robert Smalls Leadership Academy\, DAYLO\, and the nonprofit Pat Conroy Literary Center.  \nABOUT THE BOOKCity Summer\, Country Summer is a lyrical and evocative picture book that captures the transformative power of friendship. The story of three Black boys as they embark on a lifechanging summer. The boys spend one special summer exploring the Mississippi woods—and the woulds and coulds of sharing the kind of freeing friendship that is love. Watched over and given space to discover by Grandmama and Mama Lara\, New York\, Country\, and little C find camaraderie in their contrasts and all the unspoken things between them while playing games of Marco Polo in the thick garden and sledding on cardboard by the underpass. With text brimming with love City Summer\, Country Summer illustrates the tenuous bonds of friendship Black boys forge with one another. \n“A heartfelt\, elegantly wrought\, and triumphant tribute to Black boy kinship. On the sunny porches of their grandmothers’ neighboring houses and in the cool shadows of the surrounding woods\, hesitation becomes tenderness\, anxiety becomes laughter\, and difference becomes safeness.”—Kirkus Reviews\, starred review \n“Laymon’s text is lyrical and specific…Franklin’s digital illustrations…clearly centers each emotion the boys experience…deeply moving…reveling as it does in the tender bonds of Black boy friendship.”—The Bulletin of the Center for Children’s Books \nABOUT THE AUTHORKiese Laymon is a Black Southern writer from Jackson\, Mississippi. Laymon is also the author of the genre-bending novel Long Division and the bestselling memoir Heavy: An American Memoir\, winner of the 2019 Andrew Carnegie Medal for Excellence in Nonfiction\, the 2018 Christopher Isherwood Prize for Autobiographical Prose\, the Austen Riggs Erikson Prize for Excellence in Mental Health Media\, and named one of the 50 Best Memoirs of the Past 50 Years by The New York Times. He was also the recipient of the 2020-2021 Radcliffe Fellowship at Harvard and a MacArthur Genius grant. He currently teaches English and creative writing at Rice University. \nABOUT THE INTERVIEWERSE Achurch is founding president of the DAYLO chapter at The Complete Student and Emily Alaia is president of the Battery Creek High School chapter of DAYLO. Both are rising juniors.
URL:https://explorebeaufortsc.com/event/an-evening-with-bestselling-author-kiese-laymon-city-summer-country-summer/
LOCATION:Robert Smalls Leadership Academy\, Robert Smalls Leadership Academy
ORGANIZER;CN="Pat Conroy Literary Center":MAILTO:noreply@facebookmail.com
END:VEVENT
END:VCALENDAR