BEGIN:VCALENDAR
VERSION:2.0
PRODID:-//Explore Beaufort SC - ECPv6.15.20//NONSGML v1.0//EN
CALSCALE:GREGORIAN
METHOD:PUBLISH
X-ORIGINAL-URL:https://explorebeaufortsc.com
X-WR-CALDESC:Events for Explore Beaufort SC
REFRESH-INTERVAL;VALUE=DURATION:PT1H
X-Robots-Tag:noindex
X-PUBLISHED-TTL:PT1H
BEGIN:VTIMEZONE
TZID:America/New_York
BEGIN:DAYLIGHT
TZOFFSETFROM:-0500
TZOFFSETTO:-0400
TZNAME:EDT
DTSTART:20240310T070000
END:DAYLIGHT
BEGIN:STANDARD
TZOFFSETFROM:-0400
TZOFFSETTO:-0500
TZNAME:EST
DTSTART:20241103T060000
END:STANDARD
BEGIN:DAYLIGHT
TZOFFSETFROM:-0500
TZOFFSETTO:-0400
TZNAME:EDT
DTSTART:20250309T070000
END:DAYLIGHT
BEGIN:STANDARD
TZOFFSETFROM:-0400
TZOFFSETTO:-0500
TZNAME:EST
DTSTART:20251102T060000
END:STANDARD
BEGIN:DAYLIGHT
TZOFFSETFROM:-0500
TZOFFSETTO:-0400
TZNAME:EDT
DTSTART:20260308T070000
END:DAYLIGHT
BEGIN:STANDARD
TZOFFSETFROM:-0400
TZOFFSETTO:-0500
TZNAME:EST
DTSTART:20261101T060000
END:STANDARD
END:VTIMEZONE
BEGIN:VEVENT
DTSTART;TZID=America/New_York:20250721T133000
DTEND;TZID=America/New_York:20250725T163000
DTSTAMP:20260425T112734
CREATED:20250611T142923Z
LAST-MODIFIED:20250611T142923Z
UID:23435-1753104600-1753461000@explorebeaufortsc.com
SUMMARY:Art Camp - Paint the Masters - Abstract - Srs
DESCRIPTION:Students will learn about the art techniques of Haring\, Kadinsky\, Lichtenstein\, Finster\, and Kahlo and create their own masterpiece inspired by these famous painters.We will also make mixed media pieces inspired by our daily subject.
URL:https://explorebeaufortsc.com/event/art-camp-paint-the-masters-abstract-srs/
LOCATION:10 Sam’s Point Way\, 29907\, 10 Sam's Point Way\, 29907
ORGANIZER;CN="Happy Art Studio":MAILTO:noreply@facebookmail.com
END:VEVENT
BEGIN:VEVENT
DTSTART;TZID=America/New_York:20250725T160000
DTEND;TZID=America/New_York:20250725T190000
DTSTAMP:20260425T112734
CREATED:20250315T022652Z
LAST-MODIFIED:20250611T142923Z
UID:22333-1753459200-1753470000@explorebeaufortsc.com
SUMMARY:Habersham Farmers Market
DESCRIPTION:Join us for fresh produce and handcrafted items from our amazing vendors \nhttps://www.facebook.com/events/610706071953415/?event_time_id=610706111953411
URL:https://explorebeaufortsc.com/event/habersham-farmers-market-42/
LOCATION:Habersham South Carolina\, Habersham South Carolina
ORGANIZER;CN="Habersham Farmers Market":MAILTO:noreply@facebookmail.com
END:VEVENT
BEGIN:VEVENT
DTSTART;TZID=America/New_York:20250725T163000
DTEND;TZID=America/New_York:20250725T180000
DTSTAMP:20260425T112734
CREATED:20250712T034912Z
LAST-MODIFIED:20250723T220440Z
UID:23659-1753461000-1753466400@explorebeaufortsc.com
SUMMARY:FREE Master Naturalist Tour
DESCRIPTION:Take a tour of the Port Royal Cypress Wetlands with Master Naturalist Jill Moore. Jill\, a certified master naturalist and founder of Moore2Life\, provides nature-based programs to local residents\, communities and tourists here in the magnificent Lowcountry – a setting unlike any place on Earth. With research showing that people function best when they have access to and a connection with nature\, Jill is committed to helping people discover a passion and appreciation for the unique area that surrounds us. \nTours are free to the public! Please RSVP here: https://friendsofportroyalcypresswetlands.org/tours/  \nhttps://www.facebook.com/events/2968946236619103/?event_time_id=2968946246619102
URL:https://explorebeaufortsc.com/event/free-master-naturalist-tour-5/
LOCATION:1700 Paris Ave\, Port Royal\, SC\, United States\, South Carolina 29935\, 1700 Paris Ave\, Port Royal\, SC\, United States\, South Carolina 29935
ORGANIZER;CN="Friends of Port Royal Cypress Wetlands":MAILTO:noreply@facebookmail.com
END:VEVENT
BEGIN:VEVENT
DTSTART;TZID=America/New_York:20250725T170000
DTEND;TZID=America/New_York:20250725T190000
DTSTAMP:20260425T112734
CREATED:20250712T034913Z
LAST-MODIFIED:20250723T220440Z
UID:23660-1753462800-1753470000@explorebeaufortsc.com
SUMMARY:Friday 'Uncorked'
DESCRIPTION:Join us for an afternoon of curated wines—a perfect opportunity to explore new flavors and find that special bottle for your collection. Whether you’re stocking up for your own festivities or searching for the perfect gift\, this tasting event offers a chance to sample an exciting selection of wines that are sure to impress at any gathering.
URL:https://explorebeaufortsc.com/event/friday-uncorked/
LOCATION:809 Paris Ave\, Port Royal\, SC\, United States\, South Carolina\, 809 Paris Ave\, Port Royal\, SC\, United States\, South Carolina
ORGANIZER;CN="Windhorse Gallery & Marketplace":MAILTO:noreply@facebookmail.com
END:VEVENT
BEGIN:VEVENT
DTSTART;TZID=America/New_York:20250725T173000
DTEND;TZID=America/New_York:20250725T213000
DTSTAMP:20260425T112734
CREATED:20250712T034913Z
LAST-MODIFIED:20250723T220440Z
UID:23661-1753464600-1753479000@explorebeaufortsc.com
SUMMARY:May River Shrimp Festival
DESCRIPTION:The May River Shrimp Fest is July 25th from 5:30 pm until 9:30 pm at Oyster Factory Park. Live performances by “Cristaldi & Stiltner” and “Vanna & The Rump Shackers.”\, Plus – food trucks\, craft beers\, boutique wines\, and more fun all while overlooking the picturesque May River.
URL:https://explorebeaufortsc.com/event/may-river-shrimp-festival-2/
LOCATION:Bluffton Oyster Factory Park
ORGANIZER;CN="Bluffton Sunset Parties":MAILTO:noreply@facebookmail.com
END:VEVENT
BEGIN:VEVENT
DTSTART;TZID=America/New_York:20250725T180000
DTEND;TZID=America/New_York:20250725T210000
DTSTAMP:20260425T112734
CREATED:20250723T220440Z
LAST-MODIFIED:20250723T220440Z
UID:23734-1753466400-1753477200@explorebeaufortsc.com
SUMMARY:Happy Gilmore Watch Party & Long Drive Competition
DESCRIPTION:“It’s all in the hips…” \nWe’re screening Happy Gilmore 1 & 2 and hosting a long drive competition at Egret & Iron Golf Club. \n📅 Friday\, July 25th⏰ 6–10 PM✅ FREE for members | $10 for public entry \nCome watch the classics\, take your best swing\, and maybe even channel your inner Happy. \nTag a friend who can’t resist yelling “Just tap it in!” \n#HappyGilmore #BeaufortEvents #Egret&Iron #IndoorGolf #MovieNight #DiscoverBeaufort #VisitBeaufort #ExploreBeaufort
URL:https://explorebeaufortsc.com/event/happy-gilmore-watch-party-long-drive-competition/
LOCATION:2139 Boundary St. Suite 118\, Beaufort\, SC\, United States\, South Carolina 29902\, 2139 Boundary St. Suite 118\, Beaufort\, SC\, United States\, South Carolina 29902
END:VEVENT
END:VCALENDAR