BEGIN:VCALENDAR
VERSION:2.0
PRODID:-//Explore Beaufort SC - ECPv6.15.20//NONSGML v1.0//EN
CALSCALE:GREGORIAN
METHOD:PUBLISH
X-ORIGINAL-URL:https://explorebeaufortsc.com
X-WR-CALDESC:Events for Explore Beaufort SC
REFRESH-INTERVAL;VALUE=DURATION:PT1H
X-Robots-Tag:noindex
X-PUBLISHED-TTL:PT1H
BEGIN:VTIMEZONE
TZID:America/New_York
BEGIN:DAYLIGHT
TZOFFSETFROM:-0500
TZOFFSETTO:-0400
TZNAME:EDT
DTSTART:20240310T070000
END:DAYLIGHT
BEGIN:STANDARD
TZOFFSETFROM:-0400
TZOFFSETTO:-0500
TZNAME:EST
DTSTART:20241103T060000
END:STANDARD
BEGIN:DAYLIGHT
TZOFFSETFROM:-0500
TZOFFSETTO:-0400
TZNAME:EDT
DTSTART:20250309T070000
END:DAYLIGHT
BEGIN:STANDARD
TZOFFSETFROM:-0400
TZOFFSETTO:-0500
TZNAME:EST
DTSTART:20251102T060000
END:STANDARD
BEGIN:DAYLIGHT
TZOFFSETFROM:-0500
TZOFFSETTO:-0400
TZNAME:EDT
DTSTART:20260308T070000
END:DAYLIGHT
BEGIN:STANDARD
TZOFFSETFROM:-0400
TZOFFSETTO:-0500
TZNAME:EST
DTSTART:20261101T060000
END:STANDARD
END:VTIMEZONE
BEGIN:VEVENT
DTSTART;TZID=America/New_York:20250728T083000
DTEND;TZID=America/New_York:20250801T150000
DTSTAMP:20260425T075732
CREATED:20250526T185335Z
LAST-MODIFIED:20250723T220445Z
UID:23136-1753691400-1754060400@explorebeaufortsc.com
SUMMARY:Camp GO DANCE CHEER
DESCRIPTION:Camp GO DANCE CHEER| July 28-August 1 | Age 5-12 \nDoes your child dance down the hallway? Join us for a week of learning the basic techniques of ballet\, jazz\, hip hop and cheer dance. They will stretch their bodies and expand minds with daily classes and choreography pieces. Campers will showcase all they learned with an end of the week performance!  \n$300 per Camper \nFor more information or to register please email jessica@celadonclub.com
URL:https://explorebeaufortsc.com/event/camp-go-dance-cheer/
LOCATION:61 Celadon Drive\, Beaufort\, SC\, United States\, South Carolina 29907\, 61 Celadon Drive\, Beaufort\, SC\, United States\, South Carolina 29907
ORGANIZER;CN="Celadon Club Wellness Center":MAILTO:noreply@facebookmail.com
END:VEVENT
BEGIN:VEVENT
DTSTART;TZID=America/New_York:20250728T090000
DTEND;TZID=America/New_York:20250801T110000
DTSTAMP:20260425T075732
CREATED:20250526T185335Z
LAST-MODIFIED:20250723T220445Z
UID:23137-1753693200-1754046000@explorebeaufortsc.com
SUMMARY:Art Camp - All About Me - Self Reflection and Art
DESCRIPTION:This camp is all about themselves!We will do a few self portraits\, dream boards\, initial art\, and anime.Sure to be a lot of individualized fun!
URL:https://explorebeaufortsc.com/event/art-camp-all-about-me-self-reflection-and-art/
LOCATION:10 Sam’s Point Way\, 29907\, 10 Sam's Point Way\, 29907
ORGANIZER;CN="Happy Art Studio":MAILTO:noreply@facebookmail.com
END:VEVENT
BEGIN:VEVENT
DTSTART;TZID=America/New_York:20250728T133000
DTEND;TZID=America/New_York:20250801T163000
DTSTAMP:20260425T075732
CREATED:20250526T185336Z
LAST-MODIFIED:20250723T220445Z
UID:23138-1753709400-1754065800@explorebeaufortsc.com
SUMMARY:Art Camp - Jewelry Making
DESCRIPTION:Students will learn how to make jewelry using cord\, wire\, beads\, polymer clay\, and crochet.They will use tools and findings to finish their pieces. \nAll students will receive a jewelry making tool set to keep.
URL:https://explorebeaufortsc.com/event/art-camp-jewelry-making/
LOCATION:10 Sam’s Point Way\, 29907\, 10 Sam's Point Way\, 29907
ORGANIZER;CN="Happy Art Studio":MAILTO:noreply@facebookmail.com
END:VEVENT
BEGIN:VEVENT
DTSTART;TZID=America/New_York:20250728T173000
DTEND;TZID=America/New_York:20250731T203000
DTSTAMP:20260425T075732
CREATED:20250712T034915Z
LAST-MODIFIED:20250723T220445Z
UID:23665-1753723800-1753993800@explorebeaufortsc.com
SUMMARY:MIGHTY SPORTS CAMP AT MEADOWBROOK CHURCH OF BEAUFORT
DESCRIPTION:It’s time to register for “MIGHTY SPORTS CAMP” Once again Meadowbrook Church will be hosting the biggest and best “FREE” Sports Camp right here on Ladys Island.  \nFollow the link on our Facebook page\, to register your child.
URL:https://explorebeaufortsc.com/event/mighty-sports-camp-at-meadowbrook-church-of-beaufort/
LOCATION:12 Lupo Dr\, Beaufort\, SC\, United States\, South Carolina 29907\, 12 Lupo Dr\, Beaufort\, SC\, United States\, South Carolina 29907
END:VEVENT
BEGIN:VEVENT
DTSTART;TZID=America/New_York:20250729T173000
DTEND;TZID=America/New_York:20250729T203000
DTSTAMP:20260425T075732
CREATED:20250712T034915Z
LAST-MODIFIED:20250723T220445Z
UID:23668-1753810200-1753821000@explorebeaufortsc.com
SUMMARY:Wine Seminar: California Spotlight
DESCRIPTION:Join us for an intimate tasting experience celebrating the innovation and integrity of California winemakers committed to sustainable\, organic\, and biodynamic practices. Guided by none other than the Windhorse Wine Guru\, Kellie Holmes\, you’ll explore the artistry and intention behind five thoughtfully selected wines that showcase the spirit and diversity of California craftsmanship. \nSpace is limited ~ $65/person \nGuests will enjoy a complimentary charcuterie box by Sandy Bottom Boards!!
URL:https://explorebeaufortsc.com/event/wine-seminar-california-spotlight/
LOCATION:809 Paris Ave\, Port Royal\, SC\, United States\, South Carolina\, 809 Paris Ave\, Port Royal\, SC\, United States\, South Carolina
ORGANIZER;CN="Windhorse Gallery & Marketplace":MAILTO:noreply@facebookmail.com
END:VEVENT
BEGIN:VEVENT
DTSTART;TZID=America/New_York:20250729T180000
DTEND;TZID=America/New_York:20250729T190000
DTSTAMP:20260425T075732
CREATED:20250723T220445Z
LAST-MODIFIED:20250723T220445Z
UID:23743-1753812000-1753815600@explorebeaufortsc.com
SUMMARY:Lecture: “Shoddy\, “Negro Cloth"\, and Clothing the USCTs in the Lowcountry"
DESCRIPTION:This summer\, Reconstruction Era National Historical Park will launch a summer lecture series highlighting research by park staff and partners on a wide variety of topics exploring how the people who lived and worked around Beaufort experienced the Reconstruction era. These presentations are free and open to the public. \nThe first of these presentations is entitled “Suitable for Wear by Blacks”: Shoddy\, “Negro Cloth”\, and Clothing the USCTs in the Lowcountry’ and will be presented by Dr. Robert W. Novak. And it will take place on July 29 at 6pm at 913 West Street in downtown Beaufort. \nThe 1st South Carolina Volunteers made their first public appearances wearing bright red pants\, distinguishing them from the rest of the Union Army in the area. Dr. Robert W. Novak will share the story of how the Union Army acquired and distributed clothing to the Black soldiers and surrounding community during the Port Royal Experiment. \nCheck out our calendar at https://www.nps.gov/reer/planyourvisit/calendar.htm for other lectures in this series on 8/12\, 8/26\, 9/9\, and 9/23. \nImage: Courtesy of Marvin-Alonzo Greer\, A man stands on a porch in a civil war era United States military uniform with a blue jacket and red pants.
URL:https://explorebeaufortsc.com/event/lecture-shoddy-negro-cloth-and-clothing-the-uscts-in-the-lowcountry/
LOCATION:913 West St\, Beaufort\, SC 29902-4664\, United States
ORGANIZER;CN="Reconstruction Era National Historical Park":MAILTO:noreply@facebookmail.com
END:VEVENT
END:VCALENDAR